Workbook

Sheet ROUND 1
B1: min | C1: sec
A2: SLOT 1
A3: Pećinar Saša | B3: 9 | C3: 50 | D3: 3 | E3: 99 | F3: =(B3*60)+C3+(D3*0.01) -> 590.03 | G3: =F3+E3 -> 689.03 | H3: 1000
A4: Balaško Marijan | B4: 9 | C4: 48 | D4: 19 | E4: 96 | F4: =(B4*60)+C4+(D4*0.01) -> 588.19 | G4: =F4+E4 -> 684.19 | H4: =(G4/G3)*1000 -> 992.97563
A5: Kordić Marin | B5: 9 | C5: 43 | D5: 50 | E5: 80 | F5: =(B5*60)+C5+(D5*0.01) -> 583.5 | G5: =F5+E5 -> 663.5 | H5: =(G5/G3)*1000 -> 962.94791
A6: Karić Siniša | B6: 5 | C6: 3 | D6: 69 | E6: 85 | F6: =(B6*60)+C6+(D6*0.01) -> 303.69 | G6: =F6+E6 -> 388.69 | H6: =(G6/G3)*1000 -> 564.11187
A7: Suver Miro | B7: 4 | C7: 41 | D7: 0 | E7: 98 | F7: =(B7*60)+C7+(D7*0.01) -> 281 | G7: =F7+E7 -> 379 | H7: =(G7/G3)*1000 -> 550.04862
A9: SLOT 2
A10: Hucaljuk Arijan | B10: 9 | C10: 58 | D10: 35 | E10: 98 | F10: =(B10*60)+C10+(D10*0.01) -> 598.35 | G10: =F10+E10 -> 696.35 | H10: 1000
A11: Kosir Damir | B11: 9 | C11: 50 | D11: 9 | E11: 96 | F11: =(B11*60)+C11+(D11*0.01) -> 590.09 | G11: =F11+E11 -> 686.09 | H11: =(G11/G10)*1000 -> 985.26603
A12: Meolić Metod | B12: 9 | C12: 51 | D12: 87 | E12: 94 | F12: =(B12*60)+C12+(D12*0.01) -> 591.87 | G12: =F12+E12 -> 685.87 | H12: =(G12/G10)*1000 -> 984.9501
A13: Šikić Antun | B13: 9 | C13: 52 | D13: 50 | E13: 93 | F13: =(B13*60)+C13+(D13*0.01) -> 592.5 | G13: =F13+E13 -> 685.5 | H13: =(G13/G10)*1000 -> 984.41875
A14: Seleš Boris | B14: 9 | C14: 46 | D14: 38 | E14: 35 | F14: =(B14*60)+C14+(D14*0.01) -> 586.38 | G14: =F14+E14 -> 621.38 | H14: =(G14/G10)*1000 -> 892.33862

Sheet ROUND 2
B1: min | C1: sec
A2: SLOT 1
A3: Suver Miro | B3: 9 | C3: 55 | D3: 47 | E3: 99 | F3: =(B3*60)+C3+(D3*0.01) -> 595.47 | G3: =F3+E3 -> 694.47 | H3: 1000
A4: Balaško Marijan | B4: 9 | C4: 56 | D4: 16 | E4: 96 | F4: =(B4*60)+C4+(D4*0.01) -> 596.16 | G4: =F4+E4 -> 692.16 | H4: =(G4/G3)*1000 -> 996.67372
A5: Šikić Antun | B5: 9 | C5: 52 | D5: 56 | E5: 97 | F5: =(B5*60)+C5+(D5*0.01) -> 592.56 | G5: =F5+E5 -> 689.56 | H5: =(G5/G3)*1000 -> 992.92986
A6: Seleš Boris | B6: 9 | C6: 43 | D6: 22 | E6: 90 | F6: =(B6*60)+C6+(D6*0.01) -> 583.22 | G6: =F6+E6 -> 673.22 | H6: =(G6/G3)*1000 -> 969.40113
A7: Kosir Damir | B7: 9 | C7: 52 | D7: 75 | E7: 70 | F7: =(B7*60)+C7+(D7*0.01) -> 592.75 | G7: =F7+E7 -> 662.75 | H7: =(G7/G3)*1000 -> 954.32488
A9: SLOT 2
A10: Hucaljuk Arijan | B10: 9 | C10: 58 | D10: 60 | E10: 99 | F10: =(B10*60)+C10+(D10*0.01) -> 598.6 | G10: =F10+E10 -> 697.6 | H10: 1000
A11: Pećinar Saša | B11: 9 | C11: 53 | D11: 19 | E11: 99 | F11: =(B11*60)+C11+(D11*0.01) -> 593.19 | G11: =F11+E11 -> 692.19 | H11: =(G11/G10)*1000 -> 992.24484
A12: Meolić Metod | B12: 9 | C12: 52 | D12: 63 | E12: 95 | F12: =(B12*60)+C12+(D12*0.01) -> 592.63 | G12: =F12+E12 -> 687.63 | H12: =(G12/G10)*1000 -> 985.70814
A13: Kordić Marin | B13: 9 | C13: 51 | D13: 81 | E13: 91 | F13: =(B13*60)+C13+(D13*0.01) -> 591.81 | G13: =F13+E13 -> 682.81 | H13: =(G13/G10)*1000 -> 978.79874
A14: karić Siniša | B14: 4 | C14: 54 | D14: 87 | E14: 85 | F14: =(B14*60)+C14+(D14*0.01) -> 294.87 | G14: =F14+E14 -> 379.87 | H14: =(G14/G10)*1000 -> 544.53842

Sheet ROUND 3
B1: min | C1: sec
A2: SLOT 1
A3: Suver Miro | B3: 9 | C3: 56 | D3: 34 | E3: 99 | F3: =(B3*60)+C3+(D3*0.01) -> 596.34 | G3: =F3+E3 -> 695.34 | H3: 1000
A4: Šikić Antun | B4: 9 | C4: 53 | D4: 16 | E4: 97 | F4: =(B4*60)+C4+(D4*0.01) -> 593.16 | G4: =F4+E4 -> 690.16 | H4: =(G4/G3)*1000 -> 992.55041
A5: Pećinar Saša | B5: 9 | C5: 53 | D5: 88 | E5: 85 | F5: =(B5*60)+C5+(D5*0.01) -> 593.88 | G5: =F5+E5 -> 678.88 | H5: =(G5/G3)*1000 -> 976.32813
A6: Meolić Metod | B6: 9 | C6: 36 | D6: 3 | E6: 97 | F6: =(B6*60)+C6+(D6*0.01) -> 576.03 | G6: =F6+E6 -> 673.03 | H6: =(G6/G3)*1000 -> 967.91498
A7: Karić Siniša | B7: 9 | C7: 48 | D7: 78 | E7: 65 | F7: =(B7*60)+C7+(D7*0.01) -> 588.78 | G7: =F7+E7 -> 653.78 | H7: =(G7/G3)*1000 -> 940.23068
A9: SLOT 2
A10: Hucaljuk Arijan | B10: 9 | C10: 58 | D10: 95 | E10: 100 | F10: =(B10*60)+C10+(D10*0.01) -> 598.95 | G10: =F10+E10 -> 698.95 | H10: 1000
A11: Kosir Damir | B11: 9 | C11: 54 | D11: 71 | E11: 97 | F11: =(B11*60)+C11+(D11*0.01) -> 594.71 | G11: =F11+E11 -> 691.71 | H11: =(G11/G10)*1000 -> 989.64161
A12: Kordić Marin | B12: 9 | C12: 51 | D12: 9 | E12: 98 | F12: =(B12*60)+C12+(D12*0.01) -> 591.09 | G12: =F12+E12 -> 689.09 | H12: =(G12/G10)*1000 -> 985.89313
A13: Balaško Marijan | B13: 9 | C13: 53 | D13: 38 | E13: 90 | F13: =(B13*60)+C13+(D13*0.01) -> 593.38 | G13: =F13+E13 -> 683.38 | H13: =(G13/G10)*1000 -> 977.72373
A14: Boris Seleš | B14: 9 | C14: 46 | D14: 62 | E14: 60 | F14: =(B14*60)+C14+(D14*0.01) -> 586.62 | G14: =F14+E14 -> 646.62 | H14: =(G14/G10)*1000 -> 925.13055

Sheet ROUND 4
B1: min | C1: sec
A2: SLOT 1
A3: Suver Miro | B3: 9 | C3: 56 | D3: 96 | E3: 99 | F3: =(B3*60)+C3+(D3*0.01) -> 596.96 | G3: =F3+E3 -> 695.96 | H3: 1000
A4: Meolić Metod | B4: 9 | C4: 52 | D4: 6 | E4: 94 | F4: =(B4*60)+C4+(D4*0.01) -> 592.06 | G4: =F4+E4 -> 686.06 | H4: =(G4/G3)*1000 -> 985.77504
A5: Kordić Marin | B5: 7 | C5: 14 | D5: 38 | E5: 95 | F5: =(B5*60)+C5+(D5*0.01) -> 434.38 | G5: =F5+E5 -> 529.38 | H5: =(G5/G3)*1000 -> 760.64716
A6: Karić Siniša | B6: 6 | C6: 37 | D6: 56 | E6: 98 | F6: =(B6*60)+C6+(D6*0.01) -> 397.56 | G6: =F6+E6 -> 495.56 | H6: =(G6/G3)*1000 -> 712.05242
A7: Seleš Boris | B7: 4 | C7: 28 | D7: 81 | E7: 45 | F7: =(B7*60)+C7+(D7*0.01) -> 268.81 | G7: =F7+E7 -> 313.81 | H7: =(G7/G3)*1000 -> 450.90235
A9: SLOT 2
A10: Hucaljuk Arijan | B10: 9 | C10: 58 | D10: 84 | E10: 98 | F10: =(B10*60)+C10+(D10*0.01) -> 598.84 | G10: =F10+E10 -> 696.84 | H10: 1000
A11: Pećinar Saša | B11: 9 | C11: 56 | D11: 29 | E11: 100 | F11: =(B11*60)+C11+(D11*0.01) -> 596.29 | G11: =F11+E11 -> 696.29 | H11: =(G11/G10)*1000 -> 999.21072
A12: Balaško Marijan | B12: 9 | C12: 56 | D12: 19 | E12: 99 | F12: =(B12*60)+C12+(D12*0.01) -> 596.19 | G12: =F12+E12 -> 695.19 | H12: =(G12/G10)*1000 -> 997.63217
A13: Kosir Damir | B13: 9 | C13: 53 | D13: 14 | E13: 100 | F13: =(B13*60)+C13+(D13*0.01) -> 593.14 | G13: =F13+E13 -> 693.14 | H13: =(G13/G10)*1000 -> 994.69032
A14: Šikić Antun | B14: 9 | C14: 52 | D14: 53 | E14: 99 | F14: =(B14*60)+C14+(D14*0.01) -> 592.53 | G14: =F14+E14 -> 691.53 | H14: =(G14/G10)*1000 -> 992.37989

Sheet ROUND 5
B1: min | C1: sec
A2: SLOT 1
A3: Balaško Marijan | B3: 9 | C3: 54 | D3: 68 | E3: 98 | F3: =(B3*60)+C3+(D3*0.01) -> 594.68 | G3: =F3+E3 -> 692.68 | H3: 1000
A4: Pećinar Saša | B4: 9 | C4: 56 | D4: 75 | E4: 95 | F4: =(B4*60)+C4+(D4*0.01) -> 596.75 | G4: =F4+E4 -> 691.75 | H4: =(G4/G3)*1000 -> 998.65739
A5: Kordić Marin | B5: 9 | C5: 51 | D5: 81 | E5: 91 | F5: =(B5*60)+C5+(D5*0.01) -> 591.81 | G5: =F5+E5 -> 682.81 | H5: =(G5/G3)*1000 -> 985.751
A6: Karić Siniša | B6: 9 | C6: 47 | D6: 25 | E6: 75 | F6: =(B6*60)+C6+(D6*0.01) -> 587.25 | G6: =F6+E6 -> 662.25 | H6: =(G6/G3)*1000 -> 956.06918
A7: Suver Miro | B7: 5 | C7: 32 | D7: 53 | E7: 94 | F7: =(B7*60)+C7+(D7*0.01) -> 332.53 | G7: =F7+E7 -> 426.53 | H7: =(G7/G3)*1000 -> 615.76774
A9: SLOT 2
A10: Hucaljuk Arijan | B10: 9 | C10: 58 | D10: 85 | E10: 100 | F10: =(B10*60)+C10+(D10*0.01) -> 598.85 | G10: =F10+E10 -> 698.85 | H10: 1000
A11: Šikić Antun | B11: 9 | C11: 50 | D11: 35 | E11: 95 | F11: =(B11*60)+C11+(D11*0.01) -> 590.35 | G11: =F11+E11 -> 685.35 | H11: =(G11/G10)*1000 -> 980.68255
A12: Kosir Damir | B12: 9 | C12: 55 | D12: 13 | E12: 80 | F12: =(B12*60)+C12+(D12*0.01) -> 595.13 | G12: =F12+E12 -> 675.13 | H12: =(G12/G10)*1000 -> 966.05852
A13: Seleš Boris | B13: 9 | C13: 41 | D13: 66 | E13: 90 | F13: =(B13*60)+C13+(D13*0.01) -> 581.66 | G13: =F13+E13 -> 671.66 | H13: =(G13/G10)*1000 -> 961.09322
A14: Meolić Metod | B14: 0 | C14: 0 | D14: 0 | E14: 0 | F14: =(B14*60)+C14+(D14*0.01) -> 0 | G14: =F14+E14 -> 0 | H14: =(G14/G10)*1000 -> 0

Sheet ROUND 6
B1: min | C1: sec
A2: SLOT 1
A3: Suver Miro | B3: 9 | C3: 54 | D3: 60 | E3: 100 | F3: =(B3*60)+C3+(D3*0.01) -> 594.6 | G3: =F3+E3 -> 694.6 | H3: 1000
A4: Kosir Damir | B4: 9 | C4: 54 | D4: 75 | E4: 96 | F4: =(B4*60)+C4+(D4*0.01) -> 594.75 | G4: =F4+E4 -> 690.75 | H4: =(G4/G3)*1000 -> 994.45724
A5: Šikić Antun | B5: 9 | C5: 51 | D5: 25 | E5: 92 | F5: =(B5*60)+C5+(D5*0.01) -> 591.25 | G5: =F5+E5 -> 683.25 | H5: =(G5/G3)*1000 -> 983.65966
A6: Seleš Boris | B6: 0 | C6: 0 | D6: 0 | E6: 0 | F6: =(B6*60)+C6+(D6*0.01) -> 0 | G6: =F6+E6 -> 0 | H6: =(G6/G3)*1000 -> 0
A7: Balaško Marijan | B7: 0 | C7: 0 | D7: 0 | E7: 0 | F7: =(B7*60)+C7+(D7*0.01) -> 0 | G7: =F7+E7 -> 0 | H7: =(G7/G3)*1000 -> 0
A9: REF
A10: Suver Miro | B10: 9 | C10: 56 | D10: 12 | E10: 99 | F10: =(B10*60)+C10+(D10*0.01) -> 596.12 | G10: =F10+E10 -> 695.12 | H10: 1000
A11: Balaško Marijan | B11: 4 | C11: 59 | D11: 91 | E11: 99 | F11: =(B11*60)+C11+(D11*0.01) -> 299.91 | G11: =F11+E11 -> 398.91 | H11: =(G11/G10)*1000 -> 573.87214
A12: Šikić Antun | B12: 3 | C12: 48 | D12: 50 | E12: 0 | F12: =(B12*60)+C12+(D12*0.01) -> 228.5 | G12: =F12+E12 -> 228.5 | H12: =(G12/G10)*1000 -> 328.72022
A13: Kosir Damir | B13: 0 | C13: 0 | D13: 0 | E13: 0 | F13: =(B13*60)+C13+(D13*0.01) -> 0 | G13: =F13+E13 -> 0 | H13: =(G13/G10)*1000 -> 0
A14: Seleš Boris | B14: 0 | C14: 0 | D14: 0 | E14: 0 | F14: =(B14*60)+C14+(D14*0.01) -> 0 | G14: =F14+E14 -> 0 | H14: =(G14/G10)*1000 -> 0
A16: SLOT 2
A17: Hucaljuk Arijan | B17: 9 | C17: 59 | D17: 40 | E17: 98 | F17: =(B17*60)+C17+(D17*0.01) -> 599.4 | G17: =F17+E17 -> 697.4 | H17: 1000
A18: Pećinar Saša | B18: 9 | C18: 51 | D18: 47 | E18: 98 | F18: =(B18*60)+C18+(D18*0.01) -> 591.47 | G18: =F18+E18 -> 689.47 | H18: =(G18/G17)*1000 -> 988.62919
A19: Kordić Marin | B19: 9 | C19: 49 | D19: 16 | E19: 91 | F19: =(B19*60)+C19+(D19*0.01) -> 589.16 | G19: =F19+E19 -> 680.16 | H19: =(G19/G17)*1000 -> 975.27961
A20: karić Siniša | B20: 9 | C20: 30 | D20: 87 | E20: 91 | F20: =(B20*60)+C20+(D20*0.01) -> 570.87 | G20: =F20+E20 -> 661.87 | H20: =(G20/G17)*1000 -> 949.05363
A21: Meolić Metod | B21: 0 | C21: 0 | D21: 0 | E21: 0 | F21: =(B21*60)+C21+(D21*0.01) -> 0 | G21: =F21+E21 -> 0 | H21: =(G21/G17)*1000 -> 0

Sheet ROUND 7
B1: min | C1: sec
A2: SLOT 1
A3: Suver Miro | B3: 9 | C3: 56 | D3: 12 | E3: 99 | F3: =(B3*60)+C3+(D3*0.01) -> 596.12 | G3: =F3+E3 -> 695.12 | H3: 1000
A4: Pećinar Saša | B4: 9 | C4: 55 | D4: 72 | E4: 98 | F4: =(B4*60)+C4+(D4*0.01) -> 595.72 | G4: =F4+E4 -> 693.72 | H4: =(G4/G3)*1000 -> 997.98596
A5: Šikić Antun | B5: 9 | C5: 52 | D5: 87 | E5: 97 | F5: =(B5*60)+C5+(D5*0.01) -> 592.87 | G5: =F5+E5 -> 689.87 | H5: =(G5/G3)*1000 -> 992.44735
A6: Karić Siniša | B6: 5 | C6: 3 | D6: 94 | E6: 95 | F6: =(B6*60)+C6+(D6*0.01) -> 303.94 | G6: =F6+E6 -> 398.94 | H6: =(G6/G3)*1000 -> 573.9153
A7: Meolić Metod | B7: 0 | C7: 0 | D7: 0 | E7: 0 | F7: =(B7*60)+C7+(D7*0.01) -> 0 | G7: =F7+E7 -> 0 | H7: =(G7/G3)*1000 -> 0
A9: SLOT 2
A10: Hucaljuk Arijan | B10: 9 | C10: 58 | D10: 59 | E10: 100 | F10: =(B10*60)+C10+(D10*0.01) -> 598.59 | G10: =F10+E10 -> 698.59 | H10: 1000
A11: Kosir Damir | B11: 9 | C11: 55 | D11: 19 | E11: 99 | F11: =(B11*60)+C11+(D11*0.01) -> 595.19 | G11: =F11+E11 -> 694.19 | H11: =(G11/G10)*1000 -> 993.7016
A12: Kordić Marin | B12: 9 | C12: 50 | D12: 60 | E12: 95 | F12: =(B12*60)+C12+(D12*0.01) -> 590.6 | G12: =F12+E12 -> 685.6 | H12: =(G12/G10)*1000 -> 981.4054
A13: Balaško Marijan | B13: 9 | C13: 55 | D13: 19 | E13: 85 | F13: =(B13*60)+C13+(D13*0.01) -> 595.19 | G13: =F13+E13 -> 680.19 | H13: =(G13/G10)*1000 -> 973.66123
A14: Boris Seleš | B14: 0 | C14: 0 | D14: 0 | E14: 0 | F14: =(B14*60)+C14+(D14*0.01) -> 0 | G14: =F14+E14 -> 0 | H14: =(G14/G10)*1000 -> 0

Sheet ROUND 8
B1: min | C1: sec
A2: SLOT 1
A3: Suver Miro | B3: 6 | C3: 13 | D3: 72 | E3: 97 | F3: =(B3*60)+C3+(D3*0.01) -> 373.72 | G3: =F3+E3 -> 470.72 | H3: 1000
A4: Kordić Marin | B4: 5 | C4: 57 | D4: 0 | E4: 65 | F4: =(B4*60)+C4+(D4*0.01) -> 357 | G4: =F4+E4 -> 422 | H4: =(G4/G3)*1000 -> 896.49898
A5: Karić Siniša | B5: 3 | C5: 23 | D5: 37 | E5: 60 | F5: =(B5*60)+C5+(D5*0.01) -> 203.37 | G5: =F5+E5 -> 263.37 | H5: =(G5/G3)*1000 -> 559.50459
A6: Seleš Boris | B6: 0 | C6: 0 | D6: 0 | E6: 0 | F6: =(B6*60)+C6+(D6*0.01) -> 0 | G6: =F6+E6 -> 0 | H6: =(G6/G3)*1000 -> 0
A7: Meolić Metod | B7: 0 | C7: 0 | D7: 0 | E7: 0 | F7: =(B7*60)+C7+(D7*0.01) -> 0 | G7: =F7+E7 -> 0 | H7: =(G7/G3)*1000 -> 0
A9: SLOT 2
A10: Hucaljuk Arijan | B10: 9 | C10: 59 | D10: 50 | E10: 99 | F10: =(B10*60)+C10+(D10*0.01) -> 599.5 | G10: =F10+E10 -> 698.5 | H10: 1000
A11: Pećinar Saša | B11: 9 | C11: 54 | D11: 94 | E11: 100 | F11: =(B11*60)+C11+(D11*0.01) -> 594.94 | G11: =F11+E11 -> 694.94 | H11: =(G11/G10)*1000 -> 994.90336
A12: Balaško Marijan | B12: 9 | C12: 55 | D12: 32 | E12: 99 | F12: =(B12*60)+C12+(D12*0.01) -> 595.32 | G12: =F12+E12 -> 694.32 | H12: =(G12/G10)*1000 -> 994.01575
A13: Kosir Damir | B13: 9 | C13: 54 | D13: 19 | E13: 85 | F13: =(B13*60)+C13+(D13*0.01) -> 594.19 | G13: =F13+E13 -> 679.19 | H13: =(G13/G10)*1000 -> 972.35505
A14: Šikić Antun | B14: 9 | C14: 54 | D14: 10 | E14: 70 | F14: =(B14*60)+C14+(D14*0.01) -> 594.1 | G14: =F14+E14 -> 664.1 | H14: =(G14/G10)*1000 -> 950.75161

Sheet KVALIFIKACIJE
B1: ROUND 1 | C1: ROUND 2 | D1: ROUND 3 | E1: ROUND 4 | F1: ROUND 5 | G1: ROUND 6 | H1: ROUND 7 | I1: ROUND 8
A2: Hucaljuk Arijan | B2: ='ROUND 1'!H10 -> 1000 | C2: ='ROUND 2'!H10 -> 1000 | D2: ='ROUND 3'!H10 -> 1000 | E2: ='ROUND 4'!H10 -> 1000 | F2: ='ROUND 5'!H10 -> 1000 | G2: ='ROUND 6'!H17 -> 1000 | H2: ='ROUND 7'!H10 -> 1000 | I2: ='ROUND 8'!H10 -> 1000 | J2: =SUM(B2:I2)-I2 -> 7000
A3: Pećinar Saša | B3: ='ROUND 1'!H3 -> 1000 | C3: ='ROUND 2'!H11 -> 992.24484 | D3: ='ROUND 3'!H5 -> 976.32813 | E3: ='ROUND 4'!H11 -> 999.21072 | F3: ='ROUND 5'!H4 -> 998.65739 | G3: ='ROUND 6'!H18 -> 988.62919 | H3: ='ROUND 7'!H4 -> 997.98596 | I3: ='ROUND 8'!H11 -> 994.90336 | J3: =SUM(B3:I3)-C3 -> 6955.7148
A4: Balaško Marijan | B4: ='ROUND 1'!H4 -> 992.97563 | C4: ='ROUND 2'!H4 -> 996.67372 | D4: ='ROUND 3'!H13 -> 977.72373 | E4: ='ROUND 4'!H12 -> 997.63217 | F4: ='ROUND 5'!H3 -> 1000 | G4: ='ROUND 6'!H11 -> 573.87214 | H4: ='ROUND 7'!H13 -> 973.66123 | I4: ='ROUND 8'!H12 -> 994.01575 | J4: =SUM(B4:I4)-G4 -> 6932.6822
A5: Šikić Antun | B5: ='ROUND 1'!H13 -> 984.41875 | C5: ='ROUND 2'!H5 -> 992.92986 | D5: ='ROUND 3'!H4 -> 992.55041 | E5: ='ROUND 4'!H14 -> 992.37989 | F5: ='ROUND 5'!H11 -> 980.68255 | G5: ='ROUND 6'!H5 -> 983.65966 | H5: ='ROUND 7'!H5 -> 992.44735 | I5: ='ROUND 8'!H14 -> 950.75161 | J5: =SUM(B5:I5)-I5 -> 6919.0685
A6: Kosir Damir | B6: ='ROUND 1'!H11 -> 985.26603 | C6: ='ROUND 2'!H7 -> 954.32488 | D6: ='ROUND 3'!H11 -> 989.64161 | E6: ='ROUND 4'!H13 -> 994.69032 | F6: ='ROUND 5'!H12 -> 966.05852 | G6: ='ROUND 6'!H4 -> 994.45724 | H6: ='ROUND 7'!H11 -> 993.7016 | I6: ='ROUND 8'!H13 -> 972.35505 | J6: =SUM(B6:I6)-F6 -> 6884.4367
A7: Kordić Marin | B7: ='ROUND 1'!H5 -> 962.94791 | C7: ='ROUND 2'!H13 -> 978.79874 | D7: ='ROUND 3'!H12 -> 985.89313 | E7: ='ROUND 4'!H5 -> 760.64716 | F7: ='ROUND 5'!H5 -> 985.751 | G7: ='ROUND 6'!H19 -> 975.27961 | H7: ='ROUND 7'!H12 -> 981.4054 | I7: ='ROUND 8'!H4 -> 896.49898 | J7: =SUM(B7:I7)-E7 -> 6766.5748
A8: Suver Miro | B8: ='ROUND 1'!H7 -> 550.04862 | C8: ='ROUND 2'!H3 -> 1000 | D8: ='ROUND 3'!H3 -> 1000 | E8: ='ROUND 4'!H3 -> 1000 | F8: ='ROUND 5'!H7 -> 615.76774 | G8: ='ROUND 6'!H3 -> 1000 | H8: ='ROUND 7'!H3 -> 1000 | I8: ='ROUND 8'!H3 -> 1000 | J8: =SUM(B8:I8)-B8 -> 6615.7677
A9: Karić Siniša | B9: ='ROUND 1'!H6 -> 564.11187 | C9: ='ROUND 2'!H14 -> 544.53842 | D9: ='ROUND 3'!H7 -> 940.23068 | E9: ='ROUND 4'!H6 -> 712.05242 | F9: ='ROUND 5'!H6 -> 956.06918 | G9: ='ROUND 6'!H20 -> 949.05363 | H9: ='ROUND 7'!H6 -> 573.9153 | I9: ='ROUND 8'!H5 -> 559.50459 | J9: =SUM(B9:I9)-C9 -> 5254.9377
A10: Seleš Boris | B10: ='ROUND 1'!H14 -> 892.33862 | C10: ='ROUND 2'!H6 -> 969.40113 | D10: ='ROUND 3'!H14 -> 925.13055 | E10: ='ROUND 4'!H7 -> 450.90235 | F10: ='ROUND 5'!H13 -> 961.09322 | G10: 0 | H10: 0 | I10: 0 | J10: =SUM(B10:I10) -> 4198.8659
A11: Meolić Metod | B11: ='ROUND 1'!H12 -> 984.9501 | C11: ='ROUND 2'!H12 -> 985.70814 | D11: ='ROUND 3'!H6 -> 967.91498 | E11: ='ROUND 4'!H4 -> 985.77504 | F11: ='ROUND 5'!H14 -> 0 | G11: 0 | H11: 0 | I11: 0 | J11: =SUM(B11:I11) -> 3924.3483

Sheet FINALE
B1: min | C1: sec
A2: Round 1
A3: Hucaljuk Arijan | B3: 14 | C3: 58 | D3: 78 | E3: 100 | F3: =(B3*60)+C3+(D3*0.01) -> 898.78 | G3: =F3+E3 -> 998.78 | H3: 1000
A4: Balaško Marijan | B4: 14 | C4: 53 | D4: 68 | E4: 98 | F4: =(B4*60)+C4+(D4*0.01) -> 893.68 | G4: =F4+E4 -> 991.68 | H4: =(G4/G3)*1000 -> 992.89133
A5: Pećinar Saša | B5: 14 | C5: 53 | D5: 72 | E5: 95 | F5: =(B5*60)+C5+(D5*0.01) -> 893.72 | G5: =F5+E5 -> 988.72 | H5: =(G5/G3)*1000 -> 989.92771
A6: Šikić Antun | B6: 13 | C6: 54 | D6: 87 | E6: 97 | F6: =(B6*60)+C6+(D6*0.01) -> 834.87 | G6: =F6+E6 -> 931.87 | H6: =(G6/G3)*1000 -> 933.00827
A7: Kosir Damir | B7: 10 | C7: 59 | D7: 72 | E7: 97 | F7: =(B7*60)+C7+(D7*0.01) -> 659.72 | G7: =F7+E7 -> 756.72 | H7: =(G7/G3)*1000 -> 757.64433
B9: min | C9: sec
A10: Round 2
A11: Hucaljuk Arijan | B11: 14 | C11: 58 | D11: 22 | E11: 94 | F11: =(B11*60)+C11+(D11*0.01) -> 898.22 | G11: =F11+E11 -> 992.22 | H11: 1000
A12: Pećinar Saša | B12: 14 | C12: 54 | D12: 53 | E12: 97 | F12: =(B12*60)+C12+(D12*0.01) -> 894.53 | G12: =F12+E12 -> 991.53 | H12: =(G12/G11)*1000 -> 999.30459
A13: Kosir Damir | B13: 14 | C13: 56 | D13: 1 | E13: 95 | F13: =(B13*60)+C13+(D13*0.01) -> 896.01 | G13: =F13+E13 -> 991.01 | H13: =(G13/G11)*1000 -> 998.78051
A14: Balaško Marijan | B14: 0 | C14: 0 | D14: 0 | E14: 0 | F14: =(B14*60)+C14+(D14*0.01) -> 0 | G14: =F14+E14 -> 0 | H14: =(G14/G11)*1000 -> 0
A15: Šikić Antun | B15: 0 | C15: 0 | D15: 0 | E15: 0 | F15: =(B15*60)+C15+(D15*0.01) -> 0 | G15: =F15+E15 -> 0 | H15: =(G15/G11)*1000 -> 0
B17: min | C17: sec
A18: REZ
A19: Hucaljuk Arijan | B19: 14 | C19: 59 | D19: 84 | E19: 98 | F19: =(B19*60)+C19+(D19*0.01) -> 899.84 | G19: =F19+E19 -> 997.84 | H19: 1000
A20: Pećinar Saša | B20: 14 | C20: 54 | D20: 0 | E20: 95 | F20: =(B20*60)+C20+(D20*0.01) -> 894 | G20: =F20+E20 -> 989 | H20: =(G20/G19)*1000 -> 991.14086
A21: Kosir Damir | B21: 14 | C21: 53 | D21: 88 | E21: 90 | F21: =(B21*60)+C21+(D21*0.01) -> 893.88 | G21: =F21+E21 -> 983.88 | H21: =(G21/G19)*1000 -> 986.00978
A22: Balaško Marijan | B22: 13 | C22: 56 | D22: 12 | E22: 85 | F22: =(B22*60)+C22+(D22*0.01) -> 836.12 | G22: =F22+E22 -> 921.12 | H22: =(G22/G19)*1000 -> 923.11393
A23: Šikić Antun | B23: 0 | C23: 0 | D23: 0 | E23: 0 | F23: =(B23*60)+C23+(D23*0.01) -> 0 | G23: =F23+E23 -> 0 | H23: =(G23/G19)*1000 -> 0
A26: Hucaljuk Arijan | B26: =H3 -> 1000 | C26: =H11 -> 1000 | D26: =SUM(B26:C26) -> 2000
A27: Pećinar Saša | B27: =H5 -> 989.92771 | C27: =H12 -> 999.30459 | D27: =SUM(B27:C27) -> 1989.2323
A28: Balaško Marijan | B28: =H4 -> 992.89133 | C28: =H22 -> 923.11393 | D28: =SUM(B28:C28) -> 1916.0053
A29: Kosir Damir | B29: =H7 -> 757.64433 | C29: =H13 -> 998.78051 | D29: =SUM(B29:C29) -> 1756.4248
A30: Šikić Antun | B30: =H6 -> 933.00827 | C30: =H15 -> 0 | D30: =SUM(B30:C30) -> 933.00827
