Workbook
Name Excel_BuiltIn_Print_Area: F1N150!$A$1:$R$39
Name lw_1354615894_2: F1N150!$V$34
Name lw_1354615894_3: #REF!

Sheet F1N150
C1: Juniorsko državno prvenstvo u kategorijama F1N-150 i F1N, Kup Hrvatske 07.03,2020. Tenja
H2: Komarci | J2: 2010. i mlađi
G3: F1N-150 | H3: Osnovci | J3: 2006.-2009.
H4: Juniori | J4: 2002.-2008.
C5: Class: | D5: Name | E5: Licence | F5: Junior | G5: Club | H5: F1 | I5: F2 | J5: F3 | K5: F4 | L5: F5 | M5: F6 | N5: F7 | O5: F8 | P5: F9 | Q5: Total | R5: 3 Best
A6: 46 | B6: 1 | C6: F1N150 | D6: Zobec, Vilim | F6: CRO | G6: AMK Karlovac | H6: 33.6 | I6: 29.1 | J6: 34.9 | K6: 30.1 | L6: 34.7 | M6: 4 | N6: 36.1 | O6: 31.7 | P6: 31.8 | Q6: =SUM(H6:P6) -> 266 | R6: =LARGE(H6:P6,1)+LARGE(H6:P6,2)+LARGE(H6:P6,3) -> 105.7
A7: 45 | B7: 2 | C7: F1N150 | D7: Nišević, Igor | F7: CRO | G7: AK Osijek | H7: 35.6 | I7: 29.3 | J7: 0 | K7: 33.2 | L7: 5.3 | M7: 34.3 | N7: 29.5 | O7: 34 | P7: 33.6 | Q7: =SUM(H7:P7) -> 234.8 | R7: =LARGE(H7:P7,1)+LARGE(H7:P7,2)+LARGE(H7:P7,3) -> 103.9
A8: 43 | B8: 3 | C8: F1N150 | D8: Špehar, Dominik | F8: CRO | G8: MK Zaprešić | H8: 6.6 | I8: 7.7 | J8: 17.6 | K8: 24.5 | L8: 7.1 | M8: 31.8 | N8: 34.6 | O8: 34.1 | P8: 35.1 | Q8: =SUM(H8:P8) -> 199.1 | R8: =LARGE(H8:P8,1)+LARGE(H8:P8,2)+LARGE(H8:P8,3) -> 103.8
A9: 42 | B9: 4 | C9: F1N150 | D9: Glogoški, Filip | F9: CRO | G9: AK Osijek | H9: 12.8 | I9: 30.8 | J9: 30 | K9: 28.9 | L9: 29.9 | M9: 12.3 | N9: 31.7 | O9: 32.3 | P9: 32.8 | Q9: =SUM(H9:P9) -> 241.5 | R9: =LARGE(H9:P9,1)+LARGE(H9:P9,2)+LARGE(H9:P9,3) -> 96.8
A10: 41 | B10: 5 | C10: F1N150 | D10: Ozimec, Mirjana | F10: CRO | G10: AMK Sisak | H10: 3.1 | I10: 28.5 | J10: 31.5 | K10: 30.6 | L10: 28 | M10: 24.5 | N10: 29.9 | O10: 30.4 | P10: 31.8 | Q10: =SUM(H10:P10) -> 238.3 | R10: =LARGE(H10:P10,1)+LARGE(H10:P10,2)+LARGE(H10:P10,3) -> 93.9
A11: 38 | B11: 6 | C11: F1N150 | D11: Rešetar, Josip 2006 | E11: (jr) | F11: CRO | G11: CTK Čeminac | H11: 7.5 | I11: 19.1 | J11: 21.6 | K11: 5.1 | L11: 25.7 | M11: 26.6 | N11: 32.6 | O11: 31.1 | P11: 10.1 | Q11: =SUM(H11:P11) -> 179.4 | R11: =LARGE(H11:P11,1)+LARGE(H11:P11,2)+LARGE(H11:P11,3) -> 90.3
A12: 34 | B12: 7 | C12: F1N150 | D12: Orkić, Filip oš | E12: (jr) | F12: CRO | G12: AK Brod | H12: 12.1 | I12: 12.4 | J12: 25.5 | K12: 26.8 | L12: 26 | M12: 26.4 | N12: 28.6 | O12: 27.6 | P12: 30.9 | Q12: =SUM(H12:P12) -> 216.3 | R12: =LARGE(H12:P12,1)+LARGE(H12:P12,2)+LARGE(H12:P12,3) -> 87.1
A13: 33 | B13: 8 | C13: F1N150 | D13: Capan, Ivan 2005 | E13: (jr) | F13: CRO | G13: OŠ Tenja | H13: 19.3 | I13: 23.4 | J13: 20.4 | K13: 28.7 | L13: 22.5 | M13: 20.3 | N13: 28.6 | O13: 28.7 | P13: 23.3 | Q13: =SUM(H13:P13) -> 215.2 | R13: =LARGE(H13:P13,1)+LARGE(H13:P13,2)+LARGE(H13:P13,3) -> 86
A14: 31 | B14: 9 | C14: F1N150 | D14: Ozimec, Darko | F14: CRO | G14: AMK Sisak | H14: 27.6 | I14: 24.5 | J14: 26.5 | K14: 13.7 | L14: 26.2 | M14: 27.7 | N14: 30.1 | O14: 5.1 | P14: 6.8 | Q14: =SUM(H14:P14) -> 188.2 | R14: =LARGE(H14:P14,1)+LARGE(H14:P14,2)+LARGE(H14:P14,3) -> 85.4
A15: 29 | B15: 10 | C15: F1N150 | D15: Zobec, Borna 2008 | E15: (jr) | F15: CRO | G15: AK Karlovac | H15: 7 | I15: 7.4 | J15: 4.9 | K15: 5.3 | L15: 23 | M15: 3.9 | N15: 26.2 | O15: 28 | P15: 30.3 | Q15: =SUM(H15:P15) -> 136 | R15: =LARGE(H15:P15,1)+LARGE(H15:P15,2)+LARGE(H15:P15,3) -> 84.5
A16: 30 | B16: 11 | C16: F1N150 | D16: Šikić, Antun | F16: CRO | G16: AK Osijek | H16: 25.3 | I16: 27 | J16: 22.3 | K16: 22 | L16: 27.7 | M16: 25 | N16: 25.4 | O16: 27.2 | P16: 22.7 | Q16: =SUM(H16:P16) -> 224.6 | R16: =LARGE(H16:P16,1)+LARGE(H16:P16,2)+LARGE(H16:P16,3) -> 81.9
A17: 28 | B17: 12 | C17: F1N150 | D17: Radanović, Aleksandar 2008 | E17: (jr) | F17: CRO | G17: OŠ Darda | H17: 24.6 | I17: 25.4 | J17: 19.4 | K17: 20.1 | L17: 16.4 | M17: 19.7 | N17: 24.5 | O17: 28.4 | P17: 27.6 | Q17: =SUM(H17:P17) -> 206.1 | R17: =LARGE(H17:P17,1)+LARGE(H17:P17,2)+LARGE(H17:P17,3) -> 81.4
A18: 27 | B18: 13 | C18: F1N150 | D18: Radić, Mihaela 2007 | E18: (jr) | F18: CRO | G18: AK Osijek | H18: 26 | I18: 25.2 | J18: 23 | K18: 25.9 | L18: 26.2 | M18: 25.4 | N18: 24 | O18: 25.5 | P18: 27.2 | Q18: =SUM(H18:P18) -> 228.4 | R18: =LARGE(H18:P18,1)+LARGE(H18:P18,2)+LARGE(H18:P18,3) -> 79.4
A19: 24 | B19: 14 | C19: F1N150 | D19: Balaš, Mak 2011 | E19: (jr) | F19: CRO | G19: AK Osijek | H19: 25 | I19: 23.2 | J19: 24.5 | K19: 20.8 | L19: 21.6 | M19: 22.1 | N19: 27.8 | O19: 21.7 | P19: 24.3 | Q19: =SUM(H19:P19) -> 211 | R19: =LARGE(H19:P19,1)+LARGE(H19:P19,2)+LARGE(H19:P19,3) -> 77.3
A20: 23 | B20: 15 | C20: F1N150 | D20: Last, Bruno 2006. | E20: (jr) | F20: CRO | G20: AK Požega 2 | H20: 7.5 | I20: 10.2 | J20: 3.5 | K20: 23.9 | L20: 22.5 | M20: 28.2 | N20: 24 | O20: 20.6 | P20: 19.9 | Q20: =SUM(H20:P20) -> 160.3 | R20: =LARGE(H20:P20,1)+LARGE(H20:P20,2)+LARGE(H20:P20,3) -> 76.1
A21: 22 | B21: 16 | C21: F1N150 | D21: Lač , Lara 2009 | E21: (jr) | F21: CRO | G21: CTK Čeminac | H21: 17.7 | I21: 22.2 | J21: 23.4 | K21: 22.9 | L21: 24.2 | M21: 25 | N21: 25.1 | O21: 24.6 | P21: 25.1 | Q21: =SUM(H21:P21) -> 210.2 | R21: =LARGE(H21:P21,1)+LARGE(H21:P21,2)+LARGE(H21:P21,3) -> 75.2
A22: 21 | B22: 17 | C22: F1N150 | D22: Košević, Marko 2007 | E22: (jr) | F22: CRO | G22: OŠ Darda | H22: 18.7 | I22: 23.9 | J22: 22.9 | K22: 14.1 | L22: 18.1 | M22: 25 | N22: 25.3 | O22: 23.5 | P22: 17.1 | Q22: =SUM(H22:P22) -> 188.6 | R22: =LARGE(H22:P22,1)+LARGE(H22:P22,2)+LARGE(H22:P22,3) -> 74.2
A23: 20 | B23: 18 | C23: F1N150 | D23: Bitunjac, Roko oš | E23: (jr) | F23: CRO | G23: AK Brod | H23: 22.6 | I23: 23.1 | J23: 24.9 | K23: 22.7 | L23: 23.9 | M23: 24 | N23: 17 | O23: 24.6 | P23: 17.2 | Q23: =SUM(H23:P23) -> 200 | R23: =LARGE(H23:P23,1)+LARGE(H23:P23,2)+LARGE(H23:P23,3) -> 73.5
A24: 18 | B24: 19 | C24: F1N150 | D24: Orkić, David oš | E24: (jr) | F24: CRO | G24: AK Brod | H24: 15.6 | I24: 0 | J24: 20.2 | K24: 23.8 | L24: 20.7 | M24: 25.9 | N24: 23.6 | O24: 22.3 | P24: 23.2 | Q24: =SUM(H24:P24) -> 175.3 | R24: =LARGE(H24:P24,1)+LARGE(H24:P24,2)+LARGE(H24:P24,3) -> 73.3
A25: 17 | B25: 20 | C25: F1N150 | D25: Pajkurić, Dominik 2005 % | E25: (jr) | F25: CRO | G25: AK Osijek | H25: 22 | I25: 0 | J25: 11.4 | K25: 22.7 | L25: 23.8 | M25: 19.8 | N25: 19.5 | O25: 24.9 | P25: 24.3 | Q25: =SUM(H25:P25) -> 168.4 | R25: =LARGE(H25:P25,1)+LARGE(H25:P25,2)+LARGE(H25:P25,3) -> 73
A26: 15 | B26: 21 | C26: F1N150 | D26: Hržica, Fran Tvrtko 2011 | E26: (jr) | F26: CRO | G26: AK Osijek | H26: 17.2 | I26: 18 | J26: 21.8 | K26: 20.7 | L26: 23.4 | M26: 23.1 | N26: 22.7 | O26: 20.9 | P26: 22.8 | Q26: =SUM(H26:P26) -> 190.6 | R26: =LARGE(H26:P26,1)+LARGE(H26:P26,2)+LARGE(H26:P26,3) -> 69.3
A27: 14 | B27: 22 | C27: F1N150 | D27: Ašičić, Lara 2008 | E27: (jr) | F27: CRO | G27: OŠ Tenja | H27: 20.5 | I27: 21.8 | J27: 23.1 | K27: 3.9 | L27: 17.6 | M27: 7.9 | N27: 15.3 | O27: 21.1 | P27: 4.6 | Q27: =SUM(H27:P27) -> 135.8 | R27: =LARGE(H27:P27,1)+LARGE(H27:P27,2)+LARGE(H27:P27,3) -> 66
A28: 13 | B28: 23 | C28: F1N150 | D28: Lač , Nera 2011 | E28: (jr) | F28: CRO | G28: AK Osijek | H28: 21.8 | I28: 13.7 | J28: 3.5 | K28: 4 | L28: 29.8 | M28: 3.6 | N28: 3.9 | O28: 3.3 | P28: 1.8 | Q28: =SUM(H28:P28) -> 85.4 | R28: =LARGE(H28:P28,1)+LARGE(H28:P28,2)+LARGE(H28:P28,3) -> 65.3
... A38: 48 | B38: 33 | C38: F1N150 | D38: Tadić, Mariano 2008 | E38: (jr) | F38: CRO | G38: AK Osijek | H38: 5.5 | I38: 4.6 | J38: 2.5 | K38: 3.8 | L38: 5.8 | M38: 8.6 | N38: 9.9 | O38: 10.7 | P38: 11.8 | Q38: =SUM(H38:P38) -> 63.2 | R38: =LARGE(H38:P38,1)+LARGE(H38:P38,2)+LARGE(H38:P38,3) -> 32.4
A39: 49 | B39: 34 | C39: F1N150 | D39: Tolj, Stipe 2007 | E39: (jr) | F39: CRO | G39: OŠ Tenja | H39: 5.9 | I39: 3.9 | J39: 6.1 | K39: 4.3 | L39: 4.3 | M39: 5.8 | N39: 4.9 | O39: 3.2 | P39: 4.9 | Q39: =SUM(H39:P39) -> 43.3 | R39: j

Sheet F1N
C1: Juniorsko državno prvenstvo u zrakolovnom modelarstvu kategorije F1N-150 i F1N, Kup Hrvatske 07.03.2020. Tenja | H1: Komarci | J1: 2010. i mlađi
G2: F1N | H2: Osnovci | J2: 2006.-2009.
H3: Juniori | J3: 2002.-2008.
C4: Class: | D4: Name | E4: Licence | F4: Junior | G4: Club | H4: F1 | I4: F2 | J4: F3 | K4: F4 | L4: F5 | M4: F6 | N4: F7 | O4: F8 | P4: F9 | Q4: Total | R4: 3 Best
A5: 1 | B5: 1 | C5: F1N | D5: Ozimec, Darko | F5: CRO | G5: AMK Sisak | H5: 43 | I5: 41.3 | J5: 38.3 | K5: 4.4 | L5: 28 | M5: 4.5 | N5: 39.6 | O5: 36 | P5: 38.3 | Q5: =SUM(H5:P5) -> 273.4 | R5: =LARGE(H5:P5,1)+LARGE(H5:P5,2)+LARGE(H5:P5,3) -> 123.9
A6: 4 | B6: 2 | C6: F1N | D6: Zobec, Vilim | F6: CRO | G6: AMK Karlovac | H6: 28.3 | I6: 5.9 | J6: 36.6 | K6: 8.5 | L6: 39.1 | M6: 8.4 | N6: 36.8 | O6: 37.7 | P6: 42 | Q6: =SUM(H6:P6) -> 243.3 | R6: =LARGE(H6:P6,1)+LARGE(H6:P6,2)+LARGE(H6:P6,3) -> 118.8
A7: 5 | B7: 3 | C7: F1N | D7: Ozimec, Mirjana | F7: CRO | G7: AMK Sisak | H7: 6.7 | I7: 32.7 | J7: 17.8 | K7: 26.4 | L7: 30.9 | M7: 13.2 | N7: 31 | O7: 29.4 | P7: 28 | Q7: =SUM(H7:P7) -> 216.1 | R7: =LARGE(H7:P7,1)+LARGE(H7:P7,2)+LARGE(H7:P7,3) -> 94.6
A8: 6 | B8: 4 | C8: F1N | D8: Nišević, Igor | F8: CRO | G8: AK Osijek | H8: 27.6 | I8: 32.7 | J8: 25.3 | K8: 26.9 | L8: 17 | M8: 6.1 | N8: 22.2 | O8: 17 | P8: 21.9 | Q8: =SUM(H8:P8) -> 196.7 | R8: =LARGE(H8:P8,1)+LARGE(H8:P8,2)+LARGE(H8:P8,3) -> 87.2
A9: 7 | B9: 5 | C9: F1N | D9: Špehar, Dominik | F9: CRO | G9: MK Zaprešić | H9: 4 | I9: 33.2 | J9: 7.3 | K9: 6.4 | L9: 21.8 | M9: 4.4 | N9: 8.4 | O9: 7.4 | P9: 29.4 | Q9: =SUM(H9:P9) -> 122.3 | R9: =LARGE(H9:P9,1)+LARGE(H9:P9,2)+LARGE(H9:P9,3) -> 84.4
A10: 9 | B10: 6 | C10: F1N | D10: Capan, Ivan | E10: (jr) | F10: CRO | G10: OŠ Tenja | H10: 10.1 | I10: 11.2 | J10: 23.1 | K10: 14 | L10: 19.6 | M10: 19.8 | N10: 21.1 | O10: 2.1 | P10: 22.9 | Q10: =SUM(H10:P10) -> 143.9 | R10: =LARGE(H10:P10,1)+LARGE(H10:P10,2)+LARGE(H10:P10,3) -> 67.1
A11: 10 | B11: 7 | C11: F1N | D11: Zobec, Borna 2008 | E11: (jr) | F11: CRO | G11: AK Karlovac | H11: 18.4 | I11: 4.4 | J11: 19.8 | K11: 20.6 | L11: 17.5 | M11: 3 | N11: 19.2 | O11: 17.2 | P11: 20.7 | Q11: =SUM(H11:P11) -> 140.8 | R11: =LARGE(H11:P11,1)+LARGE(H11:P11,2)+LARGE(H11:P11,3) -> 61.1
A12: 12 | B12: 8 | C12: F1N | D12: Tadić, Mariano 2008 % | E12: (jr) | F12: CRO | G12: AK Osijek | H12: 5 | I12: 4.9 | J12: 18.9 | K12: 17.9 | L12: 19.2 | M12: 18.5 | N12: 4.3 | O12: 16 | P12: 10.2 | Q12: =SUM(H12:P12) -> 114.9 | R12: =LARGE(H12:P12,1)+LARGE(H12:P12,2)+LARGE(H12:P12,3) -> 56.6
A13: 13 | B13: 9 | C13: F1N | D13: Pajkurić, Dominik 2005 % | E13: (jr) | F13: CRO | G13: AK Osijek | H13: 18.1 | I13: 17.1 | J13: 3.6 | K13: 17.4 | L13: 18.1 | M13: 17.1 | N13: 15.1 | O13: 3.8 | P13: 15.8 | Q13: =SUM(H13:P13) -> 126.1 | R13: =LARGE(H13:P13,1)+LARGE(H13:P13,2)+LARGE(H13:P13,3) -> 53.6
A14: 14 | B14: 10 | C14: F1N | D14: Rešetar, Josip 2006 & | E14: (jr) | F14: CRO | G14: CTK Čeminac | H14: 5.5 | I14: 4.9 | J14: 18.7 | K14: 15.2 | L14: 5.2 | M14: 3.5 | N14: 19.2 | O14: 3.2 | P14: 5.1 | Q14: =SUM(H14:P14) -> 80.5 | R14: =LARGE(H14:P14,1)+LARGE(H14:P14,2)+LARGE(H14:P14,3) -> 53.1
A15: 16 | B15: 11 | C15: F1N | D15: Drlje, Marko 2007 | E15: (jr) | F15: CRO | G15: OŠ Darda | H15: 12.9 | I15: 15 | J15: 15.5 | K15: 14.6 | L15: 15.5 | M15: 16.8 | N15: 11.7 | O15: 17.9 | P15: 16.2 | Q15: =SUM(H15:P15) -> 136.1 | R15: =LARGE(H15:P15,1)+LARGE(H15:P15,2)+LARGE(H15:P15,3) -> 50.9
A16: 17 | B16: 12 | C16: F1N | D16: Balaš, Mak 2011 | E16: (jr) | F16: CRO | G16: AK Osijek | H16: 18.8 | I16: 16.7 | J16: 4.9 | K16: 12.8 | L16: 3.4 | M16: 3.5 | N16: 12.9 | O16: 15.4 | P16: 10 | Q16: =SUM(H16:P16) -> 98.4 | R16: =LARGE(H16:P16,1)+LARGE(H16:P16,2)+LARGE(H16:P16,3) -> 50.9
A17: 18 | B17: 13 | C17: F1N | D17: Tolj, Stipe 2007 | E17: (jr) | F17: CRO | G17: OŠ Tenja | H17: 17.5 | I17: 7.7 | J17: 16.1 | K17: 14.8 | L17: 16 | M17: 16.6 | N17: 15.6 | O17: 3.4 | P17: 14.8 | Q17: =SUM(H17:P17) -> 122.5 | R17: =LARGE(H17:P17,1)+LARGE(H17:P17,2)+LARGE(H17:P17,3) -> 50.2
A18: 21 | B18: 14 | C18: F1N | D18: Večei, Borna 2009 | E18: (jr) | F18: CRO | G18: AK Osijek | H18: 16.7 | I18: 11.9 | J18: 14.2 | K18: 10.4 | L18: 11.5 | M18: 4.9 | N18: 18.9 | O18: 8.4 | P18: 4.7 | Q18: =SUM(H18:P18) -> 101.6 | R18: =LARGE(H18:P18,1)+LARGE(H18:P18,2)+LARGE(H18:P18,3) -> 49.8
A19: 22 | B19: 15 | C19: F1N | D19: Kantor, Filip 2010 | E19: (jr) | F19: CRO | G19: AK Požega 1 | H19: 11.5 | I19: 13.9 | J19: 13.7 | K19: 5.2 | L19: 13 | M19: 3.4 | N19: 15.9 | O19: 17.2 | P19: 12.7 | Q19: =SUM(H19:P19) -> 106.5 | R19: =LARGE(H19:P19,1)+LARGE(H19:P19,2)+LARGE(H19:P19,3) -> 47
A20: 23 | B20: 16 | C20: F1N | D20: Last, Bruno 2006. | E20: (jr) | F20: CRO | G20: AK Požega 2 | H20: 6.6 | I20: 12.6 | J20: 13.9 | K20: 16 | L20: 14.5 | M20: 4.1 | N20: 13.6 | O20: 16 | P20: 14.6 | Q20: =SUM(H20:P20) -> 111.9 | R20: =LARGE(H20:P20,1)+LARGE(H20:P20,2)+LARGE(H20:P20,3) -> 46.6
A21: 24 | B21: 17 | C21: F1N | D21: Radanović, Aleksandar 2008 | E21: (jr) | F21: CRO | G21: OŠ Darda | H21: 15.1 | I21: 12.6 | J21: 17.5 | K21: 10.6 | L21: 9.3 | M21: 7.7 | N21: 12.1 | O21: 12.6 | P21: 10.9 | Q21: =SUM(H21:P21) -> 108.4 | R21: =LARGE(H21:P21,1)+LARGE(H21:P21,2)+LARGE(H21:P21,3) -> 45.2
... A36: 47 | B36: 32 | C36: F1N | D36: Rešetar, Jakov 2020. | E36: (jr) | F36: CRO | G36: CTK Čeminac | H36: 3.1 | I36: 4.7 | J36: 3.3 | K36: 4.2 | L36: 3.2 | M36: 4.1 | N36: 4.2 | O36: 4.8 | P36: 4.1 | Q36: =SUM(H36:P36) -> 35.7 | R36: =LARGE(H36:P36,1)+LARGE(H36:P36,2)+LARGE(H36:P36,3) -> 13.7

Sheet GrupeF1N150
C1: Competition: | D1: =+F1N!E2 -> 0
C2: Class: | D2: =+F1N!E3 -> 0
C3: Organizer: | D3: =+F1N!#REF! -> #REF!
C4: Data and Place: | D4: =+F1N!#REF! -> #REF!
B6: Grupa: | C6: Ime: | D6: Dozvola: | E6: Klub: | G6: F1N150
B7: 1
A8: 1 | B8: =+F1N150!#REF! -> #REF! | C8: =+F1N150!#REF! -> #REF! | D8: =+F1N150!#REF! -> #REF! | E8: =+F1N150!#REF! -> #REF!
A9: 2 | B9: =+F1N150!#REF! -> #REF! | C9: =+F1N150!#REF! -> #REF! | D9: =+F1N150!#REF! -> #REF! | E9: =+F1N150!#REF! -> #REF!
A10: 3 | B10: =+F1N150!B6 -> 1 | C10: =+F1N150!D6 -> Zobec, Vilim | D10: =+F1N150!E6 -> 0 | E10: =+F1N150!G6 -> AMK Karlovac
B12: 2
A13: 1 | B13: =+F1N150!B7 -> 2 | C13: =+F1N150!D7 -> Nišević, Igor | D13: =+F1N150!E7 -> 0 | E13: =+F1N150!G7 -> AK Osijek
A14: 2 | B14: =+F1N150!#REF! -> #REF! | C14: =+F1N150!#REF! -> #REF! | D14: =+F1N150!#REF! -> #REF! | E14: =+F1N150!#REF! -> #REF!
A15: 3 | B15: =+F1N150!B8 -> 3 | C15: =+F1N150!D8 -> Špehar, Dominik | D15: =+F1N150!E8 -> 0 | E15: =+F1N150!G8 -> MK Zaprešić
B17: 3
A18: 1 | B18: =+F1N150!B9 -> 4 | C18: =+F1N150!D9 -> Glogoški, Filip | D18: =+F1N150!E9 -> 0 | E18: =+F1N150!G9 -> AK Osijek
A19: 2 | B19: =+F1N150!B10 -> 5 | C19: =+F1N150!D10 -> Ozimec, Mirjana | D19: =+F1N150!E10 -> 0 | E19: =+F1N150!G10 -> AMK Sisak
A20: 3 | B20: =+F1N150!#REF! -> #REF! | C20: =+F1N150!#REF! -> #REF! | D20: =+F1N150!#REF! -> #REF! | E20: =+F1N150!#REF! -> #REF!
B22: 4
A23: 1 | B23: =+F1N150!B11 -> 6 | C23: =+F1N150!D11 -> Rešetar, Josip 2006 | D23: =+F1N150!E11 -> (jr) | E23: =+F1N150!G11 -> CTK Čeminac
A24: 2 | B24: =+F1N150!#REF! -> #REF! | C24: =+F1N150!#REF! -> #REF! | D24: =+F1N150!#REF! -> #REF! | E24: =+F1N150!#REF! -> #REF!
A25: 3 | B25: =+F1N150!B12 -> 7 | C25: =+F1N150!D12 -> Orkić, Filip oš | D25: =+F1N150!E12 -> (jr) | E25: =+F1N150!G12 -> AK Brod
B27: 5
A28: 1 | B28: =+F1N150!B13 -> 8 | C28: =+F1N150!D13 -> Capan, Ivan 2005 | D28: =+F1N150!E13 -> (jr) | E28: =+F1N150!G13 -> OŠ Tenja
A29: 2 | B29: =+F1N150!B14 -> 9 | C29: =+F1N150!D14 -> Ozimec, Darko | D29: =+F1N150!E14 -> 0 | E29: =+F1N150!G14 -> AMK Sisak
A30: 3 | B30: =+F1N150!B15 -> 10 | C30: =+F1N150!D15 -> Zobec, Borna 2008 | D30: =+F1N150!E15 -> (jr) | E30: =+F1N150!G15 -> AK Karlovac
B32: 6
A33: 1 | B33: =+F1N150!B16 -> 11 | C33: =+F1N150!D16 -> Šikić, Antun | E33: =+F1N150!G16 -> AK Osijek
A34: 2 | B34: =+F1N150!B17 -> 12 | C34: =+F1N150!D17 -> Radanović, Aleksandar 2008 | D34: =+F1N150!E17 -> (jr) | E34: =+F1N150!G17 -> OŠ Darda
A35: 3 | B35: =+F1N150!B18 -> 13 | C35: =+F1N150!D18 -> Radić, Mihaela 2007 | D35: =+F1N150!E18 -> (jr) | E35: =+F1N150!G18 -> AK Osijek
B37: 7
A38: 1 | B38: =+F1N150!#REF! -> #REF! | C38: =+F1N150!#REF! -> #REF! | D38: =+F1N150!#REF! -> #REF! | E38: =+F1N150!#REF! -> #REF!
A39: 2 | B39: =+F1N150!B19 -> 14 | C39: =+F1N150!D19 -> Balaš, Mak 2011 | D39: =+F1N150!E19 -> (jr) | E39: =+F1N150!G19 -> AK Osijek
A40: 3 | B40: =+F1N150!B20 -> 15 | C40: =+F1N150!D20 -> Last, Bruno 2006. | D40: =+F1N150!E20 -> (jr) | E40: =+F1N150!G20 -> AK Požega 2
B42: 8
A43: 1 | B43: =+F1N150!B21 -> 16 | C43: =+F1N150!D21 -> Lač , Lara 2009 | D43: =+F1N150!E21 -> (jr) | E43: =+F1N150!G21 -> CTK Čeminac
A44: 2 | B44: =+F1N150!B22 -> 17 | C44: =+F1N150!D22 -> Košević, Marko 2007 | D44: =+F1N150!E22 -> (jr) | E44: =+F1N150!G22 -> OŠ Darda
A45: 3 | B45: =+F1N150!B23 -> 18 | C45: =+F1N150!D23 -> Bitunjac, Roko oš | D45: =+F1N150!E23 -> (jr) | E45: =+F1N150!G23 -> AK Brod
B47: 9
A48: 1 | B48: =+F1N150!#REF! -> #REF! | C48: =+F1N150!#REF! -> #REF! | D48: =+F1N150!#REF! -> #REF! | E48: =+F1N150!#REF! -> #REF!
A49: 2 | B49: =+F1N150!#REF! -> #REF! | C49: =+F1N150!#REF! -> #REF! | D49: =+F1N150!#REF! -> #REF! | E49: =+F1N150!#REF! -> #REF!
A50: 3 | B50: =+F1N150!B24 -> 19 | C50: =+F1N150!D24 -> Orkić, David oš | D50: =+F1N150!E24 -> (jr) | E50: =+F1N150!G24 -> AK Brod
B53: 10
A54: 1 | B54: =+F1N150!B25 -> 20 | C54: =+F1N150!D25 -> Pajkurić, Dominik 2005 % | D54: =+F1N150!E25 -> (jr) | E54: =+F1N150!G25 -> AK Osijek
A55: 2 | B55: =+F1N150!#REF! -> #REF! | C55: =+F1N150!#REF! -> #REF! | D55: =+F1N150!#REF! -> #REF! | E55: =+F1N150!#REF! -> #REF!
A56: 3 | B56: =+F1N150!B26 -> 21 | C56: =+F1N150!D26 -> Hržica, Fran Tvrtko 2011 | D56: =+F1N150!E26 -> (jr) | E56: =+F1N150!G26 -> AK Osijek
B58: 11
A59: 1 | B59: =+F1N150!B27 -> 22 | C59: =+F1N150!D27 -> Ašičić, Lara 2008 | D59: =+F1N150!E27 -> (jr) | E59: =+F1N150!G27 -> OŠ Tenja
A60: 2 | B60: =+F1N150!#REF! -> #REF! | C60: =+F1N150!#REF! -> #REF! | D60: =+F1N150!#REF! -> #REF! | E60: =+F1N150!#REF! -> #REF!
A61: 3 | B61: =+F1N150!B28 -> 23 | C61: =+F1N150!D28 -> Lač , Nera 2011 | D61: =+F1N150!E28 -> (jr) | E61: =+F1N150!G28 -> AK Osijek
B65: 12
A66: 1 | B66: =+F1N150!B29 -> 24 | C66: =+F1N150!D29 -> Kantor, Filip 2010 | D66: =+F1N150!E29 -> (jr) | E66: =+F1N150!G29 -> AK Požega 1
A67: 2 | B67: =+F1N150!#REF! -> #REF! | C67: =+F1N150!#REF! -> #REF! | D67: =+F1N150!#REF! -> #REF! | E67: =+F1N150!#REF! -> #REF!
A68: 3 | B68: =+F1N150!#REF! -> #REF! | C68: =+F1N150!#REF! -> #REF! | D68: =+F1N150!#REF! -> #REF! | E68: =+F1N150!#REF! -> #REF!
B70: 13
A71: 1 | B71: =+F1N150!B30 -> 25 | C71: =+F1N150!D30 -> Večei, Borna 2009 | D71: =+F1N150!E30 -> (jr) | E71: =+F1N150!G30 -> AK Osijek
A72: 2 | B72: =+F1N150!B31 -> 26 | C72: =+F1N150!D31 -> Last, Ivan 2010. | D72: =+F1N150!E31 -> (jr) | E72: =+F1N150!G31 -> AK Požega 1
A73: 3 | B73: =+F1N150!#REF! -> #REF! | C73: =+F1N150!#REF! -> #REF! | D73: =+F1N150!#REF! -> #REF! | E73: =+F1N150!#REF! -> #REF!
B75: 14
A76: 1 | B76: =+F1N150!B32 -> 27 | C76: =+F1N150!D32 -> Tufeković, Antonio 2008 # | D76: =+F1N150!E32 -> (jr) | E76: =+F1N150!G32 -> OŠ Tenja
A77: 2 | B77: =+F1N150!B33 -> 28 | C77: =+F1N150!D33 -> Rajić, Antun 2010. | D77: =+F1N150!E33 -> (jr) | E77: =+F1N150!G33 -> AK Požega 2
A78: 3 | B78: =+F1N150!#REF! -> #REF! | C78: =+F1N150!#REF! -> #REF! | D78: =+F1N150!#REF! -> #REF! | E78: =+F1N150!#REF! -> #REF!
B80: 15
A81: 1 | B81: =+F1N150!B34 -> 29 | C81: =+F1N150!D34 -> Marinović, Lovro 2010. | D81: =+F1N150!E34 -> (jr) | E81: =+F1N150!G34 -> AK Požega 1
A82: 2 | B82: =+F1N150!#REF! -> #REF! | C82: =+F1N150!#REF! -> #REF! | D82: =+F1N150!#REF! -> #REF! | E82: =+F1N150!#REF! -> #REF!
A83: 3 | B83: =+F1N150!B35 -> 30 | C83: =+F1N150!D35 -> Rešetar, Jakov 2020. | D83: =+F1N150!E35 -> (jr) | E83: =+F1N150!G35 -> CTK Čeminac
B85: 16
A86: 1 | B86: =+F1N150!B36 -> 31 | C86: =+F1N150!D36 -> Drlje, Marko 2007 | D86: =+F1N150!E36 -> (jr) | E86: =+F1N150!G36 -> OŠ Darda
A87: 2 | B87: =+F1N150!B37 -> 32 | C87: =+F1N150!D37 -> Keller, Max 2010 | D87: =+F1N150!E37 -> (jr) | E87: =+F1N150!G37 -> AK Požega 2
A88: 3 | B88: =+F1N150!B38 -> 33 | C88: =+F1N150!D38 -> Tadić, Mariano 2008 | D88: =+F1N150!E38 -> (jr) | E88: =+F1N150!G38 -> AK Osijek
B90: 17
A91: 1 | B91: =+F1N150!B39 -> 34 | C91: =+F1N150!D39 -> Tolj, Stipe 2007 | D91: =+F1N150!E39 -> (jr) | E91: =+F1N150!G39 -> OŠ Tenja
A92: 2 | B92: =+F1N150!B40 -> 0 | C92: =+F1N150!D40 -> 0 | D92: =+F1N150!E40 -> 0 | E92: =+F1N150!G40 -> 0
A93: 3 | B93: =+F1N150!B41 -> 0 | C93: =+F1N150!D41 -> 0 | D93: =+F1N150!E41 -> 0 | E93: =+F1N150!G41 -> 0
B95: 18
A96: 1 | B96: =+F1N150!B42 -> 0 | C96: =+F1N150!D42 -> 0 | D96: =+F1N150!E42 -> 0 | E96: =+F1N150!G42 -> 0
A97: 2 | B97: =+F1N150!B43 -> 0 | C97: =+F1N150!D43 -> 0 | D97: =+F1N150!E43 -> 0 | E97: =+F1N150!G43 -> 0
A98: 3 | B98: =+F1N150!B44 -> 0 | C98: =+F1N150!D44 -> 0 | D98: =+F1N150!E44 -> 0 | E98: =+F1N150!G44 -> 0
B104: 19
A105: 1 | B105: =+F1N150!B45 -> 0 | C105: =+F1N150!D45 -> 0 | D105: =+F1N150!E45 -> 0 | E105: =+F1N150!G45 -> 0
A106: 2 | B106: =+F1N150!B46 -> 0 | C106: =+F1N150!D46 -> 0 | D106: =+F1N150!E46 -> 0 | E106: =+F1N150!G46 -> 0
A107: 3 | B107: =+F1N150!B47 -> 0 | C107: =+F1N150!D47 -> 0 | D107: =+F1N150!E47 -> 0 | E107: =+F1N150!G47 -> 0
B110: 20
A111: 1 | B111: =+F1N150!B48 -> 0 | C111: =+F1N150!D48 -> 0 | D111: =+F1N150!E48 -> 0 | E111: =+F1N150!G48 -> 0
A112: 2 | B112: =+F1N150!B49 -> 0 | C112: =+F1N150!D49 -> 0 | D112: =+F1N150!E49 -> 0 | E112: =+F1N150!G49 -> 0
A113: 3 | B113: =+F1N150!B50 -> 0 | C113: =+F1N150!D50 -> 0 | D113: =+F1N150!E50 -> 0 | E113: =+F1N150!G50 -> 0
B115: 21
A116: 1 | B116: =+F1N150!B51 -> 0 | C116: =+F1N150!D51 -> 0 | D116: =+F1N150!E51 -> 0 | E116: =+F1N150!G51 -> 0
A117: 2 | B117: =+F1N150!B52 -> 0 | C117: =+F1N150!D52 -> 0 | D117: =+F1N150!E52 -> 0 | E117: =+F1N150!G52 -> 0
A118: 3 | B118: =+F1N150!B53 -> 0 | C118: =+F1N150!D53 -> 0 | D118: =+F1N150!E53 -> 0 | E118: =+F1N150!G53 -> 0
B120: 22
A121: 1 | B121: =+F1N150!B54 -> 0 | C121: =+F1N150!D54 -> 0 | D121: =+F1N150!E54 -> 0 | E121: =+F1N150!G54 -> 0
A122: 2 | B122: =+F1N150!B55 -> 0 | C122: =+F1N150!D55 -> 0 | D122: =+F1N150!E55 -> 0 | E122: =+F1N150!G55 -> 0
A123: 3 | B123: =+F1N150!B56 -> 0 | C123: =+F1N150!D56 -> 0 | D123: =+F1N150!E56 -> 0 | E123: =+F1N150!G56 -> 0
B125: 23
A126: 1 | B126: =+F1N150!B57 -> 0 | C126: =+F1N150!D57 -> 0 | D126: =+F1N150!E57 -> 0 | E126: =+F1N150!G57 -> 0
A127: 2 | B127: =+F1N150!B58 -> 0 | C127: =+F1N150!D58 -> 0 | D127: =+F1N150!E58 -> 0 | E127: =+F1N150!G58 -> 0
A128: 3 | B128: =+F1N150!B59 -> 0 | C128: =+F1N150!D59 -> 0 | D128: =+F1N150!E59 -> 0 | E128: =+F1N150!G59 -> 0
B131: 24
A132: 1 | B132: =+F1N150!B60 -> 0 | C132: =+F1N150!D60 -> 0 | D132: =+F1N150!E60 -> 0 | E132: =+F1N150!G60 -> 0
A133: 2 | B133: =+F1N150!B61 -> 0 | C133: =+F1N150!D61 -> 0 | D133: =+F1N150!E61 -> 0 | E133: =+F1N150!G61 -> 0
...

Sheet GrupeF1N
A1: 1 | B1: Bitunjac, Roko oš | C1: (jr) | D1: CRO | E1: AK Brod | H1: 1
A2: 2 | B2: Orkić, David oš | C2: (jr) | D2: CRO | E2: AK Brod | H2: 1
A3: 3 | B3: Orkić, Filip oš | C3: (jr) | D3: CRO | E3: AK Brod | H3: 1
A4: 4 | B4: Zobec, Borna 2008 | C4: (jr) | D4: CRO | E4: AK Karlovac | F4: F-102 | G4: 107654 | H4: 1
A5: 5 | B5: Balaš, Mak 2011 = | C5: (jr) | D5: CRO | E5: AK Osijek | H5: 0
A6: 6 | B6: Glogoški, Filip | D6: CRO | E6: AK Osijek | H6: 0
A7: 7 | B7: Hržica, Fran Tvrtko 20011 = | C7: (jr) | D7: CRO | E7: AK Osijek | H7: 0
A8: 8 | B8: Lač , Nera 2011 = | C8: (jr) | D8: CRO | E8: AK Osijek | H8: 0
A9: 9 | B9: Lešković, Josip 2014 | C9: (jr) | D9: CRO | E9: AK Osijek | H9: 0
A10: 10 | B10: Nišević, Igor | D10: CRO | E10: AK Osijek | F10: F-039 | H10: 0
A11: 11 | B11: Pajkurić, Dominik 2005 % | C11: (jr) | D11: CRO | E11: AK Osijek | H11: 0
A12: 12 | B12: Radić, Mihaela 2007 & | C12: (jr) | D12: CRO | E12: AK Osijek | H12: 0
A13: 13 | B13: Šikić, Antun | D13: CRO | E13: AK Osijek | H13: 0
A14: 14 | B14: Tadić, Mariano 2008 % | C14: (jr) | D14: CRO | E14: AK Osijek | H14: 0
A15: 15 | B15: Večei, Borna 2009 % | C15: (jr) | D15: CRO | E15: AK Osijek | H15: 0
A16: 16 | B16: Kantor, Filip 2010 | C16: (jr) | D16: CRO | E16: AK Požega 1 | H16: 0
A17: 17 | B17: Last, Ivan 2010. | C17: (jr) | D17: CRO | E17: AK Požega 1 | H17: 0
A18: 18 | B18: Marinović, Lovro 2010. | C18: (jr) | D18: CRO | E18: AK Požega 1 | H18: 0
A19: 19 | B19: Keller, Max 2010 | C19: (jr) | D19: CRO | E19: AK Požega 2 | H19: 0
A20: 20 | B20: Last, Bruno 2006. | C20: (jr) | D20: CRO | E20: AK Požega 2 | H20: 0
A21: 21 | B21: Rajić, Antun 2010. | C21: (jr) | D21: CRO | E21: AK Požega 2 | H21: 0
A22: 22 | B22: Zobec, Vilim | D22: CRO | E22: AMK Karlovac | F22: F-028 | G22: 65366 | H22: 1
A23: 23 | B23: Ozimec, Darko | D23: CRO | E23: AMK Sisak | F23: F-087 | H23: 0
A24: 24 | B24: Ozimec, Mirjana | D24: CRO | E24: AMK Sisak | F24: F-088 | H24: 1
A25: 25 | B25: Lač , Lara 2009 & | C25: (jr) | D25: CRO | E25: CK Čeminac | H25: 0
A26: 26 | B26: Rešetar, Josip 2006 & | C26: (jr) | D26: CRO | E26: CK Čeminac | H26: 0
A27: 27 | B27: Rešetar, Jakov 2020. | C27: (jr) | D27: CRO | E27: CTK Čeminac | H27: 0
A28: 28 | B28: Špehar, Dominik | D28: CRO | E28: MK Zaprešić | F28: F 007 | H28: 0
A29: 29 | B29: Capan, Ivan 2005 $ | C29: (jr) | D29: CRO | E29: OŠ Darda | H29: 0
A30: 30 | B30: Drlje, Marko 2007 | C30: (jr) | D30: CRO | E30: OŠ Darda | H30: 0
A31: 31 | B31: Košević, Marko 2007 | C31: (jr) | D31: CRO | E31: OŠ Darda | H31: 0
A32: 32 | B32: Radanović, Aleksandar 2008 | C32: (jr) | D32: CRO | E32: OŠ Darda | H32: 0
A33: 33 | B33: Tarcal, Stjepan 2008 $ | C33: (jr) | D33: CRO | E33: OŠ Darda | H33: 0
A34: 34 | B34: Tolj, Stipe 2007 $ | C34: (jr) | D34: CRO | E34: OŠ Darda | H34: 0
A35: 35 | B35: Tufeković, Antonio 2008 # | C35: (jr) | D35: CRO | E35: OŠ Darda | H35: 0
A36: 36 | B36: Ašičić, Lara 2008 # | C36: (jr) | D36: CRO | E36: OŠ Tenja | H36: 0
A37: 37 | B37: Puđa , Marin 20o7 # | C37: (jr) | D37: CRO | E37: OŠ Tenja | H37: 0

Sheet Sudija1F1N150
C1: Competition: | D1: =+GrupeF1N!D1 -> CRO
C2: Class: | D2: =+GrupeF1N!D2 -> CRO
C3: Organizer: | D3: =+GrupeF1N!D3 -> CRO
C4: Data and Place: | D4: =+GrupeF1N!D4 -> CRO | G4: Sudija_1_F1N150
B6: Grupa: | C6: Ime: | D6: Dozvola: | E6: Klub: | F6: 1 | G6: 2 | H6: 3
B7: 1
A8: 1 | B8: =+GrupeF1N150!B8 -> #REF! | C8: =+GrupeF1N150!C8 -> #REF! | D8: =+GrupeF1N150!D8 -> #REF! | E8: =+GrupeF1N150!E8 -> #REF!
A9: 2
A10: 3
B12: 2
A13: 1 | B13: =+GrupeF1N150!B13 -> 2 | C13: =+GrupeF1N150!C13 -> Nišević, Igor | D13: =+GrupeF1N150!D13 -> 0 | E13: =+GrupeF1N150!E13 -> AK Osijek
A14: 2
A15: 3
B17: 3
A18: 1 | B18: =+GrupeF1N150!B18 -> 4 | C18: =+GrupeF1N150!C18 -> Glogoški, Filip | D18: =+GrupeF1N150!D18 -> 0 | E18: =+GrupeF1N150!E18 -> AK Osijek
A19: 2
A20: 3
B22: 4
A23: 1 | B23: =+GrupeF1N150!B23 -> 6 | C23: =+GrupeF1N150!C23 -> Rešetar, Josip 2006 | D23: =+GrupeF1N150!D23 -> (jr) | E23: =+GrupeF1N150!E23 -> CTK Čeminac
A24: 2
A25: 3
B27: 5
A28: 1 | B28: =+GrupeF1N150!B28 -> 8 | C28: =+GrupeF1N150!C28 -> Capan, Ivan 2005 | D28: =+GrupeF1N150!D28 -> (jr) | E28: =+GrupeF1N150!E28 -> OŠ Tenja
A29: 2
A30: 3
B32: 6
A33: 1 | B33: =+GrupeF1N150!B33 -> 11 | C33: =+GrupeF1N150!C33 -> Šikić, Antun | E33: =+GrupeF1N150!E33 -> AK Osijek
A34: 2
A35: 3
B37: 7
A38: 1 | B38: =+GrupeF1N150!B38 -> #REF! | C38: =+GrupeF1N150!C38 -> #REF! | D38: =+GrupeF1N150!D38 -> #REF! | E38: =+GrupeF1N150!E38 -> #REF!
A39: 2
A40: 3
B42: 8
A43: 1 | B43: =+GrupeF1N150!B43 -> 16 | C43: =+GrupeF1N150!C43 -> Lač , Lara 2009 | D43: =+GrupeF1N150!D43 -> (jr) | E43: =+GrupeF1N150!E43 -> CTK Čeminac
A44: 2
A45: 3
B47: 9
A48: 1 | B48: =+GrupeF1N150!B48 -> #REF! | C48: =+GrupeF1N150!C48 -> #REF! | D48: =+GrupeF1N150!D48 -> #REF! | E48: =+GrupeF1N150!E48 -> #REF!
A49: 2
A50: 3
B55: 10
A56: 1 | B56: =+GrupeF1N150!B54 -> 20 | C56: =+GrupeF1N150!C54 -> Pajkurić, Dominik 2005 % | D56: =+GrupeF1N150!D54 -> (jr) | E56: =+GrupeF1N150!E54 -> AK Osijek
A57: 2
A58: 3
B60: 11
A61: 1 | B61: =+GrupeF1N150!B59 -> 22 | C61: =+GrupeF1N150!C59 -> Ašičić, Lara 2008 | D61: =+GrupeF1N150!D59 -> (jr) | E61: =+GrupeF1N150!E59 -> OŠ Tenja
A62: 2
A63: 3
B65: 12
A66: 1 | B66: =+GrupeF1N150!B66 -> 24 | C66: =+GrupeF1N150!C66 -> Kantor, Filip 2010 | D66: =+GrupeF1N150!D66 -> (jr) | E66: =+GrupeF1N150!E66 -> AK Požega 1
A67: 2
A68: 3
B70: 13
A71: 1 | B71: =+GrupeF1N150!B71 -> 25 | C71: =+GrupeF1N150!C71 -> Večei, Borna 2009 | D71: =+GrupeF1N150!D71 -> (jr) | E71: =+GrupeF1N150!E71 -> AK Osijek
A72: 2
A73: 3
B75: 14
A76: 1 | B76: =+GrupeF1N150!B76 -> 27 | C76: =+GrupeF1N150!C76 -> Tufeković, Antonio 2008 # | D76: =+GrupeF1N150!D76 -> (jr) | E76: =+GrupeF1N150!E76 -> OŠ Tenja
A77: 2
A78: 3
B80: 15
A81: 1 | B81: =+GrupeF1N150!B81 -> 29 | C81: =+GrupeF1N150!C81 -> Marinović, Lovro 2010. | D81: =+GrupeF1N150!D81 -> (jr) | E81: =+GrupeF1N150!E81 -> AK Požega 1
A82: 2
A83: 3
B85: 16
A86: 1 | B86: =+GrupeF1N150!B86 -> 31 | C86: =+GrupeF1N150!C86 -> Drlje, Marko 2007 | D86: =+GrupeF1N150!D86 -> (jr) | E86: =+GrupeF1N150!E86 -> OŠ Darda
A87: 2
A88: 3
B90: 17
A91: 1 | B91: =+GrupeF1N150!B91 -> 34 | C91: =+GrupeF1N150!C91 -> Tolj, Stipe 2007 | D91: =+GrupeF1N150!D91 -> (jr) | E91: =+GrupeF1N150!E91 -> OŠ Tenja
A92: 2
A93: 3
B95: 18
A96: 1 | B96: =+GrupeF1N150!B96 -> 0 | C96: =+GrupeF1N150!C96 -> 0 | D96: =+GrupeF1N150!D96 -> 0 | E96: =+GrupeF1N150!E96 -> 0
A97: 2
A98: 3
B100: 19
A101: 1 | B101: =+GrupeF1N150!B105 -> 0 | C101: =+GrupeF1N150!C105 -> 0 | D101: =+GrupeF1N150!D105 -> 0 | E101: =+GrupeF1N150!E105 -> 0
A102: 2
A103: 3
B108: 20
A109: 1 | B109: =+GrupeF1N150!B111 -> 0 | C109: =+GrupeF1N150!C111 -> 0 | D109: =+GrupeF1N150!D111 -> 0 | E109: =+GrupeF1N150!E111 -> 0
A110: 2
A111: 3
B113: 21
A114: 1 | B114: =+GrupeF1N150!B116 -> 0 | C114: =+GrupeF1N150!C116 -> 0 | D114: =+GrupeF1N150!D116 -> 0 | E114: =+GrupeF1N150!E116 -> 0
A115: 2
A116: 3
B118: 22
A119: 1 | B119: =+GrupeF1N150!B121 -> 0 | C119: =+GrupeF1N150!C121 -> 0 | D119: =+GrupeF1N150!D121 -> 0 | E119: =+GrupeF1N150!E121 -> 0
A120: 2
A121: 3
B123: 23
A124: 1 | B124: =+GrupeF1N150!B126 -> 0 | C124: =+GrupeF1N150!C126 -> 0 | D124: =+GrupeF1N150!D126 -> 0 | E124: =+GrupeF1N150!E126 -> 0
A125: 2
A126: 3
B128: 24
A129: 1 | B129: =+GrupeF1N150!B132 -> 0 | C129: =+GrupeF1N150!C132 -> 0 | D129: =+GrupeF1N150!D132 -> 0 | E129: =+GrupeF1N150!E132 -> 0
A130: 2
...

Sheet Sudija2F1N150
C1: Competition: | D1: =+Sudija1F1N150!D1 -> CRO
C2: Class: | D2: =+Sudija1F1N150!D2 -> CRO
C3: Organizer: | D3: =+Sudija1F1N150!D3 -> CRO
C4: Data and Place: | D4: =+Sudija1F1N150!D4 -> CRO | G4: Sudija_2_F1N150
B6: Grupa: | C6: Ime: | D6: Dozvola: | E6: Klub: | F6: 1 | G6: 2 | H6: 3
B7: 1
A8: 1
A9: 2 | B9: =+GrupeF1N150!B9 -> #REF! | C9: =+GrupeF1N150!C9 -> #REF! | D9: =+GrupeF1N150!D9 -> #REF! | E9: =+GrupeF1N150!E9 -> #REF!
A10: 3
B12: 2
A13: 1
A14: 2 | B14: =+GrupeF1N150!B14 -> #REF! | C14: =+GrupeF1N150!C14 -> #REF! | D14: =+GrupeF1N150!D14 -> #REF! | E14: =+GrupeF1N150!E14 -> #REF!
A15: 3
B17: 3
A18: 1
A19: 2 | B19: =+GrupeF1N150!B19 -> 5 | C19: =+GrupeF1N150!C19 -> Ozimec, Mirjana | D19: =+GrupeF1N150!D19 -> 0 | E19: =+GrupeF1N150!E19 -> AMK Sisak
A20: 3
B22: 4
A23: 1
A24: 2 | B24: =+GrupeF1N150!B24 -> #REF! | C24: =+GrupeF1N150!C24 -> #REF! | D24: =+GrupeF1N150!D24 -> #REF! | E24: =+GrupeF1N150!E24 -> #REF!
A25: 3
B27: 5
A28: 1
A29: 2 | B29: =+GrupeF1N150!B29 -> 9 | C29: =+GrupeF1N150!C29 -> Ozimec, Darko | D29: =+GrupeF1N150!D29 -> 0 | E29: =+GrupeF1N150!E29 -> AMK Sisak
A30: 3
B32: 6
A33: 1
A34: 2 | B34: =+GrupeF1N150!B34 -> 12 | C34: =+GrupeF1N150!C34 -> Radanović, Aleksandar 2008 | D34: =+GrupeF1N150!D34 -> (jr) | E34: =+GrupeF1N150!E34 -> OŠ Darda
A35: 3
B37: 7
A38: 1
A39: 2 | B39: =+GrupeF1N150!B39 -> 14 | C39: =+GrupeF1N150!C39 -> Balaš, Mak 2011 | D39: =+GrupeF1N150!D39 -> (jr) | E39: =+GrupeF1N150!E39 -> AK Osijek
A40: 3
B42: 8
A43: 1
A44: 2 | B44: =+GrupeF1N150!B44 -> 17 | C44: =+GrupeF1N150!C44 -> Košević, Marko 2007 | D44: =+GrupeF1N150!D44 -> (jr) | E44: =+GrupeF1N150!E44 -> OŠ Darda
A45: 3
B47: 9
A48: 1
A49: 2 | B49: =+GrupeF1N150!B49 -> #REF! | C49: =+GrupeF1N150!C49 -> #REF! | D49: =+GrupeF1N150!D49 -> #REF! | E49: =+GrupeF1N150!E49 -> #REF!
A50: 3
B56: 10
A57: 1
A58: 2 | B58: =+GrupeF1N150!B55 -> #REF! | C58: =+GrupeF1N150!C55 -> #REF! | D58: =+GrupeF1N150!D55 -> #REF! | E58: =+GrupeF1N150!E55 -> #REF!
A59: 3
B61: 11
A62: 1
A63: 2 | B63: =+GrupeF1N150!B60 -> #REF! | C63: =+GrupeF1N150!C60 -> #REF! | D63: =+GrupeF1N150!D60 -> #REF! | E63: =+GrupeF1N150!E60 -> #REF!
A64: 3
B66: 12
A67: 1
A68: 2 | B68: =+GrupeF1N150!B67 -> #REF! | C68: =+GrupeF1N150!C67 -> #REF! | D68: =+GrupeF1N150!D67 -> #REF! | E68: =+GrupeF1N150!E67 -> #REF!
A69: 3
B71: 13
A72: 1
A73: 2 | B73: =+GrupeF1N150!B72 -> 26 | C73: =+GrupeF1N150!C72 -> Last, Ivan 2010. | D73: =+GrupeF1N150!D72 -> (jr) | E73: =+GrupeF1N150!E72 -> AK Požega 1
A74: 3
B76: 14
A77: 1
A78: 2 | B78: =+GrupeF1N150!B77 -> 28 | C78: =+GrupeF1N150!C77 -> Rajić, Antun 2010. | D78: =+GrupeF1N150!D77 -> (jr) | E78: =+GrupeF1N150!E77 -> AK Požega 2
A79: 3
B81: 14
A82: 1
A83: 2 | B83: =+GrupeF1N150!B82 -> #REF! | C83: =+GrupeF1N150!C82 -> #REF! | D83: =+GrupeF1N150!D82 -> #REF! | E83: =+GrupeF1N150!E82 -> #REF!
A84: 3
B86: 16
A87: 1
A88: 2 | B88: =+GrupeF1N150!B87 -> 32 | C88: =+GrupeF1N150!C87 -> Keller, Max 2010 | D88: =+GrupeF1N150!D87 -> (jr) | E88: =+GrupeF1N150!E87 -> AK Požega 2
A89: 3
B91: 17
A92: 1
A93: 2 | B93: =+GrupeF1N150!B92 -> 0 | C93: =+GrupeF1N150!C92 -> 0 | D93: =+GrupeF1N150!D92 -> 0 | E93: =+GrupeF1N150!E92 -> 0
A94: 3
B96: 18
A97: 1
A98: 2 | B98: =+GrupeF1N150!B97 -> 0 | C98: =+GrupeF1N150!C97 -> 0 | D98: =+GrupeF1N150!D97 -> 0 | E98: =+GrupeF1N150!E97 -> 0
A99: 3
B101: 19
A102: 1
A103: 2 | B103: =+GrupeF1N150!B106 -> 0 | C103: =+GrupeF1N150!C106 -> 0 | D103: =+GrupeF1N150!D106 -> 0 | E103: =+GrupeF1N150!E106 -> 0
A104: 3
B110: 20
A111: 1
A112: 2 | B112: =+GrupeF1N150!B112 -> 0 | C112: =+GrupeF1N150!C112 -> 0 | D112: =+GrupeF1N150!D112 -> 0 | E112: =+GrupeF1N150!E112 -> 0
A113: 3
B115: 21
A116: 1
A117: 2 | B117: =+GrupeF1N150!B117 -> 0 | C117: =+GrupeF1N150!C117 -> 0 | D117: =+GrupeF1N150!D117 -> 0 | E117: =+GrupeF1N150!E117 -> 0
A118: 3
B120: 22
A121: 1
A122: 2 | B122: =+GrupeF1N150!B122 -> 0 | C122: =+GrupeF1N150!C122 -> 0 | D122: =+GrupeF1N150!D122 -> 0 | E122: =+GrupeF1N150!E122 -> 0
A123: 3
B125: 23
A126: 1
A127: 2 | B127: =+GrupeF1N150!B127 -> 0 | C127: =+GrupeF1N150!C127 -> 0 | D127: =+GrupeF1N150!D127 -> 0 | E127: =+GrupeF1N150!E127 -> 0
A128: 3
B130: 24
A131: 1
A132: 2 | B132: =+GrupeF1N150!B133 -> 0 | C132: =+GrupeF1N150!C133 -> 0 | D132: =+GrupeF1N150!D133 -> 0 | E132: =+GrupeF1N150!E133 -> 0
...

Sheet Sudija3F1N150
C1: Competition: | D1: =+Sudija2F1N150!D1 -> CRO
C2: Class: | D2: =+Sudija2F1N150!D2 -> CRO
C3: Organizer: | D3: =+Sudija2F1N150!D3 -> CRO
C4: Data and Place: | D4: =+Sudija2F1N150!D4 -> CRO | G4: Sudija_3_F1N150
B6: Grupa: | C6: Ime: | D6: Dozvola: | E6: Klub: | F6: 1 | G6: 2 | H6: 3
B7: 1
A8: 1
A9: 2
A10: 3 | B10: =+GrupeF1N150!B10 -> 1 | C10: =+GrupeF1N150!C10 -> Zobec, Vilim | D10: =+GrupeF1N150!D10 -> 0 | E10: =+GrupeF1N150!E10 -> AMK Karlovac
B12: 2
A13: 1
A14: 2
A15: 3 | B15: =+GrupeF1N150!B15 -> 3 | C15: =+GrupeF1N150!C15 -> Špehar, Dominik | D15: =+GrupeF1N150!D15 -> 0 | E15: =+GrupeF1N150!E15 -> MK Zaprešić
B17: 3
A18: 1
A19: 2
A20: 3 | B20: =+GrupeF1N150!B20 -> #REF! | C20: =+GrupeF1N150!C20 -> #REF! | D20: =+GrupeF1N150!D20 -> #REF! | E20: =+GrupeF1N150!E20 -> #REF!
B22: 4
A23: 1
A24: 2
A25: 3 | B25: =+GrupeF1N150!B25 -> 7 | C25: =+GrupeF1N150!C25 -> Orkić, Filip oš | D25: =+GrupeF1N150!D25 -> (jr) | E25: =+GrupeF1N150!E25 -> AK Brod
B27: 5
A28: 1
A29: 2
A30: 3 | B30: =+GrupeF1N150!B30 -> 10 | C30: =+GrupeF1N150!C30 -> Zobec, Borna 2008 | D30: =+GrupeF1N150!D30 -> (jr) | E30: =+GrupeF1N150!E30 -> AK Karlovac
B33: 6
A34: 1
A35: 2
A36: 3 | B36: =+GrupeF1N150!B35 -> 13 | C36: =+GrupeF1N150!C35 -> Radić, Mihaela 2007 | D36: =+GrupeF1N150!D35 -> (jr) | E36: =+GrupeF1N150!E35 -> AK Osijek
B38: 7
A39: 1
A40: 2
A41: 3 | B41: =+GrupeF1N150!B40 -> 15 | C41: =+GrupeF1N150!C40 -> Last, Bruno 2006. | D41: =+GrupeF1N150!D40 -> (jr) | E41: =+GrupeF1N150!E40 -> AK Požega 2
B43: 8
A44: 1
A45: 2
A46: 3 | B46: =+GrupeF1N150!B45 -> 18 | C46: =+GrupeF1N150!C45 -> Bitunjac, Roko oš | D46: =+GrupeF1N150!D45 -> (jr) | E46: =+GrupeF1N150!E45 -> AK Brod
B48: 9
A49: 1
A50: 2
A51: 3 | B51: =+GrupeF1N150!B50 -> 19 | C51: =+GrupeF1N150!C50 -> Orkić, David oš | D51: =+GrupeF1N150!D50 -> (jr) | E51: =+GrupeF1N150!E50 -> AK Brod
B55: 10
A56: 1
A57: 2
A58: 3 | B58: =+GrupeF1N150!B56 -> 21 | C58: =+GrupeF1N150!C56 -> Hržica, Fran Tvrtko 2011 | D58: =+GrupeF1N150!D56 -> (jr) | E58: =+GrupeF1N150!E56 -> AK Osijek
B60: 11
A61: 1
A62: 2
A63: 3 | B63: =+GrupeF1N150!B61 -> 23 | C63: =+GrupeF1N150!C61 -> Lač , Nera 2011 | D63: =+GrupeF1N150!D61 -> (jr) | E63: =+GrupeF1N150!E61 -> AK Osijek
B65: 12
A66: 1
A67: 2
A68: 3 | B68: =+GrupeF1N150!B68 -> #REF! | C68: =+GrupeF1N150!C68 -> #REF! | D68: =+GrupeF1N150!D68 -> #REF! | E68: =+GrupeF1N150!E68 -> #REF!
B70: 13
A71: 1
A72: 2
A73: 3 | B73: =+GrupeF1N150!B73 -> #REF! | C73: =+GrupeF1N150!C73 -> #REF! | D73: =+GrupeF1N150!D73 -> #REF! | E73: =+GrupeF1N150!E73 -> #REF!
B75: 14
A76: 1
A77: 2
A78: 3 | B78: =+GrupeF1N150!B78 -> #REF! | C78: =+GrupeF1N150!C78 -> #REF! | D78: =+GrupeF1N150!D78 -> #REF! | E78: =+GrupeF1N150!E78 -> #REF!
B80: 15
A81: 1
A82: 2
A83: 3 | B83: =+GrupeF1N150!B83 -> 30 | C83: =+GrupeF1N150!C83 -> Rešetar, Jakov 2020. | D83: =+GrupeF1N150!D83 -> (jr) | E83: =+GrupeF1N150!E83 -> CTK Čeminac
B85: 16
A86: 1
A87: 2
A88: 3 | B88: =+GrupeF1N150!B88 -> 33 | C88: =+GrupeF1N150!C88 -> Tadić, Mariano 2008 | D88: =+GrupeF1N150!D88 -> (jr) | E88: =+GrupeF1N150!E88 -> AK Osijek
B90: 17
A91: 1
A92: 2
A93: 3 | B93: =+GrupeF1N150!B93 -> 0 | C93: =+GrupeF1N150!C93 -> 0 | D93: =+GrupeF1N150!D93 -> 0 | E93: =+GrupeF1N150!E93 -> 0
B95: 18
A96: 1
A97: 2
A98: 3 | B98: =+GrupeF1N150!B98 -> 0 | C98: =+GrupeF1N150!C98 -> 0 | D98: =+GrupeF1N150!D98 -> 0 | E98: =+GrupeF1N150!E98 -> 0
B100: 18
A101: 1
A102: 2
A103: 3 | B103: =+GrupeF1N150!B107 -> 0 | C103: =+GrupeF1N150!C107 -> 0 | D103: =+GrupeF1N150!D107 -> 0 | E103: =+GrupeF1N150!E107 -> 0
B108: 20
A109: 1
A110: 2
A111: 3 | B111: =+GrupeF1N150!B113 -> 0 | C111: =+GrupeF1N150!C113 -> 0 | D111: =+GrupeF1N150!D113 -> 0 | E111: =+GrupeF1N150!E113 -> 0
B113: 21
A114: 1
A115: 2
A116: 3 | B116: =+GrupeF1N150!B118 -> 0 | C116: =+GrupeF1N150!C118 -> 0 | D116: =+GrupeF1N150!D118 -> 0 | E116: =+GrupeF1N150!E118 -> 0
B118: 22
A119: 1
A120: 2
A121: 3 | B121: =+GrupeF1N150!B123 -> 0 | C121: =+GrupeF1N150!C123 -> 0 | D121: =+GrupeF1N150!D123 -> 0 | E121: =+GrupeF1N150!E123 -> 0
B123: 23
A124: 1
A125: 2
A126: 3 | B126: =+GrupeF1N150!B128 -> 0 | C126: =+GrupeF1N150!C128 -> 0 | D126: =+GrupeF1N150!D128 -> 0 | E126: =+GrupeF1N150!E128 -> 0
B128: 24
A129: 1
A130: 2
...

Sheet Sudija1F1N
C1: Competition: | D1: =+Sudija3F1N150!D1 -> CRO
C2: Class: | D2: =+Sudija3F1N150!D2 -> CRO
C3: Organizer: | D3: =+Sudija3F1N150!D3 -> CRO
C4: Data and Place: | D4: =+Sudija3F1N150!D4 -> CRO | G4: Sudija_1_F1N
B6: Grupa: | C6: Ime: | D6: Dozvola: | E6: Klub: | F6: 1 | G6: 2 | H6: 3
B7: 1
A8: 1 | B8: =+GrupeF1N!B8 -> Lač , Nera 2011 = | C8: =+GrupeF1N!C8 -> (jr) | D8: =+GrupeF1N!D8 -> CRO | E8: =+GrupeF1N!E8 -> AK Osijek
A9: 2
A10: 3
B12: 2
A13: 1 | B13: =+GrupeF1N!B13 -> Šikić, Antun | C13: =+GrupeF1N!C13 -> 0 | D13: =+GrupeF1N!D13 -> CRO | E13: =+GrupeF1N!E13 -> AK Osijek
A14: 2
A15: 3
B17: 3
A18: 1 | B18: =+GrupeF1N!B18 -> Marinović, Lovro 2010. | C18: =+GrupeF1N!C18 -> (jr) | D18: =+GrupeF1N!D18 -> CRO | E18: =+GrupeF1N!E18 -> AK Požega 1
A19: 2
A20: 3
B22: 4
A23: 1 | B23: =+GrupeF1N!B23 -> Ozimec, Darko | C23: =+GrupeF1N!C23 -> 0 | D23: =+GrupeF1N!D23 -> CRO | E23: =+GrupeF1N!E23 -> AMK Sisak
A24: 2
A25: 3
B27: 5
A28: 1 | B28: =+GrupeF1N!B28 -> Špehar, Dominik | C28: =+GrupeF1N!C28 -> 0 | D28: =+GrupeF1N!D28 -> CRO | E28: =+GrupeF1N!E28 -> MK Zaprešić
A29: 2
A30: 3
B32: 6
A33: 1 | B33: =+GrupeF1N!B33 -> Tarcal, Stjepan 2008 $ | C33: =+GrupeF1N!C33 -> (jr) | D33: =+GrupeF1N!D33 -> CRO | E33: =+GrupeF1N!E33 -> OŠ Darda
A34: 2
A35: 3
B37: 7
A38: 1 | B38: =+GrupeF1N!B38 -> 0 | C38: =+GrupeF1N!C38 -> 0 | D38: =+GrupeF1N!D38 -> 0 | E38: =+GrupeF1N!E38 -> 0
A39: 2
A40: 3
B42: 8
A43: 1 | B43: =+GrupeF1N!B43 -> 0 | C43: =+GrupeF1N!C43 -> 0 | D43: =+GrupeF1N!D43 -> 0 | E43: =+GrupeF1N!E43 -> 0
A44: 2
A45: 3
B47: 9
A48: 1 | B48: =+GrupeF1N!B48 -> 0 | C48: =+GrupeF1N!C48 -> 0 | D48: =+GrupeF1N!D48 -> 0 | E48: =+GrupeF1N!E48 -> 0
A49: 2
A50: 3
B55: 10
A56: 1 | B56: =+GrupeF1N!B56 -> 0 | C56: =+GrupeF1N!C56 -> 0 | D56: =+GrupeF1N!D56 -> 0 | E56: =+GrupeF1N!E56 -> 0
A57: 2
A58: 3
B60: 11
A61: 1 | B61: =+GrupeF1N!B61 -> 0 | C61: =+GrupeF1N!C61 -> 0 | D61: =+GrupeF1N!D61 -> 0 | E61: =+GrupeF1N!E61 -> 0
A62: 2
A63: 3
B65: 12
A66: 1 | B66: =+GrupeF1N!B66 -> 0 | C66: =+GrupeF1N!C66 -> 0 | D66: =+GrupeF1N!D66 -> 0 | E66: =+GrupeF1N!E66 -> 0
A67: 2
A68: 3
B70: 13
A71: 1 | B71: =+GrupeF1N!B71 -> 0 | C71: =+GrupeF1N!C71 -> 0 | D71: =+GrupeF1N!D71 -> 0 | E71: =+GrupeF1N!E71 -> 0
A72: 2
A73: 3
B75: 14
A76: 1 | B76: =+GrupeF1N!B76 -> 0 | C76: =+GrupeF1N!C76 -> 0 | D76: =+GrupeF1N!D76 -> 0 | E76: =+GrupeF1N!E76 -> 0
A77: 2
A78: 3
B80: 15
A81: 1 | B81: =+GrupeF1N!B81 -> 0 | C81: =+GrupeF1N!C81 -> 0 | D81: =+GrupeF1N!D81 -> 0 | E81: =+GrupeF1N!E81 -> 0
A82: 2
A83: 3
B85: 16
A86: 1 | B86: =+GrupeF1N!B86 -> 0 | C86: =+GrupeF1N!C86 -> 0 | D86: =+GrupeF1N!D86 -> 0 | E86: =+GrupeF1N!E86 -> 0
A87: 2
A88: 3
B90: 17
A91: 1 | B91: =+GrupeF1N!B91 -> 0 | C91: =+GrupeF1N!C91 -> 0 | D91: =+GrupeF1N!D91 -> 0 | E91: =+GrupeF1N!E91 -> 0
A92: 2
A93: 3
B95: 18
A96: 1 | B96: =+GrupeF1N!B96 -> 0 | C96: =+GrupeF1N!C96 -> 0 | D96: =+GrupeF1N!D96 -> 0 | E96: =+GrupeF1N!E96 -> 0
A97: 2
A98: 3
B100: 19
A101: 1 | B101: =+GrupeF1N!B107 -> 0 | C101: =+GrupeF1N!C107 -> 0 | D101: =+GrupeF1N!D107 -> 0 | E101: =+GrupeF1N!E107 -> 0
A102: 2
A103: 3
B108: 20
A109: 1 | B109: =+GrupeF1N!B112 -> 0 | C109: =+GrupeF1N!C112 -> 0 | D109: =+GrupeF1N!D112 -> 0 | E109: =+GrupeF1N!E112 -> 0
A110: 2
A111: 3
B113: 21
A114: 1 | B114: =+GrupeF1N!B117 -> 0 | C114: =+GrupeF1N!C117 -> 0 | D114: =+GrupeF1N!D117 -> 0 | E114: =+GrupeF1N!E117 -> 0
A115: 2
A116: 3
B118: 22
A119: 1 | B119: =+GrupeF1N!B122 -> 0 | C119: =+GrupeF1N!C122 -> 0 | D119: =+GrupeF1N!D122 -> 0 | E119: =+GrupeF1N!E122 -> 0
A120: 2
A121: 3
B123: 23
A124: 1 | B124: =+GrupeF1N!B127 -> 0 | C124: =+GrupeF1N!C127 -> 0 | D124: =+GrupeF1N!D127 -> 0 | E124: =+GrupeF1N!E127 -> 0
A125: 2
A126: 3
B128: 24
A129: 1 | B129: =+GrupeF1N!B132 -> 0 | C129: =+GrupeF1N!C132 -> 0 | D129: =+GrupeF1N!D132 -> 0 | E129: =+GrupeF1N!E132 -> 0
A130: 2
...

Sheet Sudija2F1N
C1: Competition: | D1: =+Sudija1F1N!D1 -> CRO
C2: Class: | D2: =+Sudija1F1N!D2 -> CRO
C3: Organizer: | D3: =+Sudija1F1N!D3 -> CRO
C4: Data and Place: | D4: =+Sudija1F1N!D4 -> CRO | G4: Sudija_2_F1N
B6: Grupa: | C6: Ime: | D6: Dozvola: | E6: Klub: | F6: 1 | G6: 2 | H6: 3
B7: 1
A8: 1
A9: 2 | B9: =+GrupeF1N!B9 -> Lešković, Josip 2014 | C9: =+GrupeF1N!C9 -> (jr) | D9: =+GrupeF1N!D9 -> CRO | E9: =+GrupeF1N!E9 -> AK Osijek
A10: 3
B12: 2
A13: 1
A14: 2 | B14: =+GrupeF1N!B14 -> Tadić, Mariano 2008 % | C14: =+GrupeF1N!C14 -> (jr) | D14: =+GrupeF1N!D14 -> CRO | E14: =+GrupeF1N!E14 -> AK Osijek
A15: 3
B17: 3
A18: 1
A19: 2 | B19: =+GrupeF1N!B19 -> Keller, Max 2010 | C19: =+GrupeF1N!C19 -> (jr) | D19: =+GrupeF1N!D19 -> CRO | E19: =+GrupeF1N!E19 -> AK Požega 2
A20: 3
B22: 4
A23: 1
A24: 2 | B24: =+GrupeF1N!B24 -> Ozimec, Mirjana | C24: =+GrupeF1N!C24 -> 0 | D24: =+GrupeF1N!D24 -> CRO | E24: =+GrupeF1N!E24 -> AMK Sisak
A25: 3
B27: 5
A28: 1
A29: 2 | B29: =+GrupeF1N!B29 -> Capan, Ivan 2005 $ | C29: =+GrupeF1N!C29 -> (jr) | D29: =+GrupeF1N!D29 -> CRO | E29: =+GrupeF1N!E29 -> OŠ Darda
A30: 3
B32: 6
A33: 1
A34: 2 | B34: =+GrupeF1N!B34 -> Tolj, Stipe 2007 $ | C34: =+GrupeF1N!C34 -> (jr) | D34: =+GrupeF1N!D34 -> CRO | E34: =+GrupeF1N!E34 -> OŠ Darda
A35: 3
B37: 7
A38: 1
A39: 2 | B39: =+GrupeF1N!B39 -> 0 | C39: =+GrupeF1N!C39 -> 0 | D39: =+GrupeF1N!D39 -> 0 | E39: =+GrupeF1N!E39 -> 0
A40: 3
B42: 8
A43: 1
A44: 2 | B44: =+GrupeF1N!B44 -> 0 | C44: =+GrupeF1N!C44 -> 0 | D44: =+GrupeF1N!D44 -> 0 | E44: =+GrupeF1N!E44 -> 0
A45: 3
B47: 9
A48: 1
A49: 2 | B49: =+GrupeF1N!B49 -> 0 | C49: =+GrupeF1N!C49 -> 0 | D49: =+GrupeF1N!D49 -> 0 | E49: =+GrupeF1N!E49 -> 0
A50: 3
B55: 10
A56: 1
A57: 2 | B57: =+GrupeF1N!B57 -> 0 | C57: =+GrupeF1N!C57 -> 0 | D57: =+GrupeF1N!D57 -> 0 | E57: =+GrupeF1N!E57 -> 0
A58: 3
B60: 11
A61: 1
A62: 2 | B62: =+GrupeF1N!B62 -> 0 | C62: =+GrupeF1N!C62 -> 0 | D62: =+GrupeF1N!D62 -> 0 | E62: =+GrupeF1N!E62 -> 0
A63: 3
B65: 12
A66: 1
A67: 2 | B67: =+GrupeF1N!B67 -> 0 | C67: =+GrupeF1N!C67 -> 0 | D67: =+GrupeF1N!D67 -> 0 | E67: =+GrupeF1N!E67 -> 0
A68: 3
B70: 13
A71: 1
A72: 2 | B72: =+GrupeF1N!B72 -> 0 | C72: =+GrupeF1N!C72 -> 0 | D72: =+GrupeF1N!D72 -> 0 | E72: =+GrupeF1N!E72 -> 0
A73: 3
B75: 14
A76: 1
A77: 2 | B77: =+GrupeF1N!B77 -> 0 | C77: =+GrupeF1N!C77 -> 0 | D77: =+GrupeF1N!D77 -> 0 | E77: =+GrupeF1N!E77 -> 0
A78: 3
B80: 15
A81: 1
A82: 2 | B82: =+GrupeF1N!B82 -> 0 | C82: =+GrupeF1N!C82 -> 0 | D82: =+GrupeF1N!D82 -> 0 | E82: =+GrupeF1N!E82 -> 0
A83: 3
B85: 16
A86: 1
A87: 2 | B87: =+GrupeF1N!B87 -> 0 | C87: =+GrupeF1N!C87 -> 0 | D87: =+GrupeF1N!D87 -> 0 | E87: =+GrupeF1N!E87 -> 0
A88: 3
B90: 17
A91: 1
A92: 2 | B92: =+GrupeF1N!B92 -> 0 | C92: =+GrupeF1N!C92 -> 0 | D92: =+GrupeF1N!D92 -> 0 | E92: =+GrupeF1N!E92 -> 0
A93: 3
B95: 18
A96: 1
A97: 2 | B97: =+GrupeF1N!B97 -> 0 | C97: =+GrupeF1N!C97 -> 0 | D97: =+GrupeF1N!D97 -> 0 | E97: =+GrupeF1N!E97 -> 0
A98: 3
B100: 19
A101: 1
A102: 2 | B102: =+GrupeF1N!B108 -> 0 | C102: =+GrupeF1N!C108 -> 0 | D102: =+GrupeF1N!D108 -> 0 | E102: =+GrupeF1N!E108 -> 0
A103: 3
B108: 20
A109: 1
A110: 2 | B110: =+GrupeF1N!B113 -> 0 | C110: =+GrupeF1N!C113 -> 0 | D110: =+GrupeF1N!D113 -> 0 | E110: =+GrupeF1N!E113 -> 0
A111: 3
B113: 21
A114: 1
A115: 2 | B115: =+GrupeF1N!B118 -> 0 | C115: =+GrupeF1N!C118 -> 0 | D115: =+GrupeF1N!D118 -> 0 | E115: =+GrupeF1N!E118 -> 0
A116: 3
B118: 22
A119: 1
A120: 2 | B120: =+GrupeF1N!B123 -> 0 | C120: =+GrupeF1N!C123 -> 0 | D120: =+GrupeF1N!D123 -> 0 | E120: =+GrupeF1N!E123 -> 0
A121: 3
B123: 23
A124: 1
A125: 2 | B125: =+GrupeF1N!B128 -> 0 | C125: =+GrupeF1N!C128 -> 0 | D125: =+GrupeF1N!D128 -> 0 | E125: =+GrupeF1N!E128 -> 0
A126: 3
B128: 24
A129: 1
A130: 2 | B130: =+GrupeF1N!B133 -> 0 | C130: =+GrupeF1N!C133 -> 0 | D130: =+GrupeF1N!D133 -> 0 | E130: =+GrupeF1N!E133 -> 0
...

Sheet Sudija3F1N
C1: Competition: | D1: =+Sudija2F1N!D1 -> CRO
C2: Class: | D2: =+Sudija2F1N!D2 -> CRO
C3: Organizer: | D3: =+Sudija2F1N!D3 -> CRO
C4: Data and Place: | D4: =+Sudija2F1N!D4 -> CRO | G4: Sudija_3_F1N
B6: Grupa: | C6: Ime: | D6: Dozvola: | E6: Klub: | F6: 1 | G6: 2 | H6: 3
B7: 1
A8: 1
A9: 2
A10: 3 | B10: =+GrupeF1N!B10 -> Nišević, Igor | C10: =+GrupeF1N!C10 -> 0 | D10: =+GrupeF1N!D10 -> CRO | E10: =+GrupeF1N!E10 -> AK Osijek
B12: 2
A13: 1
A14: 2
A15: 3 | B15: =+GrupeF1N!B15 -> Večei, Borna 2009 % | C15: =+GrupeF1N!C15 -> (jr) | D15: =+GrupeF1N!D15 -> CRO | E15: =+GrupeF1N!E15 -> AK Osijek
B17: 3
A18: 1
A19: 2
A20: 3 | B20: =+GrupeF1N!B20 -> Last, Bruno 2006. | C20: =+GrupeF1N!C20 -> (jr) | D20: =+GrupeF1N!D20 -> CRO | E20: =+GrupeF1N!E20 -> AK Požega 2
B22: 4
A23: 1
A24: 2
A25: 3 | B25: =+GrupeF1N!B25 -> Lač , Lara 2009 & | C25: =+GrupeF1N!C25 -> (jr) | D25: =+GrupeF1N!D25 -> CRO | E25: =+GrupeF1N!E25 -> CK Čeminac
B27: 5
A28: 1
A29: 2
A30: 3 | B30: =+GrupeF1N!B30 -> Drlje, Marko 2007 | C30: =+GrupeF1N!C30 -> (jr) | D30: =+GrupeF1N!D30 -> CRO | E30: =+GrupeF1N!E30 -> OŠ Darda
B32: 6
A33: 1
A34: 2
A35: 3 | B35: =+GrupeF1N!B35 -> Tufeković, Antonio 2008 # | C35: =+GrupeF1N!C35 -> (jr) | D35: =+GrupeF1N!D35 -> CRO | E35: =+GrupeF1N!E35 -> OŠ Darda
B37: 7
A38: 1
A39: 2
A40: 3 | B40: =+GrupeF1N!B40 -> 0 | C40: =+GrupeF1N!C40 -> 0 | D40: =+GrupeF1N!D40 -> 0 | E40: =+GrupeF1N!E40 -> 0
B42: 8
A43: 1
A44: 2
A45: 3 | B45: =+GrupeF1N!B45 -> 0 | C45: =+GrupeF1N!C45 -> 0 | D45: =+GrupeF1N!D45 -> 0 | E45: =+GrupeF1N!E45 -> 0
B47: 9
A48: 1
A49: 2
A50: 3 | B50: =+GrupeF1N!B50 -> 0 | C50: =+GrupeF1N!C50 -> 0 | D50: =+GrupeF1N!D50 -> 0 | E50: =+GrupeF1N!E50 -> 0
B55: 10
A56: 1
A57: 2
A58: 3 | B58: =+GrupeF1N!B58 -> 0 | C58: =+GrupeF1N!C58 -> 0 | D58: =+GrupeF1N!D58 -> 0 | E58: =+GrupeF1N!E58 -> 0
B60: 11
A61: 1
A62: 2
A63: 3 | B63: =+GrupeF1N!B63 -> 0 | C63: =+GrupeF1N!C63 -> 0 | D63: =+GrupeF1N!D63 -> 0 | E63: =+GrupeF1N!E63 -> 0
B65: 12
A66: 1
A67: 2
A68: 3 | B68: =+GrupeF1N!B68 -> 0 | C68: =+GrupeF1N!C68 -> 0 | D68: =+GrupeF1N!D68 -> 0 | E68: =+GrupeF1N!E68 -> 0
B70: 13
A71: 1
A72: 2
A73: 3 | B73: =+GrupeF1N!B73 -> 0 | C73: =+GrupeF1N!C73 -> 0 | D73: =+GrupeF1N!D73 -> 0 | E73: =+GrupeF1N!E73 -> 0
B75: 14
A76: 1
A77: 2
A78: 3 | B78: =+GrupeF1N!B78 -> 0 | C78: =+GrupeF1N!C78 -> 0 | D78: =+GrupeF1N!D78 -> 0 | E78: =+GrupeF1N!E78 -> 0
B80: 15
A81: 1
A82: 2
A83: 3 | B83: =+GrupeF1N!B83 -> 0 | C83: =+GrupeF1N!C83 -> 0 | D83: =+GrupeF1N!D83 -> 0 | E83: =+GrupeF1N!E83 -> 0
B85: 16
A86: 1
A87: 2
A88: 3 | B88: =+GrupeF1N!B88 -> 0 | C88: =+GrupeF1N!C88 -> 0 | D88: =+GrupeF1N!D88 -> 0 | E88: =+GrupeF1N!E88 -> 0
B90: 17
A91: 1
A92: 2
A93: 3 | B93: =+GrupeF1N!B93 -> 0 | C93: =+GrupeF1N!C93 -> 0 | D93: =+GrupeF1N!D93 -> 0 | E93: =+GrupeF1N!E93 -> 0
B95: 18
A96: 1
A97: 2
A98: 3 | B98: =+GrupeF1N!B98 -> 0 | C98: =+GrupeF1N!C98 -> 0 | D98: =+GrupeF1N!D98 -> 0 | E98: =+GrupeF1N!E98 -> 0
B103: 19
A104: 1
A105: 2
A106: 3 | B106: =+GrupeF1N!B109 -> 0 | C106: =+GrupeF1N!C109 -> 0 | D106: =+GrupeF1N!D109 -> 0 | E106: =+GrupeF1N!E109 -> 0
B108: 20
A109: 1
A110: 2
A111: 3 | B111: =+GrupeF1N!B114 -> 0 | C111: =+GrupeF1N!C114 -> 0 | D111: =+GrupeF1N!D114 -> 0 | E111: =+GrupeF1N!E114 -> 0
B113: 21
A114: 1
A115: 2
A116: 3 | B116: =+GrupeF1N!B119 -> 0 | C116: =+GrupeF1N!C119 -> 0 | D116: =+GrupeF1N!D119 -> 0 | E116: =+GrupeF1N!E119 -> 0
B118: 22
A119: 1
A120: 2
A121: 3 | B121: =+GrupeF1N!B124 -> 0 | C121: =+GrupeF1N!C124 -> 0 | D121: =+GrupeF1N!D124 -> 0 | E121: =+GrupeF1N!E124 -> 0
B123: 23
A124: 1
A125: 2
A126: 3 | B126: =+GrupeF1N!B129 -> 0 | C126: =+GrupeF1N!C129 -> 0 | D126: =+GrupeF1N!D129 -> 0 | E126: =+GrupeF1N!E129 -> 0
B128: 24
A129: 1
A130: 2
...

Sheet 4GrupeF1N150
C1: Competition: | D1: =+F1N!E2 -> 0
C2: Class: | D2: =+F1N!E3 -> 0
C3: Organizer: | D3: =+F1N!#REF! -> #REF!
C4: Data and Place: | D4: =+F1N!#REF! -> #REF!
B6: Grupa: | C6: Ime: | D6: Dozvola: | E6: Klub: | G6: F1N150
B7: 1
A8: 1 | B8: =+F1N150!#REF! -> #REF! | C8: =+F1N150!#REF! -> #REF! | D8: =+F1N150!#REF! -> #REF! | E8: =+F1N150!#REF! -> #REF!
A9: 2 | B9: =+F1N150!#REF! -> #REF! | C9: =+F1N150!#REF! -> #REF! | D9: =+F1N150!#REF! -> #REF! | E9: =+F1N150!#REF! -> #REF!
A10: 3 | B10: =+F1N150!B6 -> 1 | C10: =+F1N150!D6 -> Zobec, Vilim | D10: =+F1N150!E6 -> 0 | E10: =+F1N150!G6 -> AMK Karlovac
A11: 4 | B11: =+F1N150!B7 -> 2 | C11: =+F1N150!D7 -> Nišević, Igor | D11: =+F1N150!E7 -> 0 | E11: =+F1N150!G7 -> AK Osijek
B13: 2
A14: 1 | B14: =+F1N150!#REF! -> #REF! | C14: =+F1N150!#REF! -> #REF! | D14: =+F1N150!#REF! -> #REF! | E14: =+F1N150!#REF! -> #REF!
A15: 2 | B15: =+F1N150!B8 -> 3 | C15: =+F1N150!D8 -> Špehar, Dominik | D15: =+F1N150!E8 -> 0 | E15: =+F1N150!G8 -> MK Zaprešić
A16: 3 | B16: =+F1N150!B9 -> 4 | C16: =+F1N150!D9 -> Glogoški, Filip | D16: =+F1N150!E9 -> 0 | E16: =+F1N150!G9 -> AK Osijek
A17: 4 | B17: =+F1N150!B10 -> 5 | C17: =+F1N150!D10 -> Ozimec, Mirjana | D17: =+F1N150!E10 -> 0 | E17: =+F1N150!G10 -> AMK Sisak
B19: 3
A20: 1 | B20: =+F1N150!#REF! -> #REF! | C20: =+F1N150!#REF! -> #REF! | D20: =+F1N150!#REF! -> #REF! | E20: =+F1N150!#REF! -> #REF!
A21: 2 | B21: =+F1N150!B11 -> 6 | C21: =+F1N150!D11 -> Rešetar, Josip 2006 | D21: =+F1N150!E11 -> (jr) | E21: =+F1N150!G11 -> CTK Čeminac
A22: 3 | B22: =+F1N150!#REF! -> #REF! | C22: =+F1N150!#REF! -> #REF! | D22: =+F1N150!#REF! -> #REF! | E22: =+F1N150!#REF! -> #REF!
A23: 4 | B23: =+F1N150!B12 -> 7 | C23: =+F1N150!D12 -> Orkić, Filip oš | D23: =+F1N150!E12 -> (jr) | E23: =+F1N150!G12 -> AK Brod
B25: 4
A26: 1 | B26: =+F1N150!B13 -> 8 | C26: =+F1N150!D13 -> Capan, Ivan 2005 | D26: =+F1N150!E13 -> (jr) | E26: =+F1N150!G13 -> OŠ Tenja
A27: 2 | B27: =+F1N150!B14 -> 9 | C27: =+F1N150!D14 -> Ozimec, Darko | D27: =+F1N150!E14 -> 0 | E27: =+F1N150!G14 -> AMK Sisak
A28: 3 | B28: =+F1N150!B15 -> 10 | C28: =+F1N150!D15 -> Zobec, Borna 2008 | D28: =+F1N150!E15 -> (jr) | E28: =+F1N150!G15 -> AK Karlovac
A29: 4 | B29: =+F1N150!B16 -> 11 | C29: =+F1N150!D16 -> Šikić, Antun | E29: =+F1N150!G16 -> AK Osijek
B31: 5
A32: 1 | B32: =+F1N150!B17 -> 12 | C32: =+F1N150!D17 -> Radanović, Aleksandar 2008 | D32: =+F1N150!E17 -> (jr) | E32: =+F1N150!G17 -> OŠ Darda
A33: 2 | B33: =+F1N150!B18 -> 13 | C33: =+F1N150!D18 -> Radić, Mihaela 2007 | D33: =+F1N150!E18 -> (jr) | E33: =+F1N150!G18 -> AK Osijek
A34: 3 | B34: =+F1N150!#REF! -> #REF! | C34: =+F1N150!#REF! -> #REF! | D34: =+F1N150!#REF! -> #REF! | E34: =+F1N150!#REF! -> #REF!
A35: 4 | B35: =+F1N150!B19 -> 14 | C35: =+F1N150!D19 -> Balaš, Mak 2011 | D35: =+F1N150!E19 -> (jr) | E35: =+F1N150!G19 -> AK Osijek
B37: 6
A38: 1 | B38: =+F1N150!B20 -> 15 | C38: =+F1N150!D20 -> Last, Bruno 2006. | D38: =+F1N150!E20 -> (jr) | E38: =+F1N150!G20 -> AK Požega 2
A39: 2 | B39: =+F1N150!B21 -> 16 | C39: =+F1N150!D21 -> Lač , Lara 2009 | D39: =+F1N150!E21 -> (jr) | E39: =+F1N150!G21 -> CTK Čeminac
A40: 3 | B40: =+F1N150!B22 -> 17 | C40: =+F1N150!D22 -> Košević, Marko 2007 | D40: =+F1N150!E22 -> (jr) | E40: =+F1N150!G22 -> OŠ Darda
A41: 4 | B41: =+F1N150!B23 -> 18 | C41: =+F1N150!D23 -> Bitunjac, Roko oš | D41: =+F1N150!E23 -> (jr) | E41: =+F1N150!G23 -> AK Brod
B43: 7
A44: 1 | B44: =+F1N150!#REF! -> #REF! | C44: =+F1N150!#REF! -> #REF! | D44: =+F1N150!#REF! -> #REF! | E44: =+F1N150!#REF! -> #REF!
A45: 2 | B45: =+F1N150!#REF! -> #REF! | C45: =+F1N150!#REF! -> #REF! | D45: =+F1N150!#REF! -> #REF! | E45: =+F1N150!#REF! -> #REF!
A46: 3 | B46: =+F1N150!B24 -> 19 | C46: =+F1N150!D24 -> Orkić, David oš | D46: =+F1N150!E24 -> (jr) | E46: =+F1N150!G24 -> AK Brod
A47: 4 | B47: =+F1N150!B25 -> 20 | C47: =+F1N150!D25 -> Pajkurić, Dominik 2005 % | D47: =+F1N150!E25 -> (jr) | E47: =+F1N150!G25 -> AK Osijek
B49: 8
A50: 1 | B50: =+F1N150!#REF! -> #REF! | C50: =+F1N150!#REF! -> #REF! | D50: =+F1N150!#REF! -> #REF! | E50: =+F1N150!#REF! -> #REF!
A51: 2 | B51: =+F1N150!B26 -> 21 | C51: =+F1N150!D26 -> Hržica, Fran Tvrtko 2011 | D51: =+F1N150!E26 -> (jr) | E51: =+F1N150!G26 -> AK Osijek
A52: 3 | B52: =+F1N150!B27 -> 22 | C52: =+F1N150!D27 -> Ašičić, Lara 2008 | D52: =+F1N150!E27 -> (jr) | E52: =+F1N150!G27 -> OŠ Tenja
A53: 4 | B53: =+F1N150!#REF! -> #REF! | C53: =+F1N150!#REF! -> #REF! | D53: =+F1N150!#REF! -> #REF! | E53: =+F1N150!#REF! -> #REF!
B55: 9
A56: 1 | B56: =+F1N150!B28 -> 23 | C56: =+F1N150!D28 -> Lač , Nera 2011 | D56: =+F1N150!E28 -> (jr) | E56: =+F1N150!G28 -> AK Osijek
A57: 2 | B57: =+F1N150!B29 -> 24 | C57: =+F1N150!D29 -> Kantor, Filip 2010 | D57: =+F1N150!E29 -> (jr) | E57: =+F1N150!G29 -> AK Požega 1
A58: 3 | B58: =+F1N150!#REF! -> #REF! | C58: =+F1N150!#REF! -> #REF! | D58: =+F1N150!#REF! -> #REF! | E58: =+F1N150!#REF! -> #REF!
A59: 4 | B59: =+F1N150!#REF! -> #REF! | C59: =+F1N150!#REF! -> #REF! | D59: =+F1N150!#REF! -> #REF! | E59: =+F1N150!#REF! -> #REF!
B61: 10
A62: 1 | B62: =+F1N150!B30 -> 25 | C62: =+F1N150!D30 -> Večei, Borna 2009 | D62: =+F1N150!E30 -> (jr) | E62: =+F1N150!G30 -> AK Osijek
A63: 2 | B63: =+F1N150!B31 -> 26 | C63: =+F1N150!D31 -> Last, Ivan 2010. | D63: =+F1N150!E31 -> (jr) | E63: =+F1N150!G31 -> AK Požega 1
A64: 3 | B64: =+F1N150!#REF! -> #REF! | C64: =+F1N150!#REF! -> #REF! | D64: =+F1N150!#REF! -> #REF! | E64: =+F1N150!#REF! -> #REF!
A65: 4 | B65: =+F1N150!B32 -> 27 | C65: =+F1N150!D32 -> Tufeković, Antonio 2008 # | D65: =+F1N150!E32 -> (jr) | E65: =+F1N150!G32 -> OŠ Tenja
B67: 11
A68: 1 | B68: =+F1N150!B33 -> 28 | C68: =+F1N150!D33 -> Rajić, Antun 2010. | D68: =+F1N150!E33 -> (jr) | E68: =+F1N150!G33 -> AK Požega 2
A69: 2 | B69: =+F1N150!#REF! -> #REF! | C69: =+F1N150!#REF! -> #REF! | D69: =+F1N150!#REF! -> #REF! | E69: =+F1N150!#REF! -> #REF!
A70: 3 | B70: =+F1N150!B34 -> 29 | C70: =+F1N150!D34 -> Marinović, Lovro 2010. | D70: =+F1N150!E34 -> (jr) | E70: =+F1N150!G34 -> AK Požega 1
A71: 4 | B71: =+F1N150!#REF! -> #REF! | C71: =+F1N150!#REF! -> #REF! | D71: =+F1N150!#REF! -> #REF! | E71: =+F1N150!#REF! -> #REF!
B73: 12
A74: 1 | B74: =+F1N150!B35 -> 30 | C74: =+F1N150!D35 -> Rešetar, Jakov 2020. | D74: =+F1N150!E35 -> (jr) | E74: =+F1N150!G35 -> CTK Čeminac
A75: 2 | B75: =+F1N150!B36 -> 31 | C75: =+F1N150!D36 -> Drlje, Marko 2007 | D75: =+F1N150!E36 -> (jr) | E75: =+F1N150!G36 -> OŠ Darda
A76: 3 | B76: =+F1N150!B37 -> 32 | C76: =+F1N150!D37 -> Keller, Max 2010 | D76: =+F1N150!E37 -> (jr) | E76: =+F1N150!G37 -> AK Požega 2
A77: 4 | B77: =+F1N150!B38 -> 33 | C77: =+F1N150!D38 -> Tadić, Mariano 2008 | D77: =+F1N150!E38 -> (jr) | E77: =+F1N150!G38 -> AK Osijek
B79: 13
A80: 1 | B80: =+F1N150!B39 -> 34 | C80: =+F1N150!D39 -> Tolj, Stipe 2007 | D80: =+F1N150!E39 -> (jr) | E80: =+F1N150!G39 -> OŠ Tenja
A81: 2 | B81: =+F1N150!B40 -> 0 | C81: =+F1N150!D40 -> 0 | D81: =+F1N150!E40 -> 0 | E81: =+F1N150!G40 -> 0
A82: 3 | B82: =+F1N150!B41 -> 0 | C82: =+F1N150!D41 -> 0 | D82: =+F1N150!E41 -> 0 | E82: =+F1N150!G41 -> 0
A83: 4 | B83: =+F1N150!B42 -> 0 | C83: =+F1N150!D42 -> 0 | D83: =+F1N150!E42 -> 0 | E83: =+F1N150!G42 -> 0
B85: 14
A86: 1 | B86: =+F1N150!B43 -> 0 | C86: =+F1N150!D43 -> 0 | D86: =+F1N150!E43 -> 0 | E86: =+F1N150!G43 -> 0
A87: 2 | B87: =+F1N150!B44 -> 0 | C87: =+F1N150!D44 -> 0 | D87: =+F1N150!E44 -> 0 | E87: =+F1N150!G44 -> 0
A88: 3 | B88: =+F1N150!B45 -> 0 | C88: =+F1N150!D45 -> 0 | D88: =+F1N150!E45 -> 0 | E88: =+F1N150!G45 -> 0
A89: 4 | B89: =+F1N150!B46 -> 0 | C89: =+F1N150!D46 -> 0 | D89: =+F1N150!E46 -> 0 | E89: =+F1N150!G46 -> 0
B91: 15
A92: 1 | B92: =+F1N150!B47 -> 0 | C92: =+F1N150!D47 -> 0 | D92: =+F1N150!E47 -> 0 | E92: =+F1N150!G47 -> 0
A93: 2 | B93: =+F1N150!B48 -> 0 | C93: =+F1N150!D48 -> 0 | D93: =+F1N150!E48 -> 0 | E93: =+F1N150!G48 -> 0
A94: 3 | B94: =+F1N150!B49 -> 0 | C94: =+F1N150!D49 -> 0 | D94: =+F1N150!E49 -> 0 | E94: =+F1N150!G49 -> 0
A95: 4 | B95: =+F1N150!B50 -> 0 | C95: =+F1N150!D50 -> 0 | D95: =+F1N150!E50 -> 0 | E95: =+F1N150!G50 -> 0
B97: 16
A98: 1 | B98: =+F1N150!B51 -> 0 | C98: =+F1N150!D51 -> 0 | D98: =+F1N150!E51 -> 0 | E98: =+F1N150!G51 -> 0
A99: 2 | B99: =+F1N150!B52 -> 0 | C99: =+F1N150!D52 -> 0 | D99: =+F1N150!E52 -> 0 | E99: =+F1N150!G52 -> 0
A100: 3 | B100: =+F1N150!B53 -> 0 | C100: =+F1N150!D53 -> 0 | D100: =+F1N150!E53 -> 0 | E100: =+F1N150!G53 -> 0
A101: 4 | B101: =+F1N150!B54 -> 0 | C101: =+F1N150!D54 -> 0 | D101: =+F1N150!E54 -> 0 | E101: =+F1N150!G54 -> 0
B108: 17
A109: 1 | B109: =+F1N150!B55 -> 0 | C109: =+F1N150!D55 -> 0 | D109: =+F1N150!E55 -> 0 | E109: =+F1N150!G55 -> 0
A110: 2 | B110: =+F1N150!B56 -> 0 | C110: =+F1N150!D56 -> 0 | D110: =+F1N150!E56 -> 0 | E110: =+F1N150!G56 -> 0
A111: 3 | B111: =+F1N150!B57 -> 0 | C111: =+F1N150!D57 -> 0 | D111: =+F1N150!E57 -> 0 | E111: =+F1N150!G57 -> 0
A112: 4 | B112: =+F1N150!B58 -> 0 | C112: =+F1N150!D58 -> 0 | D112: =+F1N150!E58 -> 0 | E112: =+F1N150!G58 -> 0
B115: 18
A116: 1 | B116: =+F1N150!B59 -> 0 | C116: =+F1N150!D59 -> 0 | D116: =+F1N150!E59 -> 0 | E116: =+F1N150!G59 -> 0
A117: 2 | B117: =+F1N150!B60 -> 0 | C117: =+F1N150!D60 -> 0 | D117: =+F1N150!E60 -> 0 | E117: =+F1N150!G60 -> 0
A118: 3 | B118: =+F1N150!B61 -> 0 | C118: =+F1N150!D61 -> 0 | D118: =+F1N150!E61 -> 0 | E118: =+F1N150!G61 -> 0
A119: 4 | B119: =+F1N150!B62 -> 0 | C119: =+F1N150!D62 -> 0 | D119: =+F1N150!E62 -> 0 | E119: =+F1N150!G62 -> 0
B121: 19
A122: 1 | B122: =+F1N150!B63 -> 0 | C122: =+F1N150!D63 -> 0 | D122: =+F1N150!E63 -> 0 | E122: =+F1N150!G63 -> 0
A123: 2 | B123: =+F1N150!B64 -> 0 | C123: =+F1N150!D64 -> 0 | D123: =+F1N150!E64 -> 0 | E123: =+F1N150!G64 -> 0
A124: 3 | B124: =+F1N150!B65 -> 0 | C124: =+F1N150!D65 -> 0 | D124: =+F1N150!E65 -> 0 | E124: =+F1N150!G65 -> 0
A125: 4 | B125: =+F1N150!B66 -> 0 | C125: =+F1N150!D66 -> 0 | D125: =+F1N150!E66 -> 0 | E125: =+F1N150!G66 -> 0
...

Sheet 4Sudija1F1N150
C1: Competition: | D1: =+GrupeF1N!D1 -> CRO
C2: Class: | D2: =+GrupeF1N!D2 -> CRO
C3: Organizer: | D3: =+GrupeF1N!D3 -> CRO
C4: Data and Place: | D4: =+GrupeF1N!D4 -> CRO | G4: Sudija_1_F1N150
B6: Grupa: | C6: Ime: | D6: Dozvola: | E6: Klub: | F6: 1 | G6: 2 | H6: 3
B7: 1
A8: 1 | B8: =+'4GrupeF1N150'!B8 -> #REF! | C8: =+'4GrupeF1N150'!C8 -> #REF! | D8: =+'4GrupeF1N150'!D8 -> #REF! | E8: =+'4GrupeF1N150'!E8 -> #REF!
A9: 2
A10: 3
A11: 4
B13: 2
A14: 1 | B14: =+'4GrupeF1N150'!B14 -> #REF! | C14: =+'4GrupeF1N150'!C14 -> #REF! | D14: =+'4GrupeF1N150'!D14 -> #REF! | E14: =+'4GrupeF1N150'!E14 -> #REF!
A15: 2
A16: 3
A17: 4
B19: 3
A20: 1 | B20: =+'4GrupeF1N150'!B20 -> #REF! | C20: =+'4GrupeF1N150'!C20 -> #REF! | D20: =+'4GrupeF1N150'!D20 -> #REF! | E20: =+'4GrupeF1N150'!E20 -> #REF!
A21: 2
A22: 3
A23: 4
B25: 4
A26: 1 | B26: =+'4GrupeF1N150'!B26 -> 8 | C26: =+'4GrupeF1N150'!C26 -> Capan, Ivan 2005 | D26: =+'4GrupeF1N150'!D26 -> (jr) | E26: =+'4GrupeF1N150'!E26 -> OŠ Tenja
A27: 2
A28: 3
A29: 4
B31: 5
A32: 1 | B32: =+'4GrupeF1N150'!B32 -> 12 | C32: =+'4GrupeF1N150'!C32 -> Radanović, Aleksandar 2008 | D32: =+'4GrupeF1N150'!D32 -> (jr) | E32: =+'4GrupeF1N150'!E32 -> OŠ Darda
A33: 2
A34: 3
A35: 4
B37: 6
A38: 1 | B38: =+'4GrupeF1N150'!B38 -> 15 | C38: =+'4GrupeF1N150'!C38 -> Last, Bruno 2006. | D38: =+'4GrupeF1N150'!D38 -> (jr) | E38: =+'4GrupeF1N150'!E38 -> AK Požega 2
A39: 2
A40: 3
A41: 4
B43: 7
A44: 1 | B44: =+'4GrupeF1N150'!B44 -> #REF! | C44: =+'4GrupeF1N150'!C44 -> #REF! | D44: =+'4GrupeF1N150'!D44 -> #REF! | E44: =+'4GrupeF1N150'!E44 -> #REF!
A45: 2
A46: 3
A47: 4
B49: 8
A50: 1 | B50: =+'4GrupeF1N150'!B50 -> #REF! | C50: =+'4GrupeF1N150'!C50 -> #REF! | D50: =+'4GrupeF1N150'!D50 -> #REF! | E50: =+'4GrupeF1N150'!E50 -> #REF!
A51: 2
A52: 3
A53: 4
B55: 9
A56: 1 | B56: =+'4GrupeF1N150'!B56 -> 23 | C56: =+'4GrupeF1N150'!C56 -> Lač , Nera 2011 | D56: =+'4GrupeF1N150'!D56 -> (jr) | E56: =+'4GrupeF1N150'!E56 -> AK Osijek
A57: 2
A58: 3
A59: 4
B61: 10
A62: 1 | B62: =+'4GrupeF1N150'!B62 -> 25 | C62: =+'4GrupeF1N150'!C62 -> Večei, Borna 2009 | D62: =+'4GrupeF1N150'!D62 -> (jr) | E62: =+'4GrupeF1N150'!E62 -> AK Osijek
A63: 2
A64: 3
A65: 4
B67: 11
A68: 1 | B68: =+'4GrupeF1N150'!B68 -> 28 | C68: =+'4GrupeF1N150'!C68 -> Rajić, Antun 2010. | D68: =+'4GrupeF1N150'!D68 -> (jr) | E68: =+'4GrupeF1N150'!E68 -> AK Požega 2
A69: 2
A70: 3
A71: 4
B73: 12
A74: 1 | B74: =+'4GrupeF1N150'!B74 -> 30 | C74: =+'4GrupeF1N150'!C74 -> Rešetar, Jakov 2020. | D74: =+'4GrupeF1N150'!D74 -> (jr) | E74: =+'4GrupeF1N150'!E74 -> CTK Čeminac
A75: 2
A76: 3
A77: 4
B79: 13
A80: 1 | B80: =+'4GrupeF1N150'!B80 -> 34 | C80: =+'4GrupeF1N150'!C80 -> Tolj, Stipe 2007 | D80: =+'4GrupeF1N150'!D80 -> (jr) | E80: =+'4GrupeF1N150'!E80 -> OŠ Tenja
A81: 2
A82: 3
A83: 4
B85: 14
A86: 1 | B86: =+'4GrupeF1N150'!B86 -> 0 | C86: =+'4GrupeF1N150'!C86 -> 0 | D86: =+'4GrupeF1N150'!D86 -> 0 | E86: =+'4GrupeF1N150'!E86 -> 0
A87: 2
A88: 3
A89: 4
B91: 15
A92: 1 | B92: =+'4GrupeF1N150'!B92 -> 0 | C92: =+'4GrupeF1N150'!C92 -> 0 | D92: =+'4GrupeF1N150'!D92 -> 0 | E92: =+'4GrupeF1N150'!E92 -> 0
A93: 2
A94: 3
A95: 4
B97: 16
A98: 1 | B98: =+'4GrupeF1N150'!B98 -> 0 | C98: =+'4GrupeF1N150'!C98 -> 0 | D98: =+'4GrupeF1N150'!D98 -> 0 | E98: =+'4GrupeF1N150'!E98 -> 0
A99: 2
A100: 3
A101: 4
B108: 17
A109: 1 | B109: =+'4GrupeF1N150'!B109 -> 0 | C109: =+'4GrupeF1N150'!C109 -> 0 | D109: =+'4GrupeF1N150'!D109 -> 0 | E109: =+'4GrupeF1N150'!E109 -> 0
A110: 2
A111: 3
A112: 4
B114: 18
A115: 1 | B115: =+'4GrupeF1N150'!B116 -> 0 | C115: =+'4GrupeF1N150'!C116 -> 0 | D115: =+'4GrupeF1N150'!D116 -> 0 | E115: =+'4GrupeF1N150'!E116 -> 0
A116: 2
A117: 3
A118: 4
B120: 19
A121: 1 | B121: =+'4GrupeF1N150'!B122 -> 0 | C121: =+'4GrupeF1N150'!C122 -> 0 | D121: =+'4GrupeF1N150'!D122 -> 0 | E121: =+'4GrupeF1N150'!E122 -> 0
A122: 2
A123: 3
A124: 4
...

Sheet 4Sudija2F1N150
C1: Competition: | D1: =+GrupeF1N!D1 -> CRO
C2: Class: | D2: =+GrupeF1N!D2 -> CRO
C3: Organizer: | D3: =+GrupeF1N!D3 -> CRO
C4: Data and Place: | D4: =+GrupeF1N!D4 -> CRO | G4: Sudija_2_F1N150
B6: Grupa: | C6: Ime: | D6: Dozvola: | E6: Klub: | F6: 1 | G6: 2 | H6: 3
B7: 1
A8: 1
A9: 2 | B9: =+'4GrupeF1N150'!B9 -> #REF! | C9: =+'4GrupeF1N150'!C9 -> #REF! | D9: =+'4GrupeF1N150'!D9 -> #REF! | E9: =+'4GrupeF1N150'!E9 -> #REF!
A10: 3
A11: 4
B13: 2
A14: 1
A15: 2 | B15: =+'4GrupeF1N150'!B15 -> 3 | C15: =+'4GrupeF1N150'!C15 -> Špehar, Dominik | D15: =+'4GrupeF1N150'!D15 -> 0 | E15: =+'4GrupeF1N150'!E15 -> MK Zaprešić
A16: 3
A17: 4
B19: 3
A20: 1
A21: 2 | B21: =+'4GrupeF1N150'!B21 -> 6 | C21: =+'4GrupeF1N150'!C21 -> Rešetar, Josip 2006 | D21: =+'4GrupeF1N150'!D21 -> (jr) | E21: =+'4GrupeF1N150'!E21 -> CTK Čeminac
A22: 3
A23: 4
B25: 4
A26: 1
A27: 2 | B27: =+'4GrupeF1N150'!B27 -> 9 | C27: =+'4GrupeF1N150'!C27 -> Ozimec, Darko | D27: =+'4GrupeF1N150'!D27 -> 0 | E27: =+'4GrupeF1N150'!E27 -> AMK Sisak
A28: 3
A29: 4
B31: 5
A32: 1
A33: 2 | B33: =+'4GrupeF1N150'!B33 -> 13 | C33: =+'4GrupeF1N150'!C33 -> Radić, Mihaela 2007 | D33: =+'4GrupeF1N150'!D33 -> (jr) | E33: =+'4GrupeF1N150'!E33 -> AK Osijek
A34: 3
A35: 4
B37: 6
A38: 1
A39: 2 | B39: =+'4GrupeF1N150'!B39 -> 16 | C39: =+'4GrupeF1N150'!C39 -> Lač , Lara 2009 | D39: =+'4GrupeF1N150'!D39 -> (jr) | E39: =+'4GrupeF1N150'!E39 -> CTK Čeminac
A40: 3
A41: 4
B43: 7
A44: 1
A45: 2 | B45: =+'4GrupeF1N150'!B45 -> #REF! | C45: =+'4GrupeF1N150'!C45 -> #REF! | D45: =+'4GrupeF1N150'!D45 -> #REF! | E45: =+'4GrupeF1N150'!E45 -> #REF!
A46: 3
A47: 4
B49: 8
A50: 1
A51: 2 | B51: =+'4GrupeF1N150'!B51 -> 21 | C51: =+'4GrupeF1N150'!C51 -> Hržica, Fran Tvrtko 2011 | D51: =+'4GrupeF1N150'!D51 -> (jr) | E51: =+'4GrupeF1N150'!E51 -> AK Osijek
A52: 3
A53: 4
B55: 9
A56: 1
A57: 2 | B57: =+'4GrupeF1N150'!B57 -> 24 | C57: =+'4GrupeF1N150'!C57 -> Kantor, Filip 2010 | D57: =+'4GrupeF1N150'!D57 -> (jr) | E57: =+'4GrupeF1N150'!E57 -> AK Požega 1
A58: 3
A59: 4
B61: 10
A62: 1
A63: 2 | B63: =+'4GrupeF1N150'!B63 -> 26 | C63: =+'4GrupeF1N150'!C63 -> Last, Ivan 2010. | D63: =+'4GrupeF1N150'!D63 -> (jr) | E63: =+'4GrupeF1N150'!E63 -> AK Požega 1
A64: 3
A65: 4
B67: 11
A68: 1
A69: 2 | B69: =+'4GrupeF1N150'!B69 -> #REF! | C69: =+'4GrupeF1N150'!C69 -> #REF! | D69: =+'4GrupeF1N150'!D69 -> #REF! | E69: =+'4GrupeF1N150'!E69 -> #REF!
A70: 3
A71: 4
B73: 12
A74: 1
A75: 2 | B75: =+'4GrupeF1N150'!B75 -> 31 | C75: =+'4GrupeF1N150'!C75 -> Drlje, Marko 2007 | D75: =+'4GrupeF1N150'!D75 -> (jr) | E75: =+'4GrupeF1N150'!E75 -> OŠ Darda
A76: 3
A77: 4
B79: 13
A80: 1
A81: 2 | B81: =+'4GrupeF1N150'!B81 -> 0 | C81: =+'4GrupeF1N150'!C81 -> 0 | D81: =+'4GrupeF1N150'!D81 -> 0 | E81: =+'4GrupeF1N150'!E81 -> 0
A82: 3
A83: 4
B85: 14
A86: 1
A87: 2 | B87: =+'4GrupeF1N150'!B87 -> 0 | C87: =+'4GrupeF1N150'!C87 -> 0 | D87: =+'4GrupeF1N150'!D87 -> 0 | E87: =+'4GrupeF1N150'!E87 -> 0
A88: 3
A89: 4
B91: 15
A92: 1
A93: 2 | B93: =+'4GrupeF1N150'!B93 -> 0 | C93: =+'4GrupeF1N150'!C93 -> 0 | D93: =+'4GrupeF1N150'!D93 -> 0 | E93: =+'4GrupeF1N150'!E93 -> 0
A94: 3
A95: 4
B97: 15
A98: 1
A99: 2 | B99: =+'4GrupeF1N150'!B99 -> 0 | C99: =+'4GrupeF1N150'!C99 -> 0 | D99: =+'4GrupeF1N150'!D99 -> 0 | E99: =+'4GrupeF1N150'!E99 -> 0
A100: 3
A101: 4
B108: 17
A109: 1
A110: 2 | B110: =+'4GrupeF1N150'!B110 -> 0 | C110: =+'4GrupeF1N150'!C110 -> 0 | D110: =+'4GrupeF1N150'!D110 -> 0 | E110: =+'4GrupeF1N150'!E110 -> 0
A111: 3
A112: 4
B114: 18
A115: 1
A116: 2 | B116: =+'4GrupeF1N150'!B117 -> 0 | C116: =+'4GrupeF1N150'!C117 -> 0 | D116: =+'4GrupeF1N150'!D117 -> 0 | E116: =+'4GrupeF1N150'!E117 -> 0
A117: 3
A118: 4
B120: 19
A121: 1
A122: 2 | B122: =+'4GrupeF1N150'!B123 -> 0 | C122: =+'4GrupeF1N150'!C123 -> 0 | D122: =+'4GrupeF1N150'!D123 -> 0 | E122: =+'4GrupeF1N150'!E123 -> 0
A123: 3
A124: 4
...

Sheet 4Sudija3F1N150
C1: Competition: | D1: =+GrupeF1N!D1 -> CRO
C2: Class: | D2: =+GrupeF1N!D2 -> CRO
C3: Organizer: | D3: =+GrupeF1N!D3 -> CRO
C4: Data and Place: | D4: =+GrupeF1N!D4 -> CRO | G4: Sudija_3_F1N150
B6: Grupa: | C6: Ime: | D6: Dozvola: | E6: Klub: | F6: 1 | G6: 2 | H6: 3
B7: 1
A8: 1
A9: 2
A10: 3 | B10: =+'4GrupeF1N150'!B10 -> 1 | C10: =+'4GrupeF1N150'!C10 -> Zobec, Vilim | D10: =+'4GrupeF1N150'!D10 -> 0 | E10: =+'4GrupeF1N150'!E10 -> AMK Karlovac
A11: 4
B13: 2
A14: 1
A15: 2
A16: 3 | B16: =+'4GrupeF1N150'!B16 -> 4 | C16: =+'4GrupeF1N150'!C16 -> Glogoški, Filip | D16: =+'4GrupeF1N150'!D16 -> 0 | E16: =+'4GrupeF1N150'!E16 -> AK Osijek
A17: 4
B19: 3
A20: 1
A21: 2
A22: 3 | B22: =+'4GrupeF1N150'!B22 -> #REF! | C22: =+'4GrupeF1N150'!C22 -> #REF! | D22: =+'4GrupeF1N150'!D22 -> #REF! | E22: =+'4GrupeF1N150'!E22 -> #REF!
A23: 4
B25: 4
A26: 1
A27: 2
A28: 3 | B28: =+'4GrupeF1N150'!B28 -> 10 | C28: =+'4GrupeF1N150'!C28 -> Zobec, Borna 2008 | D28: =+'4GrupeF1N150'!D28 -> (jr) | E28: =+'4GrupeF1N150'!E28 -> AK Karlovac
A29: 4
B31: 5
A32: 1
A33: 2
A34: 3 | B34: =+'4GrupeF1N150'!B34 -> #REF! | C34: =+'4GrupeF1N150'!C34 -> #REF! | D34: =+'4GrupeF1N150'!D34 -> #REF! | E34: =+'4GrupeF1N150'!E34 -> #REF!
A35: 4
B37: 6
A38: 1
A39: 2
A40: 3 | B40: =+'4GrupeF1N150'!B40 -> 17 | C40: =+'4GrupeF1N150'!C40 -> Košević, Marko 2007 | D40: =+'4GrupeF1N150'!D40 -> (jr) | E40: =+'4GrupeF1N150'!E40 -> OŠ Darda
A41: 4
B43: 7
A44: 1
A45: 2
A46: 3 | B46: =+'4GrupeF1N150'!B46 -> 19 | C46: =+'4GrupeF1N150'!C46 -> Orkić, David oš | D46: =+'4GrupeF1N150'!D46 -> (jr) | E46: =+'4GrupeF1N150'!E46 -> AK Brod
A47: 4
B49: 8
A50: 1
A51: 2
A52: 3 | B52: =+'4GrupeF1N150'!B52 -> 22 | C52: =+'4GrupeF1N150'!C52 -> Ašičić, Lara 2008 | D52: =+'4GrupeF1N150'!D52 -> (jr) | E52: =+'4GrupeF1N150'!E52 -> OŠ Tenja
A53: 4
B55: 9
A56: 1
A57: 2
A58: 3 | B58: =+'4GrupeF1N150'!B58 -> #REF! | C58: =+'4GrupeF1N150'!C58 -> #REF! | D58: =+'4GrupeF1N150'!D58 -> #REF! | E58: =+'4GrupeF1N150'!E58 -> #REF!
A59: 4
B61: 10
A62: 1
A63: 2
A64: 3 | B64: =+'4GrupeF1N150'!B64 -> #REF! | C64: =+'4GrupeF1N150'!C64 -> #REF! | D64: =+'4GrupeF1N150'!D64 -> #REF! | E64: =+'4GrupeF1N150'!E64 -> #REF!
A65: 4
B67: 11
A68: 1
A69: 2
A70: 3 | B70: =+'4GrupeF1N150'!B70 -> 29 | C70: =+'4GrupeF1N150'!C70 -> Marinović, Lovro 2010. | D70: =+'4GrupeF1N150'!D70 -> (jr) | E70: =+'4GrupeF1N150'!E70 -> AK Požega 1
A71: 4
B73: 12
A74: 1
A75: 2
A76: 3 | B76: =+'4GrupeF1N150'!B76 -> 32 | C76: =+'4GrupeF1N150'!C76 -> Keller, Max 2010 | D76: =+'4GrupeF1N150'!D76 -> (jr) | E76: =+'4GrupeF1N150'!E76 -> AK Požega 2
A77: 4
B79: 13
A80: 1
A81: 2
A82: 3 | B82: =+'4GrupeF1N150'!B82 -> 0 | C82: =+'4GrupeF1N150'!C82 -> 0 | D82: =+'4GrupeF1N150'!D82 -> 0 | E82: =+'4GrupeF1N150'!E82 -> 0
A83: 4
B85: 14
A86: 1
A87: 2
A88: 3 | B88: =+'4GrupeF1N150'!B88 -> 0 | C88: =+'4GrupeF1N150'!C88 -> 0 | D88: =+'4GrupeF1N150'!D88 -> 0 | E88: =+'4GrupeF1N150'!E88 -> 0
A89: 4
B91: 15
A92: 1
A93: 2
A94: 3 | B94: =+'4GrupeF1N150'!B94 -> 0 | C94: =+'4GrupeF1N150'!C94 -> 0 | D94: =+'4GrupeF1N150'!D94 -> 0 | E94: =+'4GrupeF1N150'!E94 -> 0
A95: 4
B97: 16
A98: 1
A99: 2
A100: 3 | B100: =+'4GrupeF1N150'!B100 -> 0 | C100: =+'4GrupeF1N150'!C100 -> 0 | D100: =+'4GrupeF1N150'!D100 -> 0 | E100: =+'4GrupeF1N150'!E100 -> 0
A101: 4
B108: 17
A109: 1
A110: 2
A111: 3 | B111: =+'4GrupeF1N150'!B111 -> 0 | C111: =+'4GrupeF1N150'!C111 -> 0 | D111: =+'4GrupeF1N150'!D111 -> 0 | E111: =+'4GrupeF1N150'!E111 -> 0
A112: 4
B114: 18
A115: 1
A116: 2
A117: 3 | B117: =+'4GrupeF1N150'!B118 -> 0 | C117: =+'4GrupeF1N150'!C118 -> 0 | D117: =+'4GrupeF1N150'!D118 -> 0 | E117: =+'4GrupeF1N150'!E118 -> 0
A118: 4
B120: 19
A121: 1
A122: 2
A123: 3 | B123: =+'4GrupeF1N150'!B124 -> 0 | C123: =+'4GrupeF1N150'!C124 -> 0 | D123: =+'4GrupeF1N150'!D124 -> 0 | E123: =+'4GrupeF1N150'!E124 -> 0
A124: 4
...

Sheet 4Sudija4F1N150
C1: Competition: | D1: =+GrupeF1N!D1 -> CRO
C2: Class: | D2: =+GrupeF1N!D2 -> CRO
C3: Organizer: | D3: =+GrupeF1N!D3 -> CRO
C4: Data and Place: | D4: =+GrupeF1N!D4 -> CRO | G4: Sudija_4_F1N150
B6: Grupa: | C6: Ime: | D6: Dozvola: | E6: Klub: | F6: 1 | G6: 2 | H6: 3
B7: 1
A8: 1
A9: 2
A10: 3
A11: 4 | B11: =+'4GrupeF1N150'!B11 -> 2 | C11: =+'4GrupeF1N150'!C11 -> Nišević, Igor | D11: =+'4GrupeF1N150'!D11 -> 0 | E11: =+'4GrupeF1N150'!E11 -> AK Osijek
B13: 2
A14: 1
A15: 2
A16: 3
A17: 4 | B17: =+'4GrupeF1N150'!B17 -> 5 | C17: =+'4GrupeF1N150'!C17 -> Ozimec, Mirjana | D17: =+'4GrupeF1N150'!D17 -> 0 | E17: =+'4GrupeF1N150'!E17 -> AMK Sisak
B19: 3
A20: 1
A21: 2
A22: 3
A23: 4 | B23: =+'4GrupeF1N150'!B23 -> 7 | C23: =+'4GrupeF1N150'!C23 -> Orkić, Filip oš | D23: =+'4GrupeF1N150'!D23 -> (jr) | E23: =+'4GrupeF1N150'!E23 -> AK Brod
B25: 4
A26: 1
A27: 2
A28: 3
A29: 4 | B29: =+'4GrupeF1N150'!B29 -> 11 | C29: =+'4GrupeF1N150'!C29 -> Šikić, Antun | D29: =+'4GrupeF1N150'!D29 -> 0 | E29: =+'4GrupeF1N150'!E29 -> AK Osijek
B31: 5
A32: 1
A33: 2
A34: 3
A35: 4 | B35: =+'4GrupeF1N150'!B35 -> 14 | C35: =+'4GrupeF1N150'!C35 -> Balaš, Mak 2011 | D35: =+'4GrupeF1N150'!D35 -> (jr) | E35: =+'4GrupeF1N150'!E35 -> AK Osijek
B37: 6
A38: 1
A39: 2
A40: 3
A41: 4 | B41: =+'4GrupeF1N150'!B41 -> 18 | C41: =+'4GrupeF1N150'!C41 -> Bitunjac, Roko oš | D41: =+'4GrupeF1N150'!D41 -> (jr) | E41: =+'4GrupeF1N150'!E41 -> AK Brod
B43: 7
A44: 1
A45: 2
A46: 3
A47: 4 | B47: =+'4GrupeF1N150'!B47 -> 20 | C47: =+'4GrupeF1N150'!C47 -> Pajkurić, Dominik 2005 % | D47: =+'4GrupeF1N150'!D47 -> (jr) | E47: =+'4GrupeF1N150'!E47 -> AK Osijek
B49: 8
A50: 1
A51: 2
A52: 3
A53: 4 | B53: =+'4GrupeF1N150'!B53 -> #REF! | C53: =+'4GrupeF1N150'!C53 -> #REF! | D53: =+'4GrupeF1N150'!D53 -> #REF! | E53: =+'4GrupeF1N150'!E53 -> #REF!
B55: 9
A56: 1
A57: 2
A58: 3
A59: 4 | B59: =+'4GrupeF1N150'!B59 -> #REF! | C59: =+'4GrupeF1N150'!C59 -> #REF! | D59: =+'4GrupeF1N150'!D59 -> #REF! | E59: =+'4GrupeF1N150'!E59 -> #REF!
B61: 10
A62: 1
A63: 2
A64: 3
A65: 4 | B65: =+'4GrupeF1N150'!B65 -> 27 | C65: =+'4GrupeF1N150'!C65 -> Tufeković, Antonio 2008 # | D65: =+'4GrupeF1N150'!D65 -> (jr) | E65: =+'4GrupeF1N150'!E65 -> OŠ Tenja
B67: 11
A68: 1
A69: 2
A70: 3
A71: 4 | B71: =+'4GrupeF1N150'!B71 -> #REF! | C71: =+'4GrupeF1N150'!C71 -> #REF! | D71: =+'4GrupeF1N150'!D71 -> #REF! | E71: =+'4GrupeF1N150'!E71 -> #REF!
B73: 12
A74: 1
A75: 2
A76: 3
A77: 4 | B77: =+'4GrupeF1N150'!B77 -> 33 | C77: =+'4GrupeF1N150'!C77 -> Tadić, Mariano 2008 | D77: =+'4GrupeF1N150'!D77 -> (jr) | E77: =+'4GrupeF1N150'!E77 -> AK Osijek
B79: 13
A80: 1
A81: 2
A82: 3
A83: 4 | B83: =+'4GrupeF1N150'!B83 -> 0 | C83: =+'4GrupeF1N150'!C83 -> 0 | D83: =+'4GrupeF1N150'!D83 -> 0 | E83: =+'4GrupeF1N150'!E83 -> 0
B85: 14
A86: 1
A87: 2
A88: 3
A89: 4 | B89: =+'4GrupeF1N150'!B89 -> 0 | C89: =+'4GrupeF1N150'!C89 -> 0 | D89: =+'4GrupeF1N150'!D89 -> 0 | E89: =+'4GrupeF1N150'!E89 -> 0
B91: 15
A92: 1
A93: 2
A94: 3
A95: 4 | B95: =+'4GrupeF1N150'!B95 -> 0 | C95: =+'4GrupeF1N150'!C95 -> 0 | D95: =+'4GrupeF1N150'!D95 -> 0 | E95: =+'4GrupeF1N150'!E95 -> 0
B97: 16
A98: 1
A99: 2
A100: 3
A101: 4 | B101: =+'4GrupeF1N150'!B101 -> 0 | C101: =+'4GrupeF1N150'!C101 -> 0 | D101: =+'4GrupeF1N150'!D101 -> 0 | E101: =+'4GrupeF1N150'!E101 -> 0
B108: 17
A109: 1
A110: 2
A111: 3
A112: 4 | B112: =+'4GrupeF1N150'!B112 -> 0 | C112: =+'4GrupeF1N150'!C112 -> 0 | D112: =+'4GrupeF1N150'!D112 -> 0 | E112: =+'4GrupeF1N150'!E112 -> 0
B114: 18
A115: 1
A116: 2
A117: 3
A118: 4 | B118: =+'4GrupeF1N150'!B119 -> 0 | C118: =+'4GrupeF1N150'!C119 -> 0 | D118: =+'4GrupeF1N150'!D119 -> 0 | E118: =+'4GrupeF1N150'!E119 -> 0
B120: 19
A121: 1
A122: 2
A123: 3
A124: 4 | B124: =+'4GrupeF1N150'!B125 -> 0 | C124: =+'4GrupeF1N150'!C125 -> 0 | D124: =+'4GrupeF1N150'!D125 -> 0 | E124: =+'4GrupeF1N150'!E125 -> 0
...
