Workbook

Sheet Papirnati
B1: Turnir: | C1: 1. Kutina Indoor Open 2016. | G1: Papirnati
B2: Klasa: | C2: F1N-150
B3: Organizator: | C3: Aeroklub OSA Kutina
B4: Mjesto i datum: | C4: Kutina, 29.10.2016.
A6: Red. br. | B6: Ime i prezime | C6: God. rođ. | D6: Kateg. po god. rođ. | E6: Škola / klub / mjesto | F6: P1 | G6: P2 | H6: P3 | I6: Ukupno | J6: Poredak
A7: 11 | B7: Darko Ozimec | C7: 1971 | D7: S | E7: AK Osa Kutina | F7: 7.87 | G7: 10.59 | H7: 10.88 | I7: =SUM(F7:H7) -> 29.34 | J7: 1
A8: 14 | B8: Dorian Tepić | C8: 1997 | D8: S | E8: AMK Sisak | F8: 7.22 | G8: 6.12 | H8: 6.34 | I8: =SUM(F8:H8) -> 19.68 | J8: 2
A9: 23 | B9: Filip Farago | C9: 1987 | D9: S | E9: AK Osa Kutina | F9: 6.28 | G9: 6.16 | H9: 5.66 | I9: =SUM(F9:H9) -> 18.1 | J9: 3
A10: 13 | B10: Filip Glogoški | C10: 1998 | D10: J | E10: AK Osijek | F10: 5.59 | G10: 5.72 | H10: 5.9 | I10: =SUM(F10:H10) -> 17.21 | J10: 4
A11: 5 | B11: Andrija Rudić | C11: 1971 | D11: =IF(C11="", "greška", IF(C11<1998,"S",IF(C11<2001,"J",IF(C11<2005,"MJ","L")))) -> S | E11: grad kt | F11: 5.75 | G11: 5.88 | H11: 5.38 | I11: =SUM(F11:H11) -> 17.01 | J11: 5
A12: 10 | B12: Antonio Ozimec | C12: 2001 | D12: =IF(C12="", "greška", IF(C12<1998,"S",IF(C12<2001,"J",IF(C12<2005,"MJ","L")))) -> MJ | E12: AK Osa Kutina | F12: 4.62 | G12: 6.97 | H12: 4.85 | I12: =SUM(F12:H12) -> 16.44 | J12: 6
A13: 8 | B13: nikola krmpotić | C13: 1972 | D13: =IF(C13="", "greška", IF(C13<1998,"S",IF(C13<2001,"J",IF(C13<2005,"MJ","L")))) -> S | F13: 1.28 | G13: 7.81 | H13: 6.34 | I13: =SUM(F13:H13) -> 15.43 | J13: 7
A14: 9 | B14: Damir Markalaus | C14: 1964 | D14: =IF(C14="", "greška", IF(C14<1998,"S",IF(C14<2001,"J",IF(C14<2005,"MJ","L")))) -> S | E14: AK Osa Kutina | F14: 5.81 | G14: 5.91 | H14: 3.06 | I14: =SUM(F14:H14) -> 14.78 | J14: 8
A15: 26 | B15: Snježana Kovačić | C15: 1976 | D15: =IF(C15="", "greška", IF(C15<1998,"S",IF(C15<2001,"J",IF(C15<2005,"MJ","L")))) -> S | E15: AK Osa Kutina | F15: 5.47 | G15: 4.37 | H15: 4.32 | I15: =SUM(F15:H15) -> 14.16 | J15: 9
A16: 3 | B16: Vilim Zobec | C16: 1968 | D16: =IF(C16="", "greška", IF(C16<1998,"S",IF(C16<2001,"J",IF(C16<2005,"MJ","L")))) -> S | E16: AK Karlovac | F16: 4.84 | G16: 3.4 | H16: 5.29 | I16: =SUM(F16:H16) -> 13.53 | J16: 10
A17: 27 | B17: Marijan Makoš | C17: 1963 | D17: =IF(C17="", "greška", IF(C17<1998,"S",IF(C17<2001,"J",IF(C17<2005,"MJ","L")))) -> S | E17: AK Osa Kutina | F17: 6.09 | G17: 2.35 | H17: 4.91 | I17: =SUM(F17:H17) -> 13.35 | J17: 11
A18: 16 | B18: Damir Kosir | D18: S | E18: MK Zaprešić | F18: 9.53 | G18: 1.75 | H18: 1.66 | I18: =SUM(F18:H18) -> 12.94 | J18: 12
A19: 21 | B19: Igor Nišević | C19: 1996 | D19: =IF(C19="", "greška", IF(C19<1998,"S",IF(C19<2001,"J",IF(C19<2005,"MJ","L")))) -> S | E19: AK Osijek | F19: 4.88 | G19: 5.08 | H19: 2.6 | I19: =SUM(F19:H19) -> 12.56 | J19: 13
A20: 6 | B20: Jakov Kovačić | C20: 2007 | D20: =IF(C20="", "greška", IF(C20<1998,"S",IF(C20<2001,"J",IF(C20<2005,"MJ","L")))) -> L | E20: AK Osa Kutina | F20: 4.97 | G20: 1.91 | H20: 5.35 | I20: =SUM(F20:H20) -> 12.23 | J20: 14
A21: 28 | B21: Tatjana Vukušić | C21: 1978 | D21: =IF(C21="", "greška", IF(C21<1998,"S",IF(C21<2001,"J",IF(C21<2005,"MJ","L")))) -> S | E21: kutina | F21: 6.07 | G21: 2.38 | H21: 2.81 | I21: =SUM(F21:H21) -> 11.26 | J21: 15
A22: 18 | B22: Alen Tucman | C22: 2000 | D22: =IF(C22="", "greška", IF(C22<1998,"S",IF(C22<2001,"J",IF(C22<2005,"MJ","L")))) -> J | E22: MK Zaprešić | F22: 2.57 | G22: 7.06 | H22: 1.53 | I22: =SUM(F22:H22) -> 11.16 | J22: 16
A23: 24 | B23: Marin Pešut | C23: 2009 | D23: =IF(C23="", "greška", IF(C23<1998,"S",IF(C23<2001,"J",IF(C23<2005,"MJ","L")))) -> L | E23: AK Osa Kutina | F23: 4.63 | G23: 2.54 | H23: 3.72 | I23: =SUM(F23:H23) -> 10.89 | J23: 17
A24: 29 | B24: Karlo Lekšić | C24: 2001 | D24: =IF(C24="", "greška", IF(C24<1998,"S",IF(C24<2001,"J",IF(C24<2005,"MJ","L")))) -> MJ | E24: ak popovača | F24: 2.12 | G24: 4 | H24: 3.94 | I24: =SUM(F24:H24) -> 10.06 | J24: 18
A25: 12 | B25: Pavle Zagorac | D25: L | E25: AK Osa Kutina | F25: 4.59 | G25: 2.53 | H25: 2.25 | I25: =SUM(F25:H25) -> 9.37 | J25: 19
A26: 17 | B26: Dominik Špehar | D26: S | E26: MK Zaprešić | F26: 2.69 | G26: 4.03 | H26: 2 | I26: =SUM(F26:H26) -> 8.72 | J26: 20
A27: 19 | B27: Josip Vančina | C27: 2006 | D27: =IF(C27="", "greška", IF(C27<1998,"S",IF(C27<2001,"J",IF(C27<2005,"MJ","L")))) -> L | E27: MK Zaprešić | F27: 3.07 | G27: 2.55 | H27: 2.91 | I27: =SUM(F27:H27) -> 8.53 | J27: 21
A28: 22 | B28: Mirjana Ozimec | C28: 1969 | D28: =IF(C28="", "greška", IF(C28<1998,"S",IF(C28<2001,"J",IF(C28<2005,"MJ","L")))) -> S | E28: AK Osa Kutina | F28: 1.56 | G28: 3.82 | H28: 1.78 | I28: =SUM(F28:H28) -> 7.16 | J28: 22
A29: 25 | B29: Vito Jurčević | C29: 2009 | D29: =IF(C29="", "greška", IF(C29<1998,"S",IF(C29<2001,"J",IF(C29<2005,"MJ","L")))) -> L | E29: AK Osa Kutina | F29: 1.66 | G29: 2.37 | H29: 3.03 | I29: =SUM(F29:H29) -> 7.06 | J29: 23
A30: 30 | B30: Lana Lekšić | C30: 2003 | D30: =IF(C30="", "greška", IF(C30<1998,"S",IF(C30<2001,"J",IF(C30<2005,"MJ","L")))) -> MJ | E30: ak popovača | F30: 2.5 | G30: 1.81 | H30: 2.43 | I30: =SUM(F30:H30) -> 6.74 | J30: 24
A31: 20 | B31: Niko Vrabec | C31: 2005 | D31: =IF(C31="", "greška", IF(C31<1998,"S",IF(C31<2001,"J",IF(C31<2005,"MJ","L")))) -> L | E31: MK Zaprešić | F31: 2.12 | G31: 2.15 | H31: 2 | I31: =SUM(F31:H31) -> 6.27 | J31: 25
A32: 1 | B32: Noa Makoš | C32: 2004 | D32: =IF(C32="", "greška", IF(C32<1998,"S",IF(C32<2001,"J",IF(C32<2005,"MJ","L")))) -> MJ | E32: AK Osa Kutina | F32: 1.63 | G32: 1.94 | H32: 2.32 | I32: =SUM(F32:H32) -> 5.89 | J32: 26
A33: 7 | B33: Dunja Krmpotić | C33: 2006 | D33: =IF(C33="", "greška", IF(C33<1998,"S",IF(C33<2001,"J",IF(C33<2005,"MJ","L")))) -> L | E33: AK Osa Kutina | F33: 1.85 | G33: 1.28 | H33: 2.53 | I33: =SUM(F33:H33) -> 5.66 | J33: 27
A34: 2 | B34: Borna Zobec | C34: 2008 | D34: =IF(C34="", "greška", IF(C34<1998,"S",IF(C34<2001,"J",IF(C34<2005,"MJ","L")))) -> L | E34: AK Karlovac | F34: 1.75 | G34: 2 | H34: 1.44 | I34: =SUM(F34:H34) -> 5.19 | J34: 28
A35: 15 | B35: Katarina Ivanković | C35: 2006 | D35: =IF(C35="", "greška", IF(C35<1998,"S",IF(C35<2001,"J",IF(C35<2005,"MJ","L")))) -> L | E35: MK Zaprešić | F35: 1.44 | G35: 1.72 | H35: 1.66 | I35: =SUM(F35:H35) -> 4.82 | J35: 29
A36: 4 | B36: Boris Vidiček | C36: 2009 | D36: =IF(C36="", "greška", IF(C36<1998,"S",IF(C36<2001,"J",IF(C36<2005,"MJ","L")))) -> L | E36: kutina | F36: 0.88 | G36: 1.69 | H36: 1.85 | I36: =SUM(F36:H36) -> 4.42 | J36: 30
A37: 31 | F37: 0 | G37: 0 | H37: 0 | I37: =SUM(F37:H37) -> 0 | J37: 31
A38: 32 | F38: 0 | G38: 0 | H38: 0 | I38: =SUM(F38:H38) -> 0 | J38: 32
A39: 33 | F39: 0 | G39: 0 | H39: 0 | I39: =SUM(F39:H39) -> 0 | J39: 33
A40: 34 | F40: 0 | G40: 0 | H40: 0 | I40: =SUM(F40:H40) -> 0 | J40: 34
A41: 35 | F41: 0 | G41: 0 | H41: 0 | I41: =SUM(F41:H41) -> 0 | J41: 35
...

Sheet F1N-150
B1: Turnir: | C1: 1. Kutina Indoor Open 2016. | H1: F1N-150
B2: Klasa: | C2: F1N-150
B3: Organizator: | C3: Aeroklub OSA Kutina
B4: Mjesto i datum: | C4: Kutina, 29.10.2016.
A6: Red. br. | B6: Ime i prezime | C6: FAI dozvola | D6: Klub | E6: God. rođ. | F6: Kateg. po god. rođ. | G6: P1 | H6: P2 | I6: P3 | J6: P4 | K6: P5 | L6: P6 | M6: P7 | N6: P8 | O6: P9 | P6: Ukupno | Q6: 3 najbolja | R6: Poredak
A7: 14 | B7: Damir Kosir | C7: CRO F-001 | D7: MK Zaprešić | F7: S | G7: 35.1 | H7: 33.19 | I7: 33.78 | J7: 32.84 | K7: 35.07 | L7: 33.22 | M7: 32 | N7: 34.56 | O7: 33.25 | P7: =SUM(G7:O7) -> 303.01 | Q7: =LARGE(G7:O7,1)+LARGE(G7:O7,2)+LARGE(G7:O7,3) -> 104.73 | R7: 1
A8: 19 | B8: Igor Nišević | C8: F-039 | D8: AK Osijek | F8: S | G8: 32.63 | H8: 33.32 | I8: 33.1 | J8: 33.22 | K8: 31.22 | L8: 32.88 | M8: 34.06 | N8: 3.03 | O8: 32.28 | P8: =SUM(G8:O8) -> 265.74 | Q8: =LARGE(G8:O8,1)+LARGE(G8:O8,2)+LARGE(G8:O8,3) -> 100.6 | R8: 2
A9: 5 | B9: Vilim Zobec | C9: - | D9: AK Karlovac | F9: S | G9: 30.28 | H9: 35.72 | I9: 25.25 | J9: 21.84 | K9: 30.6 | L9: 22.53 | M9: 31.35 | N9: 4.47 | O9: 32.6 | P9: =SUM(G9:O9) -> 234.64 | Q9: =LARGE(G9:O9,1)+LARGE(G9:O9,2)+LARGE(G9:O9,3) -> 99.67 | R9: 3
A10: 15 | B10: Dominik Špehar | C10: F007 | D10: MK Zaprešić | F10: S | G10: 32.1 | H10: 33.72 | I10: 33.56 | J10: 25.19 | K10: 3.97 | L10: 31.97 | M10: 28.34 | N10: 31.22 | O10: 14.12 | P10: =SUM(G10:O10) -> 234.19 | Q10: =LARGE(G10:O10,1)+LARGE(G10:O10,2)+LARGE(G10:O10,3) -> 99.38 | R10: 4
A11: 2 | B11: Borna Zobec | C11: - | D11: AK Karlovac | E11: 2008 | F11: L | G11: 3.44 | H11: 29.84 | I11: 29.78 | J11: 32.82 | K11: 31.03 | L11: 31.69 | M11: 29.13 | N11: 30.78 | O11: 32.44 | P11: =SUM(G11:O11) -> 250.95 | Q11: =LARGE(G11:O11,1)+LARGE(G11:O11,2)+LARGE(G11:O11,3) -> 96.95 | R11: 5
A12: 16 | B12: Alen Tucman | C12: CRO F-004 | D12: MK Zaprešić | E12: 2000 | F12: J | G12: 7.78 | H12: 27.37 | I12: 7.59 | J12: 32.22 | K12: 32.01 | L12: 31.02 | M12: 30.13 | N12: 4.31 | O12: 31.18 | P12: =SUM(G12:O12) -> 203.61 | Q12: =LARGE(G12:O12,1)+LARGE(G12:O12,2)+LARGE(G12:O12,3) -> 95.41 | R12: 6
A13: 9 | B13: Darko Ozimec | C13: - | D13: AK Osa Kutina | E13: 1971 | F13: S | G13: 19.43 | H13: 2.91 | I13: 0 | J13: 27.12 | K13: 31.62 | L13: 31.59 | M13: 32.13 | N13: 27.9 | O13: 23.31 | P13: =SUM(G13:O13) -> 196.01 | Q13: =LARGE(G13:O13,1)+LARGE(G13:O13,2)+LARGE(G13:O13,3) -> 95.34 | R13: 7
A14: 7 | B14: Damir Markalaus | C14: - | D14: AK Osa Kutina | E14: 1964 | F14: S | G14: 26.62 | H14: 30.87 | I14: 29.94 | J14: 12.31 | K14: 27.72 | L14: 26.36 | M14: 31 | N14: 31.66 | O14: 30.43 | P14: =SUM(G14:O14) -> 246.91 | Q14: =LARGE(G14:O14,1)+LARGE(G14:O14,2)+LARGE(G14:O14,3) -> 93.53 | R14: 8
A15: 8 | B15: Antonio Ozimec | C15: - | D15: AK Osa Kutina | E15: 2001 | F15: MJ, J | G15: 28.91 | H15: 28.4 | I15: 25.34 | J15: 30.56 | K15: 29.56 | L15: 30.34 | M15: 24.91 | N15: 29.72 | O15: 31.03 | P15: =SUM(G15:O15) -> 258.77 | Q15: =LARGE(G15:O15,1)+LARGE(G15:O15,2)+LARGE(G15:O15,3) -> 91.93 | R15: 9
A16: 11 | B16: Filip Glogoški | C16: - | D16: AK Osijek | E16: 1998 | F16: J | G16: 29.94 | H16: 27.09 | I16: 26.22 | J16: 29.75 | K16: 30.5 | L16: 26.66 | M16: 10.91 | N16: 29.87 | O16: 28.28 | P16: =SUM(G16:O16) -> 239.22 | Q16: =LARGE(G16:O16,1)+LARGE(G16:O16,2)+LARGE(G16:O16,3) -> 90.31 | R16: 10
A17: 20 | B17: Mirjana Ozimec | D17: AK Osa Kutina | E17: 1969 | F17: S | G17: 2.47 | H17: 23.5 | I17: 26.97 | J17: 28.28 | K17: 24.66 | L17: 26.06 | M17: 27.93 | N17: 29.03 | O17: 27.78 | P17: =SUM(G17:O17) -> 216.68 | Q17: =LARGE(G17:O17,1)+LARGE(G17:O17,2)+LARGE(G17:O17,3) -> 85.24 | R17: 11
A18: 17 | B18: Josip Vančina | C18: - | D18: MK Zaprešić | E18: 2006 | F18: L | G18: 23.32 | H18: 23.32 | I18: 28.43 | J18: 4.35 | K18: 20.68 | L18: 23.91 | M18: 27.43 | N18: 26.63 | O18: 25.31 | P18: =SUM(G18:O18) -> 203.38 | Q18: =LARGE(G18:O18,1)+LARGE(G18:O18,2)+LARGE(G18:O18,3) -> 82.49 | R18: 12
A19: 18 | B19: Niko Vrabec | C19: - | D19: MK Zaprešić | E19: 2005 | F19: L | G19: 3.46 | H19: 10.78 | I19: 23.5 | J19: 26.84 | K19: 27.84 | L19: 25.12 | M19: 26.31 | N19: 24.06 | O19: 19.01 | P19: =SUM(G19:O19) -> 186.92 | Q19: =LARGE(G19:O19,1)+LARGE(G19:O19,2)+LARGE(G19:O19,3) -> 80.99 | R19: 13
A20: 12 | B20: Dorian Tepić | C20: F-059 | D20: AMK Sisak | F20: S | G20: 24.56 | H20: 24.22 | I20: 25.37 | J20: 8.19 | K20: 21.78 | L20: 23.39 | M20: 25.56 | N20: 23.18 | O20: 22.88 | P20: =SUM(G20:O20) -> 199.13 | Q20: =LARGE(G20:O20,1)+LARGE(G20:O20,2)+LARGE(G20:O20,3) -> 75.49 | R20: 14
A21: 13 | B21: Katarina Ivanković | C21: - | D21: MK Zaprešić | E21: 2006 | F21: L | G21: 21.81 | H21: 24.22 | I21: 20.65 | J21: 23.4 | K21: 21.1 | L21: 25.12 | M21: 21.56 | N21: 21.25 | O21: 22.16 | P21: =SUM(G21:O21) -> 201.27 | Q21: =LARGE(G21:O21,1)+LARGE(G21:O21,2)+LARGE(G21:O21,3) -> 72.74 | R21: 15
A22: 6 | B22: Luka Krmpotić | C22: - | D22: AK Osa Kutina | E22: 1999 | F22: J | G22: 13.43 | H22: 13.88 | I22: 24 | J22: 8.47 | K22: 20.97 | L22: 24.59 | M22: 1 | N22: 12.63 | O22: 21.87 | P22: =SUM(G22:O22) -> 140.84 | Q22: =LARGE(G22:O22,1)+LARGE(G22:O22,2)+LARGE(G22:O22,3) -> 70.46 | R22: 16
A23: 4 | B23: Jakov Kovačić | C23: - | D23: AK Osa Kutina | E23: 2007 | F23: L | G23: 4.38 | H23: 18.82 | I23: 14.97 | J23: 14.91 | K23: 4.94 | L23: 18.07 | M23: 16.37 | N23: 22.31 | O23: 24.28 | P23: =SUM(G23:O23) -> 139.05 | Q23: =LARGE(G23:O23,1)+LARGE(G23:O23,2)+LARGE(G23:O23,3) -> 65.41 | R23: 17
A24: 1 | B24: Noa Makoš | C24: - | D24: AK Osa Kutina | E24: 2004 | F24: MJ | G24: 9.87 | H24: 18.91 | I24: 19.37 | J24: 6.8 | K24: 5.87 | L24: 14.34 | M24: 20.56 | N24: 16.65 | O24: 5.94 | P24: =SUM(G24:O24) -> 118.31 | Q24: =LARGE(G24:O24,1)+LARGE(G24:O24,2)+LARGE(G24:O24,3) -> 58.84 | R24: 18
A25: 3 | B25: Dunja Krmpotić | C25: - | D25: AK Osa Kutina | E25: 2006 | F25: L | G25: 15.07 | H25: 4.96 | I25: 6.15 | J25: 3.91 | K25: 13.81 | L25: 15.5 | M25: 5.19 | N25: 3.35 | O25: 11.16 | P25: =SUM(G25:O25) -> 79.1 | Q25: =LARGE(G25:O25,1)+LARGE(G25:O25,2)+LARGE(G25:O25,3) -> 44.38 | R25: 19
A26: 10 | B26: Pavle Zagorac | C26: - | D26: AK Osa Kutina | F26: L | G26: 2.85 | H26: 2.45 | I26: 2.94 | J26: 3.9 | K26: 4 | L26: 3.85 | M26: - | N26: - | O26: - | P26: =SUM(G26:O26) -> 19.99 | Q26: =LARGE(G26:O26,1)+LARGE(G26:O26,2)+LARGE(G26:O26,3) -> 11.75 | R26: 20
A27: 21 | G27: 0 | H27: 0 | I27: 0 | J27: 0 | K27: 0 | L27: 0 | M27: 0 | N27: 0 | O27: 0 | P27: =SUM(G27:O27) -> 0 | Q27: =LARGE(G27:O27,1)+LARGE(G27:O27,2)+LARGE(G27:O27,3) -> 0 | R27: 21
A28: 22 | G28: 0 | H28: 0 | I28: 0 | J28: 0 | K28: 0 | L28: 0 | M28: 0 | N28: 0 | O28: 0 | P28: =SUM(G28:O28) -> 0 | Q28: =LARGE(G28:O28,1)+LARGE(G28:O28,2)+LARGE(G28:O28,3) -> 0 | R28: 22
A29: 23 | G29: 0 | H29: 0 | I29: 0 | J29: 0 | K29: 0 | L29: 0 | M29: 0 | N29: 0 | O29: 0 | P29: =SUM(G29:O29) -> 0 | Q29: =LARGE(G29:O29,1)+LARGE(G29:O29,2)+LARGE(G29:O29,3) -> 0 | R29: 23
A30: 24 | G30: 0 | H30: 0 | I30: 0 | J30: 0 | K30: 0 | L30: 0 | M30: 0 | N30: 0 | O30: 0 | P30: =SUM(G30:O30) -> 0 | Q30: =LARGE(G30:O30,1)+LARGE(G30:O30,2)+LARGE(G30:O30,3) -> 0 | R30: 24
A31: 25 | G31: 0 | H31: 0 | I31: 0 | J31: 0 | K31: 0 | L31: 0 | M31: 0 | N31: 0 | O31: 0 | P31: =SUM(G31:O31) -> 0 | Q31: =LARGE(G31:O31,1)+LARGE(G31:O31,2)+LARGE(G31:O31,3) -> 0 | R31: 25
A32: 26 | G32: 0 | H32: 0 | I32: 0 | J32: 0 | K32: 0 | L32: 0 | M32: 0 | N32: 0 | O32: 0 | P32: =SUM(G32:O32) -> 0 | Q32: =LARGE(G32:O32,1)+LARGE(G32:O32,2)+LARGE(G32:O32,3) -> 0 | R32: 26
A33: 27 | G33: 0 | H33: 0 | I33: 0 | J33: 0 | K33: 0 | L33: 0 | M33: 0 | N33: 0 | O33: 0 | P33: =SUM(G33:O33) -> 0 | Q33: =LARGE(G33:O33,1)+LARGE(G33:O33,2)+LARGE(G33:O33,3) -> 0 | R33: 27
A34: 28 | G34: 0 | H34: 0 | I34: 0 | J34: 0 | K34: 0 | L34: 0 | M34: 0 | N34: 0 | O34: 0 | P34: =SUM(G34:O34) -> 0 | Q34: =LARGE(G34:O34,1)+LARGE(G34:O34,2)+LARGE(G34:O34,3) -> 0 | R34: 28
A35: 29 | G35: 0 | H35: 0 | I35: 0 | J35: 0 | K35: 0 | L35: 0 | M35: 0 | N35: 0 | O35: 0 | P35: =SUM(G35:O35) -> 0 | Q35: =LARGE(G35:O35,1)+LARGE(G35:O35,2)+LARGE(G35:O35,3) -> 0 | R35: 29
A36: 30 | G36: 0 | H36: 0 | I36: 0 | J36: 0 | K36: 0 | L36: 0 | M36: 0 | N36: 0 | O36: 0 | P36: =SUM(G36:O36) -> 0 | Q36: =LARGE(G36:O36,1)+LARGE(G36:O36,2)+LARGE(G36:O36,3) -> 0 | R36: 30
A37: 31 | G37: 0 | H37: 0 | I37: 0 | J37: 0 | K37: 0 | L37: 0 | M37: 0 | N37: 0 | O37: 0 | P37: =SUM(G37:O37) -> 0 | Q37: =LARGE(G37:O37,1)+LARGE(G37:O37,2)+LARGE(G37:O37,3) -> 0 | R37: 31
A38: 32 | G38: 0 | H38: 0 | I38: 0 | J38: 0 | K38: 0 | L38: 0 | M38: 0 | N38: 0 | O38: 0 | P38: =SUM(G38:O38) -> 0 | Q38: =LARGE(G38:O38,1)+LARGE(G38:O38,2)+LARGE(G38:O38,3) -> 0 | R38: 32
... A106: 100 | G106: 0 | H106: 0 | I106: 0 | J106: 0 | K106: 0 | L106: 0 | M106: 0 | N106: 0 | O106: 0 | P106: =SUM(G106:O106) -> 0 | Q106: =LARGE(G106:O106,1)+LARGE(G106:O106,2)+LARGE(G106:O106,3) -> 0 | R106: 100

Sheet F1N
B1: Turnir: | C1: 1. Kutina Indoor Open 2016. | H1: F1N
B2: Klasa: | C2: F1N
B3: Organizator: | C3: Aeroklub OSA Kutina
B4: Mjesto i datum: | C4: Kutina, 29.10.2016.
A6: Red. br. | B6: Ime i prezime | C6: FAI dozvola | D6: Klub | E6: God. rođ. | F6: Kateg. po god. rođ. | G6: P1 | H6: P2 | I6: P3 | J6: P4 | K6: P5 | L6: P6 | M6: P7 | N6: P8 | O6: P9 | P6: Ukupno | Q6: 3 najbolja | R6: Poredak
A7: 17 | B7: Vilim Zobec | C7: - | D7: AK Karlovac | F7: S | G7: 22.59 | H7: 37.31 | I7: 30.13 | J7: 40.75 | K7: 44 | L7: 32.3 | M7: 41.66 | N7: 22.84 | O7: 46.35 | P7: =SUM(G7:O7) -> 317.93 | Q7: =LARGE(G7:O7,1)+LARGE(G7:O7,2)+LARGE(G7:O7,3) -> 132.01 | R7: 1
A8: 9 | B8: Damir Kosir | C8: CRO F-001 | D8: MK Zaprešić | F8: S | G8: 39.19 | H8: 39.28 | I8: 39.69 | J8: 5.75 | K8: 42.41 | L8: 7.66 | M8: 41.75 | N8: 36.59 | O8: 37.54 | P8: =SUM(G8:O8) -> 289.86 | Q8: =LARGE(G8:O8,1)+LARGE(G8:O8,2)+LARGE(G8:O8,3) -> 123.85 | R8: 2
A9: 11 | B9: Alen Tucman | C9: CRO F-004 | D9: MK Zaprešić | E9: 2000 | F9: J | G9: 3.06 | H9: 4.09 | I9: 4.72 | J9: 37.06 | K9: 38.41 | L9: 38.06 | M9: 31.59 | N9: 28.56 | O9: 37.97 | P9: =SUM(G9:O9) -> 223.52 | Q9: =LARGE(G9:O9,1)+LARGE(G9:O9,2)+LARGE(G9:O9,3) -> 114.44 | R9: 3
A10: 5 | B10: Antonio Ozimec | C10: - | D10: AK Osa Kutina | E10: 2001 | F10: MJ, J | G10: 31.16 | H10: 31.97 | I10: 32.91 | J10: 29.94 | K10: 31.13 | L10: 18.81 | M10: 19.91 | N10: 21 | O10: 31.88 | P10: =SUM(G10:O10) -> 248.71 | Q10: =LARGE(G10:O10,1)+LARGE(G10:O10,2)+LARGE(G10:O10,3) -> 96.76 | R10: 4
A11: 7 | B11: Filip Glogoški | C11: - | D11: AK Osijek | E11: 1998 | F11: J | G11: 28.03 | H11: 18.65 | I11: 27.34 | J11: 34.99 | K11: 28.31 | L11: 29.13 | M11: 29.81 | N11: 30.41 | O11: 31 | P11: =SUM(G11:O11) -> 257.67 | Q11: =LARGE(G11:O11,1)+LARGE(G11:O11,2)+LARGE(G11:O11,3) -> 96.4 | R11: 5
A12: 8 | B12: Dorian Tepić | C12: F-059 | D12: AMK Sisak | F12: S | G12: 26.75 | H12: 31.51 | I12: 29.28 | J12: 29.62 | K12: 31.65 | L12: 33 | M12: 6.94 | N12: 29.84 | O12: 22.46 | P12: =SUM(G12:O12) -> 241.05 | Q12: =LARGE(G12:O12,1)+LARGE(G12:O12,2)+LARGE(G12:O12,3) -> 96.16 | R12: 6
A13: 4 | B13: Damir Markalaus | C13: - | D13: AK Osa Kutina | E13: 1964 | F13: S | G13: 11.41 | H13: 28.19 | I13: 30.62 | J13: 28.43 | K13: 27.31 | L13: 16.41 | M13: 29.56 | N13: 28.56 | O13: 31.19 | P13: =SUM(G13:O13) -> 231.68 | Q13: =LARGE(G13:O13,1)+LARGE(G13:O13,2)+LARGE(G13:O13,3) -> 91.37 | R13: 7
A14: 6 | B14: Darko Ozimec | C14: - | D14: AK Osa Kutina | E14: 1971 | F14: S | G14: 19.81 | H14: 21 | I14: 28.06 | J14: 26.72 | K14: 19.91 | L14: 26.91 | M14: 25.25 | N14: 20.5 | O14: 26.97 | P14: =SUM(G14:O14) -> 215.13 | Q14: =LARGE(G14:O14,1)+LARGE(G14:O14,2)+LARGE(G14:O14,3) -> 81.94 | R14: 8
A15: 10 | B15: Dominik Špehar | C15: F007 | D15: MK Zaprešić | F15: S | G15: 9.47 | H15: 25.06 | I15: 5.85 | J15: 23.6 | K15: 22.88 | L15: 21.66 | M15: 24.31 | N15: 25.44 | O15: 27.28 | P15: =SUM(G15:O15) -> 185.55 | Q15: =LARGE(G15:O15,1)+LARGE(G15:O15,2)+LARGE(G15:O15,3) -> 77.78 | R15: 9
A16: 3 | B16: Luka Krmpotić | C16: - | D16: AK Osa Kutina | E16: 1999 | F16: J | G16: 5.37 | H16: 27.62 | I16: 6.84 | J16: 6.93 | K16: 11.5 | L16: 19.16 | M16: 18.19 | N16: 6.25 | O16: 28.19 | P16: =SUM(G16:O16) -> 130.05 | Q16: =LARGE(G16:O16,1)+LARGE(G16:O16,2)+LARGE(G16:O16,3) -> 74.97 | R16: 10
A17: 18 | B17: Alen Laškaj | C17: - | D17: AK Osa Kutina | F17: S | G17: 20.75 | H17: 11.28 | I17: 18.12 | J17: 21.4 | K17: 20.09 | L17: 25.01 | M17: 3.94 | N17: 4.15 | O17: 5.44 | P17: =SUM(G17:O17) -> 130.18 | Q17: =LARGE(G17:O17,1)+LARGE(G17:O17,2)+LARGE(G17:O17,3) -> 67.16 | R17: 11
A18: 12 | B18: Josip Vančina | C18: - | D18: MK Zaprešić | E18: 2006 | F18: L | G18: 20.72 | H18: 9.56 | I18: 15.75 | J18: 12.86 | K18: 10.06 | L18: 13.38 | M18: 2.62 | N18: 21.47 | O18: 16.06 | P18: =SUM(G18:O18) -> 122.48 | Q18: =LARGE(G18:O18,1)+LARGE(G18:O18,2)+LARGE(G18:O18,3) -> 58.25 | R18: 12
A19: 16 | B19: Mirjana Ozimec | C19: - | D19: AK Osa Kutina | E19: 1969 | F19: S | G19: 13.4 | H19: 9.19 | I19: 15.06 | J19: 13.56 | K19: 8.82 | L19: 6.66 | M19: 20.28 | N19: 6.91 | O19: 12.06 | P19: =SUM(G19:O19) -> 105.94 | Q19: =LARGE(G19:O19,1)+LARGE(G19:O19,2)+LARGE(G19:O19,3) -> 48.9 | R19: 13
A20: 13 | B20: Igor Nišević | C20: F-039 | D20: AK Osijek | F20: S | G20: 0 | H20: 0 | I20: 0 | J20: 2.87 | K20: 2.75 | L20: 14.19 | M20: 15.65 | N20: 16.97 | O20: 14.87 | P20: =SUM(G20:O20) -> 67.3 | Q20: =LARGE(G20:O20,1)+LARGE(G20:O20,2)+LARGE(G20:O20,3) -> 47.49 | R20: 14
A21: 15 | B21: Katarina Ivanković | C21: - | D21: MK Zaprešić | E21: 2006 | F21: L | G21: 4.07 | H21: 3.04 | I21: 4.07 | J21: 11.69 | K21: 4.32 | L21: 6.97 | M21: 2.73 | N21: 5.25 | O21: 10.02 | P21: =SUM(G21:O21) -> 52.16 | Q21: =LARGE(G21:O21,1)+LARGE(G21:O21,2)+LARGE(G21:O21,3) -> 28.68 | R21: 15
A22: 1 | B22: Borna Zobec | C22: - | D22: AK Karlovac | E22: 2008 | F22: L | G22: 1.18 | H22: 9.4 | I22: 12.35 | J22: 4.69 | K22: 1.15 | L22: 2.25 | M22: 0 | N22: 0 | O22: 0 | P22: =SUM(G22:O22) -> 31.02 | Q22: =LARGE(G22:O22,1)+LARGE(G22:O22,2)+LARGE(G22:O22,3) -> 26.44 | R22: 16
A23: 2 | B23: Jakov Kovačić | C23: - | D23: AK Osa Kutina | F23: L | G23: 5.05 | H23: 10.11 | I23: 9.84 | J23: 2.15 | K23: 1.81 | L23: 2.11 | M23: 0 | N23: 2.09 | O23: 2.12 | P23: =SUM(G23:O23) -> 35.28 | Q23: =LARGE(G23:O23,1)+LARGE(G23:O23,2)+LARGE(G23:O23,3) -> 25 | R23: 17
A24: 14 | B24: Niko Vrabec | C24: - | D24: MK Zaprešić | E24: 2005 | F24: L | G24: 9.59 | H24: 6.44 | I24: 4.22 | J24: 3.13 | K24: 3.13 | L24: 4.43 | M24: 6.32 | N24: 4.78 | O24: 6.81 | P24: =SUM(G24:O24) -> 48.85 | Q24: =LARGE(G24:O24,1)+LARGE(G24:O24,2)+LARGE(G24:O24,3) -> 22.84 | R24: 18
A25: 19 | G25: 0 | H25: 0 | I25: 0 | J25: 0 | K25: 0 | L25: 0 | M25: 0 | N25: 0 | O25: 0 | P25: =SUM(G25:O25) -> 0 | Q25: =LARGE(G25:O25,1)+LARGE(G25:O25,2)+LARGE(G25:O25,3) -> 0 | R25: 19
A26: 20 | G26: 0 | H26: 0 | I26: 0 | J26: 0 | K26: 0 | L26: 0 | M26: 0 | N26: 0 | O26: 0 | P26: =SUM(G26:O26) -> 0 | Q26: =LARGE(G26:O26,1)+LARGE(G26:O26,2)+LARGE(G26:O26,3) -> 0 | R26: 20
A27: 21 | G27: 0 | H27: 0 | I27: 0 | J27: 0 | K27: 0 | L27: 0 | M27: 0 | N27: 0 | O27: 0 | P27: =SUM(G27:O27) -> 0 | Q27: =LARGE(G27:O27,1)+LARGE(G27:O27,2)+LARGE(G27:O27,3) -> 0 | R27: 21
A28: 22 | G28: 0 | H28: 0 | I28: 0 | J28: 0 | K28: 0 | L28: 0 | M28: 0 | N28: 0 | O28: 0 | P28: =SUM(G28:O28) -> 0 | Q28: =LARGE(G28:O28,1)+LARGE(G28:O28,2)+LARGE(G28:O28,3) -> 0 | R28: 22
A29: 23 | G29: 0 | H29: 0 | I29: 0 | J29: 0 | K29: 0 | L29: 0 | M29: 0 | N29: 0 | O29: 0 | P29: =SUM(G29:O29) -> 0 | Q29: =LARGE(G29:O29,1)+LARGE(G29:O29,2)+LARGE(G29:O29,3) -> 0 | R29: 23
A30: 24 | G30: 0 | H30: 0 | I30: 0 | J30: 0 | K30: 0 | L30: 0 | M30: 0 | N30: 0 | O30: 0 | P30: =SUM(G30:O30) -> 0 | Q30: =LARGE(G30:O30,1)+LARGE(G30:O30,2)+LARGE(G30:O30,3) -> 0 | R30: 24
A31: 25 | G31: 0 | H31: 0 | I31: 0 | J31: 0 | K31: 0 | L31: 0 | M31: 0 | N31: 0 | O31: 0 | P31: =SUM(G31:O31) -> 0 | Q31: =LARGE(G31:O31,1)+LARGE(G31:O31,2)+LARGE(G31:O31,3) -> 0 | R31: 25
A32: 26 | G32: 0 | H32: 0 | I32: 0 | J32: 0 | K32: 0 | L32: 0 | M32: 0 | N32: 0 | O32: 0 | P32: =SUM(G32:O32) -> 0 | Q32: =LARGE(G32:O32,1)+LARGE(G32:O32,2)+LARGE(G32:O32,3) -> 0 | R32: 26
A33: 27 | G33: 0 | H33: 0 | I33: 0 | J33: 0 | K33: 0 | L33: 0 | M33: 0 | N33: 0 | O33: 0 | P33: =SUM(G33:O33) -> 0 | Q33: =LARGE(G33:O33,1)+LARGE(G33:O33,2)+LARGE(G33:O33,3) -> 0 | R33: 27
A34: 28 | G34: 0 | H34: 0 | I34: 0 | J34: 0 | K34: 0 | L34: 0 | M34: 0 | N34: 0 | O34: 0 | P34: =SUM(G34:O34) -> 0 | Q34: =LARGE(G34:O34,1)+LARGE(G34:O34,2)+LARGE(G34:O34,3) -> 0 | R34: 28
A35: 29 | G35: 0 | H35: 0 | I35: 0 | J35: 0 | K35: 0 | L35: 0 | M35: 0 | N35: 0 | O35: 0 | P35: =SUM(G35:O35) -> 0 | Q35: =LARGE(G35:O35,1)+LARGE(G35:O35,2)+LARGE(G35:O35,3) -> 0 | R35: 29
A36: 30 | G36: 0 | H36: 0 | I36: 0 | J36: 0 | K36: 0 | L36: 0 | M36: 0 | N36: 0 | O36: 0 | P36: =SUM(G36:O36) -> 0 | Q36: =LARGE(G36:O36,1)+LARGE(G36:O36,2)+LARGE(G36:O36,3) -> 0 | R36: 30
... A106: 100 | G106: 0 | H106: 0 | I106: 0 | J106: 0 | K106: 0 | L106: 0 | M106: 0 | N106: 0 | O106: 0 | P106: =SUM(G106:O106) -> 0 | Q106: =LARGE(G106:O106,1)+LARGE(G106:O106,2)+LARGE(G106:O106,3) -> 0 | R106: 100

Sheet Ukupni
C1: ime | E1: vrijednost
B2: S | C2: vilim zobec | E2: =F1N!Q7+'F1N-150'!Q9+Papirnati!I16 -> 245.21
B3: S | C3: kosir damir | E3: =F1N!Q8+'F1N-150'!Q7+Papirnati!I18 -> 241.52
B4: J | C4: alen tucman | E4: =F1N!Q9+'F1N-150'!Q12+Papirnati!I22 -> 221.01
B5: S | C5: darko ozimec | E5: =F1N!Q14+'F1N-150'!Q13+Papirnati!I7 -> 206.62
B6: MJ, J | C6: antonio ozimec | E6: =F1N!Q10+'F1N-150'!Q15+Papirnati!I12 -> 205.13
B7: J | C7: filip glogoški | E7: =F1N!Q11+'F1N-150'!Q16+Papirnati!I10 -> 203.92
B8: S | C8: damir markalaus | E8: =F1N!Q13+'F1N-150'!Q14+Papirnati!I14 -> 199.68
B9: S | C9: dorian tepić | E9: =F1N!Q12+'F1N-150'!Q20+Papirnati!I8 -> 191.33
B10: S | C10: dominik špehar | E10: =F1N!Q15+'F1N-150'!Q10+Papirnati!I26 -> 185.88
C11: igor nišević | E11: =F1N!Q20+'F1N-150'!Q8+Papirnati!I19 -> 160.65
C12: josip vančina | E12: =F1N!Q18+'F1N-150'!Q18+Papirnati!I27 -> 149.27
C13: luka krmpotić | E13: =F1N!Q16+'F1N-150'!Q22 -> 145.43 | F13: nema papirnato
B14: S | C14: mirjana ozimec | E14: =F1N!Q19+'F1N-150'!Q17+Papirnati!I28 -> 141.3
C15: borna zobec | E15: =F1N!Q22+'F1N-150'!Q11+Papirnati!I34 -> 128.58
C16: niko vrabec | E16: =F1N!Q24+'F1N-150'!Q19+Papirnati!I31 -> 110.1
C17: katarina ivanković | E17: =F1N!Q21+'F1N-150'!Q21+Papirnati!I35 -> 106.24
C18: jakov kovačić | E18: =F1N!Q23+'F1N-150'!Q23+Papirnati!I20 -> 102.64
C19: noa makoš | E19: ='F1N-150'!Q24+Papirnati!I32 -> 64.73 | F19: nema f1n
C20: dunja krmpotić | E20: ='F1N-150'!Q25+Papirnati!I33 -> 50.04 | F20: nema f1n
C21: pavle zagorac | E21: ='F1N-150'!Q26+Papirnati!I25 -> 21.12 | F21: nema f1n
