Workbook

Sheet Prijave
A1: RB | B1: Prezime, ime | C1: Jr. | D1: Država | E1: Aeroklub | F1: Dozvola | G1: Kanal 1 | H1: kanal 2 | J1: St.Broj | K1: Natjecatelj | L1: Jr | M1: Država | N1: Aeroklub
A2: 1 | B2: Urbančič, Grega | D2: SLO | E2: AK-Ptuj | G2: 2.4 | J2: 1 | K2: =B2 -> Urbančič, Grega | M2: =D2 -> SLO | N2: =E2 -> AK-Ptuj
A3: 2 | B3: Urbančič, Luka | C3: (jr) | D3: SLO | E3: AK-Ptuj | G3: 2.4 | J3: 2 | K3: =B3 -> Urbančič, Luka | L3: (jr) | M3: =D3 -> SLO | N3: =E3 -> AK-Ptuj
A4: 3 | B4: Kosir, Damir | D4: CRO | E4: MK Zaprešić | F4: F 001 | G4: 2.4 | J4: 3 | K4: =B4 -> Kosir, Damir | M4: =D4 -> CRO | N4: =E4 -> MK Zaprešić
A5: 4 | B5: Tucman, Alen | C5: (jr) | D5: CRO | E5: MK Zaprešić | F5: F-004 | G5: 2.4 | J5: 4 | K5: =B5 -> Tucman, Alen | L5: (jr) | M5: =D5 -> CRO | N5: =E5 -> MK Zaprešić
A6: 5 | B6: Frančić, Nikola | D6: CRO | E6: AK Rudolf Fizir | F6: F - 020 | G6: 42096 | H6: - | J6: 5 | K6: =B6 -> Frančić, Nikola | M6: =D6 -> CRO | N6: =E6 -> AK Rudolf Fizir
A7: 6 | B7: Geci, Filip | D7: CRO | E7: AK Rudolf Fizir | G7: 42096 | J7: 6 | K7: =B7 -> Geci, Filip | M7: =D7 -> CRO | N7: =E7 -> AK Rudolf Fizir
A8: 7 | B8: Hrastovec, Krešimir | D8: CRO | E8: MK Zaprešić | F8: F-015 | G8: 2.4 | J8: 7 | K8: =B8 -> Hrastovec, Krešimir | M8: =D8 -> CRO | N8: =E8 -> MK Zaprešić
A9: 8 | B9: Videnšek, Tone | D9: SLO | E9: DMP-Murska Sobota | F9: 143034 | G9: 2.4 | J9: 8 | K9: =B9 -> Videnšek, Tone | M9: =D9 -> SLO | N9: =E9 -> DMP-Murska Sobota
A10: 9 | B10: Mihajlović, Saša | D10: CRO | E10: MK Zaprešić | F10: F-063 | G10: 2.4 | J10: 9 | K10: =B10 -> Mihajlović, Saša | M10: =D10 -> CRO | N10: =E10 -> MK Zaprešić
A11: 10 | B11: Podbregar, Matjaž | D11: SLO | E11: AK Milan B.Litija | G11: 2.4 | J11: 10 | K11: =B11 -> Podbregar, Matjaž | M11: =D11 -> SLO | N11: =E11 -> AK Milan B.Litija
A12: 11 | B12: Lovše, Mirko | D12: SLO | E12: AK. Milan B. Litija | G12: 35 | H12: 74 | J12: 11 | K12: =B12 -> Lovše, Mirko | M12: =D12 -> SLO | N12: =E12 -> AK. Milan B. Litija
A13: 12
A14: 13
A15: 14
A16: 15
A17: 16
A18: 17
A19: 18
A20: 19
A21: 20
A22: 21
A23: 22
A25: *** U gornju tablicu kopirati podatke iz prijava *** | J25: *** upisati samo Startni Broj uz natjecatelja (sve ostalo je linkano) ***
B28: Naziv natjecanja: | C28: 7. Zaprešićki elektro kup F5J-400
B29: Mjesto i datum: | C29: Zaprešić, 10.5.2015.

Sheet Kartoni
B2: =Prijave!$C$28 -> 7. Zaprešićki elektro kup F5J-400 | K2: =$B$2 -> 7. Zaprešićki elektro kup F5J-400
H3: St.Broj: | I3: 1 | Q3: St.Broj: | R3: 2
B4: NATJECATELJ | D4: =VLOOKUP(I3,Prijave!$J$2:$N$22,2,FALSE) -> Urbančič, Grega | K4: NATJECATELJ | M4: =VLOOKUP(R3,Prijave!$J$2:$N$22,2,FALSE) -> Urbančič, Luka
B5: AEROKLUB | D5: =VLOOKUP(I3,Prijave!$J$2:$N$22,5,FALSE) -> AK-Ptuj | H5: Država | I5: =VLOOKUP(I3,Prijave!$J$2:$N$22,4,FALSE) -> SLO | K5: AEROKLUB | M5: =VLOOKUP(R3,Prijave!$J$2:$N$22,5,FALSE) -> AK-Ptuj | Q5: Država | R5: =VLOOKUP(R3,Prijave!$J$2:$N$22,4,FALSE) -> SLO
B7: LET | C7: Grupa | D7: Minute | E7: Sekunde | F7: Stotinke | H7: SLIJETANJE | I7: OK | K7: LET | L7: Grupa | M7: Minute | N7: Sekunde | O7: Stotinke | Q7: SLIJETANJE | R7: OK
B8: 1 | I8: ⃝ | K8: 1 | R8: ⃝
B9: 2 | I9: ⃝ | K9: 2 | R9: ⃝
B10: 3 | I10: ⃝ | K10: 3 | R10: ⃝
B11: 4 | I11: ⃝ | K11: 4 | R11: ⃝
B12: 5 | I12: ⃝ | K12: 5 | R12: ⃝
B13: 6 | I13: ⃝ | K13: 6 | R13: ⃝
B14: 7 | I14: ⃝ | K14: 7 | R14: ⃝
B15: 8 | I15: ⃝ | K15: 8 | R15: ⃝
B16: Napomene: | K16: Napomene:
B20: =Prijave!$C$29 -> Zaprešić, 10.5.2015. | K20: =$B$20 -> Zaprešić, 10.5.2015.
B22: =$B$2 -> 7. Zaprešićki elektro kup F5J-400 | K22: =$B$2 -> 7. Zaprešićki elektro kup F5J-400
H23: St.Broj: | I23: 3 | Q23: St.Broj: | R23: 4
B24: NATJECATELJ | D24: =VLOOKUP(I23,Prijave!$J$2:$N$22,2,FALSE) -> Kosir, Damir | K24: NATJECATELJ | M24: =VLOOKUP(R23,Prijave!$J$2:$N$22,2,FALSE) -> Tucman, Alen
B25: AEROKLUB | D25: =VLOOKUP(I23,Prijave!$J$2:$N$22,5,FALSE) -> MK Zaprešić | H25: Država | I25: =VLOOKUP(I23,Prijave!$J$2:$N$22,4,FALSE) -> CRO | K25: AEROKLUB | M25: =VLOOKUP(R23,Prijave!$J$2:$N$22,5,FALSE) -> MK Zaprešić | Q25: Država | R25: =VLOOKUP(R23,Prijave!$J$2:$N$22,4,FALSE) -> CRO
B27: LET | C27: Grupa | D27: Minute | E27: Sekunde | F27: Stotinke | H27: SLIJETANJE | I27: OK | K27: LET | L27: Grupa | M27: Minute | N27: Sekunde | O27: Stotinke | Q27: SLIJETANJE | R27: OK
B28: 1 | I28: ⃝ | K28: 1 | R28: ⃝
B29: 2 | I29: ⃝ | K29: 2 | R29: ⃝
B30: 3 | I30: ⃝ | K30: 3 | R30: ⃝
B31: 4 | I31: ⃝ | K31: 4 | R31: ⃝
B32: 5 | I32: ⃝ | K32: 5 | R32: ⃝
B33: 6 | I33: ⃝ | K33: 6 | R33: ⃝
B34: 7 | I34: ⃝ | K34: 7 | R34: ⃝
B35: 8 | I35: ⃝ | K35: 8 | R35: ⃝
B36: Napomene: | K36: Napomene:
B40: =$B$20 -> Zaprešić, 10.5.2015. | K40: =$B$20 -> Zaprešić, 10.5.2015.
B41: =$B$2 -> 7. Zaprešićki elektro kup F5J-400 | K41: =$B$2 -> 7. Zaprešićki elektro kup F5J-400
H42: St.Broj: | I42: 5 | Q42: St.Broj: | R42: 6
B43: NATJECATELJ | D43: =VLOOKUP(I42,Prijave!$J$2:$N$22,2,FALSE) -> Frančić, Nikola | K43: NATJECATELJ | M43: =VLOOKUP(R42,Prijave!$J$2:$N$22,2,FALSE) -> Geci, Filip
B44: AEROKLUB | D44: =VLOOKUP(I42,Prijave!$J$2:$N$22,5,FALSE) -> AK Rudolf Fizir | H44: Država | I44: =VLOOKUP(I42,Prijave!$J$2:$N$22,4,FALSE) -> CRO | K44: AEROKLUB | M44: =VLOOKUP(R42,Prijave!$J$2:$N$22,5,FALSE) -> AK Rudolf Fizir | Q44: Država | R44: =VLOOKUP(R42,Prijave!$J$2:$N$22,4,FALSE) -> CRO
B46: LET | C46: Grupa | D46: Minute | E46: Sekunde | F46: Stotinke | H46: SLIJETANJE | I46: OK | K46: LET | L46: Grupa | M46: Minute | N46: Sekunde | O46: Stotinke | Q46: SLIJETANJE | R46: OK
B47: 1 | I47: ⃝ | K47: 1 | R47: ⃝
B48: 2 | I48: ⃝ | K48: 2 | R48: ⃝
B49: 3 | I49: ⃝ | K49: 3 | R49: ⃝
B50: 4 | I50: ⃝ | K50: 4 | R50: ⃝
B51: 5 | I51: ⃝ | K51: 5 | R51: ⃝
...

Sheet Matrica
B1: Turnus 1 | E1: Turnus 2 | H1: Turnus 3 | K1: Turnus 4 | N1: Turnus 5 | Q1: Turnus 6 | T1: Turnus 7 | W1: Turnus 8
B2: G1 | C2: G2 | D2: G3 | E2: G1 | F2: G2 | G2: G3 | H2: G1 | I2: G2 | J2: G3 | K2: G1 | L2: G2 | M2: G3 | N2: G1 | O2: G2 | P2: G3 | Q2: G1 | R2: G2 | S2: G3 | T2: G1 | U2: G2 | V2: G3 | W2: G1 | X2: G2 | Y2: G3
A3: 1 | B3: 1 | C3: 2 | E3: 1 | F3: 2 | H3: 1 | I3: 2 | K3: 1 | L3: 2 | N3: 1 | O3: 2 | Q3: 1 | R3: 2 | T3: 1 | U3: 2 | W3: 1 | X3: 2
A4: 2 | B4: 3 | C4: 4 | E4: 3 | F4: 4 | H4: 3 | I4: 4 | K4: 3 | L4: 4 | N4: 4 | O4: 3 | Q4: 4 | R4: 3 | T4: 4 | U4: 3 | W4: 4 | X4: 3
A5: 3 | B5: 5 | C5: 9 | E5: 6 | F5: 5 | H5: 5 | I5: 6 | K5: 5 | L5: 7 | N5: 6 | O5: 5 | Q5: 6 | R5: 5 | T5: 5 | U5: 7 | W5: 5 | X5: 9
A6: 4 | B6: 6 | C6: 10 | E6: 8 | F6: 7 | H6: 7 | I6: 8 | K6: 6 | L6: 8 | N6: 8 | O6: 7 | Q6: 8 | R6: 7 | T6: 6 | U6: 8 | W6: 6 | X6: 10
A7: 5 | B7: 7 | C7: 11 | E7: 10 | F7: 9 | H7: 9 | I7: 10 | K7: 9 | L7: 11 | N7: 9 | O7: 10 | Q7: 9 | R7: 10 | T7: 9 | U7: 11 | W7: 7 | X7: 11
A8: 6 | B8: 8 | F8: 11 | H8: 11 | K8: 10 | N8: 11 | Q8: 11 | T8: 10 | W8: 8
A9: 7
A10: 8
B12: =SUM(B3:B11) -> 30 | C12: =SUM(C3:C11) -> 36 | D12: =SUM(D3:D11) -> 0 | E12: =SUM(E3:E11) -> 28 | F12: =SUM(F3:F11) -> 38 | G12: =SUM(G3:G11) -> 0 | H12: =SUM(H3:H11) -> 36 | I12: =SUM(I3:I11) -> 30 | ... Y12: =SUM(Y3:Y11) -> 0
D13: =SUM(B12:D12) -> 66 | G13: =SUM(E12:G12) -> 66 | J13: =SUM(H12:J12) -> 66 | M13: =SUM(K12:M12) -> 66 | P13: =SUM(N12:P12) -> 66 | S13: =SUM(Q12:S12) -> 66 | V13: =SUM(T12:V12) -> 66 | Y13: =SUM(W12:Y12) -> 66
B17: 1 | C17: 2 | D17: 3 | E17: 4 | F17: 5 | G17: 6 | H17: 7 | I17: 8 | J17: 9 | K17: 10 | L17: 11 | M17: 12 | N17: 13 | O17: 14 | P17: 15 | Q17: 16 | R17: 17 | S17: 18 | T17: 19 | W17: Parovi | X17: Boja | AA17: Parovi | AB17: Zbroj
A18: 1 | B18: =COUNTIFS($B$3:$B$10,$A18)*COUNTIFS($B$3:$B$10,B$17) + COUNTIFS($C$3:$C$10,$A18)*COUNTIFS($C$3:$C$10,B$17) + COUNTIFS($D$3:$D$10,$A18)*COUNTIFS($D$3:$D$10,B$17) + COUNTIFS($E$3:$E$10,$A18)*COUNTIFS($E$3:$E$10,B$17) + COUNTIFS($F$3:$F$10,$A18)*COUNTIFS($F$3:$F$10,B$17) + COUNTIFS($G$3:$G$10,$A18)*COUNTIFS($G$3:$G$10,B$17) + COUNTIFS($H$3:$H$10,$A18)*COUNTIFS($H$3:$H$10,B$17) + COUNTIFS($I$3:$I$10,$A18)*COUNTIFS($I$3:$I$10,B$17) + COUNTIFS($J$3:$J$10,$A18)*COUNTIFS($J$3:$J$10,B$17) + COUNTIFS($K$3:$K$10,$A18)*COUNTIFS($K$3:$K$10,B$17) + COUNTIFS($L$3:$L$10,$A18)*COUNTIFS($L$3:$L$10,B$17) + COUNTIFS($M$3:$M$10,$A18)*COUNTIFS($M$3:$M$10,B$17) + COUNTIFS($N$3:$N$10,$A18)*COUNTIFS($N$3:$N$10,B$17) + COUNTIFS($O$3:$O$10,$A18)*COUNTIFS($O$3:$O$10,B$17) + COUNTIFS($P$3:$P$10,$A18)*COUNTIFS($P$3:$P$10,B$17) + COUNTIFS($Q$3:$Q$10,$A18)*COUNTIFS($Q$3:$Q$10,B$17) + COUNTIFS($R$3:$R$10,$A18)*COUNTIFS($R$3:$R$10,B$17) + COUNTIFS($S$3:$S$10,$A18)*COUNTIFS($S$3:$S$10,B$17) + COUNTIFS($T$3:$T$10,$A18)*COUNTIFS($T$3:$T$10,B$17) + COUNTIFS($U$3:$U$10,$A18)*COUNTIFS($U$3:$U$10,B$17) + COUNTIFS($V$3:$V$10,$A18)*COUNTIFS($V$3:$V$10,B$17) + COUNTIFS($W$3:$W$10,$A18)*COUNTIFS($W$3:$W$10,B$17) + COUNTIFS($X$3:$X$10,$A18)*COUNTIFS($X$3:$X$10,B$17) + COUNTIFS($Y$3:$Y$10,$A18)*COUNTIFS($Y$3:$Y$10,B$17) -> 8 | C18: =COUNTIFS($B$3:$B$10,$A18)*COUNTIFS($B$3:$B$10,C$17) + COUNTIFS($C$3:$C$10,$A18)*COUNTIFS($C$3:$C$10,C$17) + COUNTIFS($D$3:$D$10,$A18)*COUNTIFS($D$3:$D$10,C$17) + COUNTIFS($E$3:$E$10,$A18)*COUNTIFS($E$3:$E$10,C$17) + COUNTIFS($F$3:$F$10,$A18)*COUNTIFS($F$3:$F$10,C$17) + COUNTIFS($G$3:$G$10,$A18)*COUNTIFS($G$3:$G$10,C$17) + COUNTIFS($H$3:$H$10,$A18)*COUNTIFS($H$3:$H$10,C$17) + COUNTIFS($I$3:$I$10,$A18)*COUNTIFS($I$3:$I$10,C$17) + COUNTIFS($J$3:$J$10,$A18)*COUNTIFS($J$3:$J$10,C$17) + COUNTIFS($K$3:$K$10,$A18)*COUNTIFS($K$3:$K$10,C$17) + COUNTIFS($L$3:$L$10,$A18)*COUNTIFS($L$3:$L$10,C$17) + COUNTIFS($M$3:$M$10,$A18)*COUNTIFS($M$3:$M$10,C$17) + COUNTIFS($N$3:$N$10,$A18)*COUNTIFS($N$3:$N$10,C$17) + COUNTIFS($O$3:$O$10,$A18)*COUNTIFS($O$3:$O$10,C$17) + COUNTIFS($P$3:$P$10,$A18)*COUNTIFS($P$3:$P$10,C$17) + COUNTIFS($Q$3:$Q$10,$A18)*COUNTIFS($Q$3:$Q$10,C$17) + COUNTIFS($R$3:$R$10,$A18)*COUNTIFS($R$3:$R$10,C$17) + COUNTIFS($S$3:$S$10,$A18)*COUNTIFS($S$3:$S$10,C$17) + COUNTIFS($T$3:$T$10,$A18)*COUNTIFS($T$3:$T$10,C$17) + COUNTIFS($U$3:$U$10,$A18)*COUNTIFS($U$3:$U$10,C$17) + COUNTIFS($V$3:$V$10,$A18)*COUNTIFS($V$3:$V$10,C$17) + COUNTIFS($W$3:$W$10,$A18)*COUNTIFS($W$3:$W$10,C$17) + COUNTIFS($X$3:$X$10,$A18)*COUNTIFS($X$3:$X$10,C$17) + COUNTIFS($Y$3:$Y$10,$A18)*COUNTIFS($Y$3:$Y$10,C$17) -> 0 | D18: =COUNTIFS($B$3:$B$10,$A18)*COUNTIFS($B$3:$B$10,D$17) + COUNTIFS($C$3:$C$10,$A18)*COUNTIFS($C$3:$C$10,D$17) + COUNTIFS($D$3:$D$10,$A18)*COUNTIFS($D$3:$D$10,D$17) + COUNTIFS($E$3:$E$10,$A18)*COUNTIFS($E$3:$E$10,D$17) + COUNTIFS($F$3:$F$10,$A18)*COUNTIFS($F$3:$F$10,D$17) + COUNTIFS($G$3:$G$10,$A18)*COUNTIFS($G$3:$G$10,D$17) + COUNTIFS($H$3:$H$10,$A18)*COUNTIFS($H$3:$H$10,D$17) + COUNTIFS($I$3:$I$10,$A18)*COUNTIFS($I$3:$I$10,D$17) + COUNTIFS($J$3:$J$10,$A18)*COUNTIFS($J$3:$J$10,D$17) + COUNTIFS($K$3:$K$10,$A18)*COUNTIFS($K$3:$K$10,D$17) + COUNTIFS($L$3:$L$10,$A18)*COUNTIFS($L$3:$L$10,D$17) + COUNTIFS($M$3:$M$10,$A18)*COUNTIFS($M$3:$M$10,D$17) + COUNTIFS($N$3:$N$10,$A18)*COUNTIFS($N$3:$N$10,D$17) + COUNTIFS($O$3:$O$10,$A18)*COUNTIFS($O$3:$O$10,D$17) + COUNTIFS($P$3:$P$10,$A18)*COUNTIFS($P$3:$P$10,D$17) + COUNTIFS($Q$3:$Q$10,$A18)*COUNTIFS($Q$3:$Q$10,D$17) + COUNTIFS($R$3:$R$10,$A18)*COUNTIFS($R$3:$R$10,D$17) + COUNTIFS($S$3:$S$10,$A18)*COUNTIFS($S$3:$S$10,D$17) + COUNTIFS($T$3:$T$10,$A18)*COUNTIFS($T$3:$T$10,D$17) + COUNTIFS($U$3:$U$10,$A18)*COUNTIFS($U$3:$U$10,D$17) + COUNTIFS($V$3:$V$10,$A18)*COUNTIFS($V$3:$V$10,D$17) + COUNTIFS($W$3:$W$10,$A18)*COUNTIFS($W$3:$W$10,D$17) + COUNTIFS($X$3:$X$10,$A18)*COUNTIFS($X$3:$X$10,D$17) + COUNTIFS($Y$3:$Y$10,$A18)*COUNTIFS($Y$3:$Y$10,D$17) -> 4 | E18: =COUNTIFS($B$3:$B$10,$A18)*COUNTIFS($B$3:$B$10,E$17) + COUNTIFS($C$3:$C$10,$A18)*COUNTIFS($C$3:$C$10,E$17) + COUNTIFS($D$3:$D$10,$A18)*COUNTIFS($D$3:$D$10,E$17) + COUNTIFS($E$3:$E$10,$A18)*COUNTIFS($E$3:$E$10,E$17) + COUNTIFS($F$3:$F$10,$A18)*COUNTIFS($F$3:$F$10,E$17) + COUNTIFS($G$3:$G$10,$A18)*COUNTIFS($G$3:$G$10,E$17) + COUNTIFS($H$3:$H$10,$A18)*COUNTIFS($H$3:$H$10,E$17) + COUNTIFS($I$3:$I$10,$A18)*COUNTIFS($I$3:$I$10,E$17) + COUNTIFS($J$3:$J$10,$A18)*COUNTIFS($J$3:$J$10,E$17) + COUNTIFS($K$3:$K$10,$A18)*COUNTIFS($K$3:$K$10,E$17) + COUNTIFS($L$3:$L$10,$A18)*COUNTIFS($L$3:$L$10,E$17) + COUNTIFS($M$3:$M$10,$A18)*COUNTIFS($M$3:$M$10,E$17) + COUNTIFS($N$3:$N$10,$A18)*COUNTIFS($N$3:$N$10,E$17) + COUNTIFS($O$3:$O$10,$A18)*COUNTIFS($O$3:$O$10,E$17) + COUNTIFS($P$3:$P$10,$A18)*COUNTIFS($P$3:$P$10,E$17) + COUNTIFS($Q$3:$Q$10,$A18)*COUNTIFS($Q$3:$Q$10,E$17) + COUNTIFS($R$3:$R$10,$A18)*COUNTIFS($R$3:$R$10,E$17) + COUNTIFS($S$3:$S$10,$A18)*COUNTIFS($S$3:$S$10,E$17) + COUNTIFS($T$3:$T$10,$A18)*COUNTIFS($T$3:$T$10,E$17) + COUNTIFS($U$3:$U$10,$A18)*COUNTIFS($U$3:$U$10,E$17) + COUNTIFS($V$3:$V$10,$A18)*COUNTIFS($V$3:$V$10,E$17) + COUNTIFS($W$3:$W$10,$A18)*COUNTIFS($W$3:$W$10,E$17) + COUNTIFS($X$3:$X$10,$A18)*COUNTIFS($X$3:$X$10,E$17) + COUNTIFS($Y$3:$Y$10,$A18)*COUNTIFS($Y$3:$Y$10,E$17) -> 4 | F18: =COUNTIFS($B$3:$B$10,$A18)*COUNTIFS($B$3:$B$10,F$17) + COUNTIFS($C$3:$C$10,$A18)*COUNTIFS($C$3:$C$10,F$17) + COUNTIFS($D$3:$D$10,$A18)*COUNTIFS($D$3:$D$10,F$17) + COUNTIFS($E$3:$E$10,$A18)*COUNTIFS($E$3:$E$10,F$17) + COUNTIFS($F$3:$F$10,$A18)*COUNTIFS($F$3:$F$10,F$17) + COUNTIFS($G$3:$G$10,$A18)*COUNTIFS($G$3:$G$10,F$17) + COUNTIFS($H$3:$H$10,$A18)*COUNTIFS($H$3:$H$10,F$17) + COUNTIFS($I$3:$I$10,$A18)*COUNTIFS($I$3:$I$10,F$17) + COUNTIFS($J$3:$J$10,$A18)*COUNTIFS($J$3:$J$10,F$17) + COUNTIFS($K$3:$K$10,$A18)*COUNTIFS($K$3:$K$10,F$17) + COUNTIFS($L$3:$L$10,$A18)*COUNTIFS($L$3:$L$10,F$17) + COUNTIFS($M$3:$M$10,$A18)*COUNTIFS($M$3:$M$10,F$17) + COUNTIFS($N$3:$N$10,$A18)*COUNTIFS($N$3:$N$10,F$17) + COUNTIFS($O$3:$O$10,$A18)*COUNTIFS($O$3:$O$10,F$17) + COUNTIFS($P$3:$P$10,$A18)*COUNTIFS($P$3:$P$10,F$17) + COUNTIFS($Q$3:$Q$10,$A18)*COUNTIFS($Q$3:$Q$10,F$17) + COUNTIFS($R$3:$R$10,$A18)*COUNTIFS($R$3:$R$10,F$17) + COUNTIFS($S$3:$S$10,$A18)*COUNTIFS($S$3:$S$10,F$17) + COUNTIFS($T$3:$T$10,$A18)*COUNTIFS($T$3:$T$10,F$17) + COUNTIFS($U$3:$U$10,$A18)*COUNTIFS($U$3:$U$10,F$17) + COUNTIFS($V$3:$V$10,$A18)*COUNTIFS($V$3:$V$10,F$17) + COUNTIFS($W$3:$W$10,$A18)*COUNTIFS($W$3:$W$10,F$17) + COUNTIFS($X$3:$X$10,$A18)*COUNTIFS($X$3:$X$10,F$17) + COUNTIFS($Y$3:$Y$10,$A18)*COUNTIFS($Y$3:$Y$10,F$17) -> 5 | G18: =COUNTIFS($B$3:$B$10,$A18)*COUNTIFS($B$3:$B$10,G$17) + COUNTIFS($C$3:$C$10,$A18)*COUNTIFS($C$3:$C$10,G$17) + COUNTIFS($D$3:$D$10,$A18)*COUNTIFS($D$3:$D$10,G$17) + COUNTIFS($E$3:$E$10,$A18)*COUNTIFS($E$3:$E$10,G$17) + COUNTIFS($F$3:$F$10,$A18)*COUNTIFS($F$3:$F$10,G$17) + COUNTIFS($G$3:$G$10,$A18)*COUNTIFS($G$3:$G$10,G$17) + COUNTIFS($H$3:$H$10,$A18)*COUNTIFS($H$3:$H$10,G$17) + COUNTIFS($I$3:$I$10,$A18)*COUNTIFS($I$3:$I$10,G$17) + COUNTIFS($J$3:$J$10,$A18)*COUNTIFS($J$3:$J$10,G$17) + COUNTIFS($K$3:$K$10,$A18)*COUNTIFS($K$3:$K$10,G$17) + COUNTIFS($L$3:$L$10,$A18)*COUNTIFS($L$3:$L$10,G$17) + COUNTIFS($M$3:$M$10,$A18)*COUNTIFS($M$3:$M$10,G$17) + COUNTIFS($N$3:$N$10,$A18)*COUNTIFS($N$3:$N$10,G$17) + COUNTIFS($O$3:$O$10,$A18)*COUNTIFS($O$3:$O$10,G$17) + COUNTIFS($P$3:$P$10,$A18)*COUNTIFS($P$3:$P$10,G$17) + COUNTIFS($Q$3:$Q$10,$A18)*COUNTIFS($Q$3:$Q$10,G$17) + COUNTIFS($R$3:$R$10,$A18)*COUNTIFS($R$3:$R$10,G$17) + COUNTIFS($S$3:$S$10,$A18)*COUNTIFS($S$3:$S$10,G$17) + COUNTIFS($T$3:$T$10,$A18)*COUNTIFS($T$3:$T$10,G$17) + COUNTIFS($U$3:$U$10,$A18)*COUNTIFS($U$3:$U$10,G$17) + COUNTIFS($V$3:$V$10,$A18)*COUNTIFS($V$3:$V$10,G$17) + COUNTIFS($W$3:$W$10,$A18)*COUNTIFS($W$3:$W$10,G$17) + COUNTIFS($X$3:$X$10,$A18)*COUNTIFS($X$3:$X$10,G$17) + COUNTIFS($Y$3:$Y$10,$A18)*COUNTIFS($Y$3:$Y$10,G$17) -> 7 | H18: =COUNTIFS($B$3:$B$10,$A18)*COUNTIFS($B$3:$B$10,H$17) + COUNTIFS($C$3:$C$10,$A18)*COUNTIFS($C$3:$C$10,H$17) + COUNTIFS($D$3:$D$10,$A18)*COUNTIFS($D$3:$D$10,H$17) + COUNTIFS($E$3:$E$10,$A18)*COUNTIFS($E$3:$E$10,H$17) + COUNTIFS($F$3:$F$10,$A18)*COUNTIFS($F$3:$F$10,H$17) + COUNTIFS($G$3:$G$10,$A18)*COUNTIFS($G$3:$G$10,H$17) + COUNTIFS($H$3:$H$10,$A18)*COUNTIFS($H$3:$H$10,H$17) + COUNTIFS($I$3:$I$10,$A18)*COUNTIFS($I$3:$I$10,H$17) + COUNTIFS($J$3:$J$10,$A18)*COUNTIFS($J$3:$J$10,H$17) + COUNTIFS($K$3:$K$10,$A18)*COUNTIFS($K$3:$K$10,H$17) + COUNTIFS($L$3:$L$10,$A18)*COUNTIFS($L$3:$L$10,H$17) + COUNTIFS($M$3:$M$10,$A18)*COUNTIFS($M$3:$M$10,H$17) + COUNTIFS($N$3:$N$10,$A18)*COUNTIFS($N$3:$N$10,H$17) + COUNTIFS($O$3:$O$10,$A18)*COUNTIFS($O$3:$O$10,H$17) + COUNTIFS($P$3:$P$10,$A18)*COUNTIFS($P$3:$P$10,H$17) + COUNTIFS($Q$3:$Q$10,$A18)*COUNTIFS($Q$3:$Q$10,H$17) + COUNTIFS($R$3:$R$10,$A18)*COUNTIFS($R$3:$R$10,H$17) + COUNTIFS($S$3:$S$10,$A18)*COUNTIFS($S$3:$S$10,H$17) + COUNTIFS($T$3:$T$10,$A18)*COUNTIFS($T$3:$T$10,H$17) + COUNTIFS($U$3:$U$10,$A18)*COUNTIFS($U$3:$U$10,H$17) + COUNTIFS($V$3:$V$10,$A18)*COUNTIFS($V$3:$V$10,H$17) + COUNTIFS($W$3:$W$10,$A18)*COUNTIFS($W$3:$W$10,H$17) + COUNTIFS($X$3:$X$10,$A18)*COUNTIFS($X$3:$X$10,H$17) + COUNTIFS($Y$3:$Y$10,$A18)*COUNTIFS($Y$3:$Y$10,H$17) -> 3 | I18: =COUNTIFS($B$3:$B$10,$A18)*COUNTIFS($B$3:$B$10,I$17) + COUNTIFS($C$3:$C$10,$A18)*COUNTIFS($C$3:$C$10,I$17) + COUNTIFS($D$3:$D$10,$A18)*COUNTIFS($D$3:$D$10,I$17) + COUNTIFS($E$3:$E$10,$A18)*COUNTIFS($E$3:$E$10,I$17) + COUNTIFS($F$3:$F$10,$A18)*COUNTIFS($F$3:$F$10,I$17) + COUNTIFS($G$3:$G$10,$A18)*COUNTIFS($G$3:$G$10,I$17) + COUNTIFS($H$3:$H$10,$A18)*COUNTIFS($H$3:$H$10,I$17) + COUNTIFS($I$3:$I$10,$A18)*COUNTIFS($I$3:$I$10,I$17) + COUNTIFS($J$3:$J$10,$A18)*COUNTIFS($J$3:$J$10,I$17) + COUNTIFS($K$3:$K$10,$A18)*COUNTIFS($K$3:$K$10,I$17) + COUNTIFS($L$3:$L$10,$A18)*COUNTIFS($L$3:$L$10,I$17) + COUNTIFS($M$3:$M$10,$A18)*COUNTIFS($M$3:$M$10,I$17) + COUNTIFS($N$3:$N$10,$A18)*COUNTIFS($N$3:$N$10,I$17) + COUNTIFS($O$3:$O$10,$A18)*COUNTIFS($O$3:$O$10,I$17) + COUNTIFS($P$3:$P$10,$A18)*COUNTIFS($P$3:$P$10,I$17) + COUNTIFS($Q$3:$Q$10,$A18)*COUNTIFS($Q$3:$Q$10,I$17) + COUNTIFS($R$3:$R$10,$A18)*COUNTIFS($R$3:$R$10,I$17) + COUNTIFS($S$3:$S$10,$A18)*COUNTIFS($S$3:$S$10,I$17) + COUNTIFS($T$3:$T$10,$A18)*COUNTIFS($T$3:$T$10,I$17) + COUNTIFS($U$3:$U$10,$A18)*COUNTIFS($U$3:$U$10,I$17) + COUNTIFS($V$3:$V$10,$A18)*COUNTIFS($V$3:$V$10,I$17) + COUNTIFS($W$3:$W$10,$A18)*COUNTIFS($W$3:$W$10,I$17) + COUNTIFS($X$3:$X$10,$A18)*COUNTIFS($X$3:$X$10,I$17) + COUNTIFS($Y$3:$Y$10,$A18)*COUNTIFS($Y$3:$Y$10,I$17) -> 5 | ... T18: =COUNTIFS($B$3:$B$10,$A18)*COUNTIFS($B$3:$B$10,T$17) + COUNTIFS($C$3:$C$10,$A18)*COUNTIFS($C$3:$C$10,T$17) + COUNTIFS($D$3:$D$10,$A18)*COUNTIFS($D$3:$D$10,T$17) + COUNTIFS($E$3:$E$10,$A18)*COUNTIFS($E$3:$E$10,T$17) + COUNTIFS($F$3:$F$10,$A18)*COUNTIFS($F$3:$F$10,T$17) + COUNTIFS($G$3:$G$10,$A18)*COUNTIFS($G$3:$G$10,T$17) + COUNTIFS($H$3:$H$10,$A18)*COUNTIFS($H$3:$H$10,T$17) + COUNTIFS($I$3:$I$10,$A18)*COUNTIFS($I$3:$I$10,T$17) + COUNTIFS($J$3:$J$10,$A18)*COUNTIFS($J$3:$J$10,T$17) + COUNTIFS($K$3:$K$10,$A18)*COUNTIFS($K$3:$K$10,T$17) + COUNTIFS($L$3:$L$10,$A18)*COUNTIFS($L$3:$L$10,T$17) + COUNTIFS($M$3:$M$10,$A18)*COUNTIFS($M$3:$M$10,T$17) + COUNTIFS($N$3:$N$10,$A18)*COUNTIFS($N$3:$N$10,T$17) + COUNTIFS($O$3:$O$10,$A18)*COUNTIFS($O$3:$O$10,T$17) + COUNTIFS($P$3:$P$10,$A18)*COUNTIFS($P$3:$P$10,T$17) + COUNTIFS($Q$3:$Q$10,$A18)*COUNTIFS($Q$3:$Q$10,T$17) + COUNTIFS($R$3:$R$10,$A18)*COUNTIFS($R$3:$R$10,T$17) + COUNTIFS($S$3:$S$10,$A18)*COUNTIFS($S$3:$S$10,T$17) + COUNTIFS($T$3:$T$10,$A18)*COUNTIFS($T$3:$T$10,T$17) + COUNTIFS($U$3:$U$10,$A18)*COUNTIFS($U$3:$U$10,T$17) + COUNTIFS($V$3:$V$10,$A18)*COUNTIFS($V$3:$V$10,T$17) + COUNTIFS($W$3:$W$10,$A18)*COUNTIFS($W$3:$W$10,T$17) + COUNTIFS($X$3:$X$10,$A18)*COUNTIFS($X$3:$X$10,T$17) + COUNTIFS($Y$3:$Y$10,$A18)*COUNTIFS($Y$3:$Y$10,T$17) -> 0 | W18: 8 | AA18: 8 | AB18: 0
A19: 2 | B19: =COUNTIFS($B$3:$B$10,$A19)*COUNTIFS($B$3:$B$10,B$17) + COUNTIFS($C$3:$C$10,$A19)*COUNTIFS($C$3:$C$10,B$17) + COUNTIFS($D$3:$D$10,$A19)*COUNTIFS($D$3:$D$10,B$17) + COUNTIFS($E$3:$E$10,$A19)*COUNTIFS($E$3:$E$10,B$17) + COUNTIFS($F$3:$F$10,$A19)*COUNTIFS($F$3:$F$10,B$17) + COUNTIFS($G$3:$G$10,$A19)*COUNTIFS($G$3:$G$10,B$17) + COUNTIFS($H$3:$H$10,$A19)*COUNTIFS($H$3:$H$10,B$17) + COUNTIFS($I$3:$I$10,$A19)*COUNTIFS($I$3:$I$10,B$17) + COUNTIFS($J$3:$J$10,$A19)*COUNTIFS($J$3:$J$10,B$17) + COUNTIFS($K$3:$K$10,$A19)*COUNTIFS($K$3:$K$10,B$17) + COUNTIFS($L$3:$L$10,$A19)*COUNTIFS($L$3:$L$10,B$17) + COUNTIFS($M$3:$M$10,$A19)*COUNTIFS($M$3:$M$10,B$17) + COUNTIFS($N$3:$N$10,$A19)*COUNTIFS($N$3:$N$10,B$17) + COUNTIFS($O$3:$O$10,$A19)*COUNTIFS($O$3:$O$10,B$17) + COUNTIFS($P$3:$P$10,$A19)*COUNTIFS($P$3:$P$10,B$17) + COUNTIFS($Q$3:$Q$10,$A19)*COUNTIFS($Q$3:$Q$10,B$17) + COUNTIFS($R$3:$R$10,$A19)*COUNTIFS($R$3:$R$10,B$17) + COUNTIFS($S$3:$S$10,$A19)*COUNTIFS($S$3:$S$10,B$17) + COUNTIFS($T$3:$T$10,$A19)*COUNTIFS($T$3:$T$10,B$17) + COUNTIFS($U$3:$U$10,$A19)*COUNTIFS($U$3:$U$10,B$17) + COUNTIFS($V$3:$V$10,$A19)*COUNTIFS($V$3:$V$10,B$17) + COUNTIFS($W$3:$W$10,$A19)*COUNTIFS($W$3:$W$10,B$17) + COUNTIFS($X$3:$X$10,$A19)*COUNTIFS($X$3:$X$10,B$17) + COUNTIFS($Y$3:$Y$10,$A19)*COUNTIFS($Y$3:$Y$10,B$17) -> 0 | C19: =COUNTIFS($B$3:$B$10,$A19)*COUNTIFS($B$3:$B$10,C$17) + COUNTIFS($C$3:$C$10,$A19)*COUNTIFS($C$3:$C$10,C$17) + COUNTIFS($D$3:$D$10,$A19)*COUNTIFS($D$3:$D$10,C$17) + COUNTIFS($E$3:$E$10,$A19)*COUNTIFS($E$3:$E$10,C$17) + COUNTIFS($F$3:$F$10,$A19)*COUNTIFS($F$3:$F$10,C$17) + COUNTIFS($G$3:$G$10,$A19)*COUNTIFS($G$3:$G$10,C$17) + COUNTIFS($H$3:$H$10,$A19)*COUNTIFS($H$3:$H$10,C$17) + COUNTIFS($I$3:$I$10,$A19)*COUNTIFS($I$3:$I$10,C$17) + COUNTIFS($J$3:$J$10,$A19)*COUNTIFS($J$3:$J$10,C$17) + COUNTIFS($K$3:$K$10,$A19)*COUNTIFS($K$3:$K$10,C$17) + COUNTIFS($L$3:$L$10,$A19)*COUNTIFS($L$3:$L$10,C$17) + COUNTIFS($M$3:$M$10,$A19)*COUNTIFS($M$3:$M$10,C$17) + COUNTIFS($N$3:$N$10,$A19)*COUNTIFS($N$3:$N$10,C$17) + COUNTIFS($O$3:$O$10,$A19)*COUNTIFS($O$3:$O$10,C$17) + COUNTIFS($P$3:$P$10,$A19)*COUNTIFS($P$3:$P$10,C$17) + COUNTIFS($Q$3:$Q$10,$A19)*COUNTIFS($Q$3:$Q$10,C$17) + COUNTIFS($R$3:$R$10,$A19)*COUNTIFS($R$3:$R$10,C$17) + COUNTIFS($S$3:$S$10,$A19)*COUNTIFS($S$3:$S$10,C$17) + COUNTIFS($T$3:$T$10,$A19)*COUNTIFS($T$3:$T$10,C$17) + COUNTIFS($U$3:$U$10,$A19)*COUNTIFS($U$3:$U$10,C$17) + COUNTIFS($V$3:$V$10,$A19)*COUNTIFS($V$3:$V$10,C$17) + COUNTIFS($W$3:$W$10,$A19)*COUNTIFS($W$3:$W$10,C$17) + COUNTIFS($X$3:$X$10,$A19)*COUNTIFS($X$3:$X$10,C$17) + COUNTIFS($Y$3:$Y$10,$A19)*COUNTIFS($Y$3:$Y$10,C$17) -> 8 | D19: =COUNTIFS($B$3:$B$10,$A19)*COUNTIFS($B$3:$B$10,D$17) + COUNTIFS($C$3:$C$10,$A19)*COUNTIFS($C$3:$C$10,D$17) + COUNTIFS($D$3:$D$10,$A19)*COUNTIFS($D$3:$D$10,D$17) + COUNTIFS($E$3:$E$10,$A19)*COUNTIFS($E$3:$E$10,D$17) + COUNTIFS($F$3:$F$10,$A19)*COUNTIFS($F$3:$F$10,D$17) + COUNTIFS($G$3:$G$10,$A19)*COUNTIFS($G$3:$G$10,D$17) + COUNTIFS($H$3:$H$10,$A19)*COUNTIFS($H$3:$H$10,D$17) + COUNTIFS($I$3:$I$10,$A19)*COUNTIFS($I$3:$I$10,D$17) + COUNTIFS($J$3:$J$10,$A19)*COUNTIFS($J$3:$J$10,D$17) + COUNTIFS($K$3:$K$10,$A19)*COUNTIFS($K$3:$K$10,D$17) + COUNTIFS($L$3:$L$10,$A19)*COUNTIFS($L$3:$L$10,D$17) + COUNTIFS($M$3:$M$10,$A19)*COUNTIFS($M$3:$M$10,D$17) + COUNTIFS($N$3:$N$10,$A19)*COUNTIFS($N$3:$N$10,D$17) + COUNTIFS($O$3:$O$10,$A19)*COUNTIFS($O$3:$O$10,D$17) + COUNTIFS($P$3:$P$10,$A19)*COUNTIFS($P$3:$P$10,D$17) + COUNTIFS($Q$3:$Q$10,$A19)*COUNTIFS($Q$3:$Q$10,D$17) + COUNTIFS($R$3:$R$10,$A19)*COUNTIFS($R$3:$R$10,D$17) + COUNTIFS($S$3:$S$10,$A19)*COUNTIFS($S$3:$S$10,D$17) + COUNTIFS($T$3:$T$10,$A19)*COUNTIFS($T$3:$T$10,D$17) + COUNTIFS($U$3:$U$10,$A19)*COUNTIFS($U$3:$U$10,D$17) + COUNTIFS($V$3:$V$10,$A19)*COUNTIFS($V$3:$V$10,D$17) + COUNTIFS($W$3:$W$10,$A19)*COUNTIFS($W$3:$W$10,D$17) + COUNTIFS($X$3:$X$10,$A19)*COUNTIFS($X$3:$X$10,D$17) + COUNTIFS($Y$3:$Y$10,$A19)*COUNTIFS($Y$3:$Y$10,D$17) -> 4 | E19: =COUNTIFS($B$3:$B$10,$A19)*COUNTIFS($B$3:$B$10,E$17) + COUNTIFS($C$3:$C$10,$A19)*COUNTIFS($C$3:$C$10,E$17) + COUNTIFS($D$3:$D$10,$A19)*COUNTIFS($D$3:$D$10,E$17) + COUNTIFS($E$3:$E$10,$A19)*COUNTIFS($E$3:$E$10,E$17) + COUNTIFS($F$3:$F$10,$A19)*COUNTIFS($F$3:$F$10,E$17) + COUNTIFS($G$3:$G$10,$A19)*COUNTIFS($G$3:$G$10,E$17) + COUNTIFS($H$3:$H$10,$A19)*COUNTIFS($H$3:$H$10,E$17) + COUNTIFS($I$3:$I$10,$A19)*COUNTIFS($I$3:$I$10,E$17) + COUNTIFS($J$3:$J$10,$A19)*COUNTIFS($J$3:$J$10,E$17) + COUNTIFS($K$3:$K$10,$A19)*COUNTIFS($K$3:$K$10,E$17) + COUNTIFS($L$3:$L$10,$A19)*COUNTIFS($L$3:$L$10,E$17) + COUNTIFS($M$3:$M$10,$A19)*COUNTIFS($M$3:$M$10,E$17) + COUNTIFS($N$3:$N$10,$A19)*COUNTIFS($N$3:$N$10,E$17) + COUNTIFS($O$3:$O$10,$A19)*COUNTIFS($O$3:$O$10,E$17) + COUNTIFS($P$3:$P$10,$A19)*COUNTIFS($P$3:$P$10,E$17) + COUNTIFS($Q$3:$Q$10,$A19)*COUNTIFS($Q$3:$Q$10,E$17) + COUNTIFS($R$3:$R$10,$A19)*COUNTIFS($R$3:$R$10,E$17) + COUNTIFS($S$3:$S$10,$A19)*COUNTIFS($S$3:$S$10,E$17) + COUNTIFS($T$3:$T$10,$A19)*COUNTIFS($T$3:$T$10,E$17) + COUNTIFS($U$3:$U$10,$A19)*COUNTIFS($U$3:$U$10,E$17) + COUNTIFS($V$3:$V$10,$A19)*COUNTIFS($V$3:$V$10,E$17) + COUNTIFS($W$3:$W$10,$A19)*COUNTIFS($W$3:$W$10,E$17) + COUNTIFS($X$3:$X$10,$A19)*COUNTIFS($X$3:$X$10,E$17) + COUNTIFS($Y$3:$Y$10,$A19)*COUNTIFS($Y$3:$Y$10,E$17) -> 4 | F19: =COUNTIFS($B$3:$B$10,$A19)*COUNTIFS($B$3:$B$10,F$17) + COUNTIFS($C$3:$C$10,$A19)*COUNTIFS($C$3:$C$10,F$17) + COUNTIFS($D$3:$D$10,$A19)*COUNTIFS($D$3:$D$10,F$17) + COUNTIFS($E$3:$E$10,$A19)*COUNTIFS($E$3:$E$10,F$17) + COUNTIFS($F$3:$F$10,$A19)*COUNTIFS($F$3:$F$10,F$17) + COUNTIFS($G$3:$G$10,$A19)*COUNTIFS($G$3:$G$10,F$17) + COUNTIFS($H$3:$H$10,$A19)*COUNTIFS($H$3:$H$10,F$17) + COUNTIFS($I$3:$I$10,$A19)*COUNTIFS($I$3:$I$10,F$17) + COUNTIFS($J$3:$J$10,$A19)*COUNTIFS($J$3:$J$10,F$17) + COUNTIFS($K$3:$K$10,$A19)*COUNTIFS($K$3:$K$10,F$17) + COUNTIFS($L$3:$L$10,$A19)*COUNTIFS($L$3:$L$10,F$17) + COUNTIFS($M$3:$M$10,$A19)*COUNTIFS($M$3:$M$10,F$17) + COUNTIFS($N$3:$N$10,$A19)*COUNTIFS($N$3:$N$10,F$17) + COUNTIFS($O$3:$O$10,$A19)*COUNTIFS($O$3:$O$10,F$17) + COUNTIFS($P$3:$P$10,$A19)*COUNTIFS($P$3:$P$10,F$17) + COUNTIFS($Q$3:$Q$10,$A19)*COUNTIFS($Q$3:$Q$10,F$17) + COUNTIFS($R$3:$R$10,$A19)*COUNTIFS($R$3:$R$10,F$17) + COUNTIFS($S$3:$S$10,$A19)*COUNTIFS($S$3:$S$10,F$17) + COUNTIFS($T$3:$T$10,$A19)*COUNTIFS($T$3:$T$10,F$17) + COUNTIFS($U$3:$U$10,$A19)*COUNTIFS($U$3:$U$10,F$17) + COUNTIFS($V$3:$V$10,$A19)*COUNTIFS($V$3:$V$10,F$17) + COUNTIFS($W$3:$W$10,$A19)*COUNTIFS($W$3:$W$10,F$17) + COUNTIFS($X$3:$X$10,$A19)*COUNTIFS($X$3:$X$10,F$17) + COUNTIFS($Y$3:$Y$10,$A19)*COUNTIFS($Y$3:$Y$10,F$17) -> 3 | G19: =COUNTIFS($B$3:$B$10,$A19)*COUNTIFS($B$3:$B$10,G$17) + COUNTIFS($C$3:$C$10,$A19)*COUNTIFS($C$3:$C$10,G$17) + COUNTIFS($D$3:$D$10,$A19)*COUNTIFS($D$3:$D$10,G$17) + COUNTIFS($E$3:$E$10,$A19)*COUNTIFS($E$3:$E$10,G$17) + COUNTIFS($F$3:$F$10,$A19)*COUNTIFS($F$3:$F$10,G$17) + COUNTIFS($G$3:$G$10,$A19)*COUNTIFS($G$3:$G$10,G$17) + COUNTIFS($H$3:$H$10,$A19)*COUNTIFS($H$3:$H$10,G$17) + COUNTIFS($I$3:$I$10,$A19)*COUNTIFS($I$3:$I$10,G$17) + COUNTIFS($J$3:$J$10,$A19)*COUNTIFS($J$3:$J$10,G$17) + COUNTIFS($K$3:$K$10,$A19)*COUNTIFS($K$3:$K$10,G$17) + COUNTIFS($L$3:$L$10,$A19)*COUNTIFS($L$3:$L$10,G$17) + COUNTIFS($M$3:$M$10,$A19)*COUNTIFS($M$3:$M$10,G$17) + COUNTIFS($N$3:$N$10,$A19)*COUNTIFS($N$3:$N$10,G$17) + COUNTIFS($O$3:$O$10,$A19)*COUNTIFS($O$3:$O$10,G$17) + COUNTIFS($P$3:$P$10,$A19)*COUNTIFS($P$3:$P$10,G$17) + COUNTIFS($Q$3:$Q$10,$A19)*COUNTIFS($Q$3:$Q$10,G$17) + COUNTIFS($R$3:$R$10,$A19)*COUNTIFS($R$3:$R$10,G$17) + COUNTIFS($S$3:$S$10,$A19)*COUNTIFS($S$3:$S$10,G$17) + COUNTIFS($T$3:$T$10,$A19)*COUNTIFS($T$3:$T$10,G$17) + COUNTIFS($U$3:$U$10,$A19)*COUNTIFS($U$3:$U$10,G$17) + COUNTIFS($V$3:$V$10,$A19)*COUNTIFS($V$3:$V$10,G$17) + COUNTIFS($W$3:$W$10,$A19)*COUNTIFS($W$3:$W$10,G$17) + COUNTIFS($X$3:$X$10,$A19)*COUNTIFS($X$3:$X$10,G$17) + COUNTIFS($Y$3:$Y$10,$A19)*COUNTIFS($Y$3:$Y$10,G$17) -> 1 | H19: =COUNTIFS($B$3:$B$10,$A19)*COUNTIFS($B$3:$B$10,H$17) + COUNTIFS($C$3:$C$10,$A19)*COUNTIFS($C$3:$C$10,H$17) + COUNTIFS($D$3:$D$10,$A19)*COUNTIFS($D$3:$D$10,H$17) + COUNTIFS($E$3:$E$10,$A19)*COUNTIFS($E$3:$E$10,H$17) + COUNTIFS($F$3:$F$10,$A19)*COUNTIFS($F$3:$F$10,H$17) + COUNTIFS($G$3:$G$10,$A19)*COUNTIFS($G$3:$G$10,H$17) + COUNTIFS($H$3:$H$10,$A19)*COUNTIFS($H$3:$H$10,H$17) + COUNTIFS($I$3:$I$10,$A19)*COUNTIFS($I$3:$I$10,H$17) + COUNTIFS($J$3:$J$10,$A19)*COUNTIFS($J$3:$J$10,H$17) + COUNTIFS($K$3:$K$10,$A19)*COUNTIFS($K$3:$K$10,H$17) + COUNTIFS($L$3:$L$10,$A19)*COUNTIFS($L$3:$L$10,H$17) + COUNTIFS($M$3:$M$10,$A19)*COUNTIFS($M$3:$M$10,H$17) + COUNTIFS($N$3:$N$10,$A19)*COUNTIFS($N$3:$N$10,H$17) + COUNTIFS($O$3:$O$10,$A19)*COUNTIFS($O$3:$O$10,H$17) + COUNTIFS($P$3:$P$10,$A19)*COUNTIFS($P$3:$P$10,H$17) + COUNTIFS($Q$3:$Q$10,$A19)*COUNTIFS($Q$3:$Q$10,H$17) + COUNTIFS($R$3:$R$10,$A19)*COUNTIFS($R$3:$R$10,H$17) + COUNTIFS($S$3:$S$10,$A19)*COUNTIFS($S$3:$S$10,H$17) + COUNTIFS($T$3:$T$10,$A19)*COUNTIFS($T$3:$T$10,H$17) + COUNTIFS($U$3:$U$10,$A19)*COUNTIFS($U$3:$U$10,H$17) + COUNTIFS($V$3:$V$10,$A19)*COUNTIFS($V$3:$V$10,H$17) + COUNTIFS($W$3:$W$10,$A19)*COUNTIFS($W$3:$W$10,H$17) + COUNTIFS($X$3:$X$10,$A19)*COUNTIFS($X$3:$X$10,H$17) + COUNTIFS($Y$3:$Y$10,$A19)*COUNTIFS($Y$3:$Y$10,H$17) -> 5 | I19: =COUNTIFS($B$3:$B$10,$A19)*COUNTIFS($B$3:$B$10,I$17) + COUNTIFS($C$3:$C$10,$A19)*COUNTIFS($C$3:$C$10,I$17) + COUNTIFS($D$3:$D$10,$A19)*COUNTIFS($D$3:$D$10,I$17) + COUNTIFS($E$3:$E$10,$A19)*COUNTIFS($E$3:$E$10,I$17) + COUNTIFS($F$3:$F$10,$A19)*COUNTIFS($F$3:$F$10,I$17) + COUNTIFS($G$3:$G$10,$A19)*COUNTIFS($G$3:$G$10,I$17) + COUNTIFS($H$3:$H$10,$A19)*COUNTIFS($H$3:$H$10,I$17) + COUNTIFS($I$3:$I$10,$A19)*COUNTIFS($I$3:$I$10,I$17) + COUNTIFS($J$3:$J$10,$A19)*COUNTIFS($J$3:$J$10,I$17) + COUNTIFS($K$3:$K$10,$A19)*COUNTIFS($K$3:$K$10,I$17) + COUNTIFS($L$3:$L$10,$A19)*COUNTIFS($L$3:$L$10,I$17) + COUNTIFS($M$3:$M$10,$A19)*COUNTIFS($M$3:$M$10,I$17) + COUNTIFS($N$3:$N$10,$A19)*COUNTIFS($N$3:$N$10,I$17) + COUNTIFS($O$3:$O$10,$A19)*COUNTIFS($O$3:$O$10,I$17) + COUNTIFS($P$3:$P$10,$A19)*COUNTIFS($P$3:$P$10,I$17) + COUNTIFS($Q$3:$Q$10,$A19)*COUNTIFS($Q$3:$Q$10,I$17) + COUNTIFS($R$3:$R$10,$A19)*COUNTIFS($R$3:$R$10,I$17) + COUNTIFS($S$3:$S$10,$A19)*COUNTIFS($S$3:$S$10,I$17) + COUNTIFS($T$3:$T$10,$A19)*COUNTIFS($T$3:$T$10,I$17) + COUNTIFS($U$3:$U$10,$A19)*COUNTIFS($U$3:$U$10,I$17) + COUNTIFS($V$3:$V$10,$A19)*COUNTIFS($V$3:$V$10,I$17) + COUNTIFS($W$3:$W$10,$A19)*COUNTIFS($W$3:$W$10,I$17) + COUNTIFS($X$3:$X$10,$A19)*COUNTIFS($X$3:$X$10,I$17) + COUNTIFS($Y$3:$Y$10,$A19)*COUNTIFS($Y$3:$Y$10,I$17) -> 3 | ... T19: =COUNTIFS($B$3:$B$10,$A19)*COUNTIFS($B$3:$B$10,T$17) + COUNTIFS($C$3:$C$10,$A19)*COUNTIFS($C$3:$C$10,T$17) + COUNTIFS($D$3:$D$10,$A19)*COUNTIFS($D$3:$D$10,T$17) + COUNTIFS($E$3:$E$10,$A19)*COUNTIFS($E$3:$E$10,T$17) + COUNTIFS($F$3:$F$10,$A19)*COUNTIFS($F$3:$F$10,T$17) + COUNTIFS($G$3:$G$10,$A19)*COUNTIFS($G$3:$G$10,T$17) + COUNTIFS($H$3:$H$10,$A19)*COUNTIFS($H$3:$H$10,T$17) + COUNTIFS($I$3:$I$10,$A19)*COUNTIFS($I$3:$I$10,T$17) + COUNTIFS($J$3:$J$10,$A19)*COUNTIFS($J$3:$J$10,T$17) + COUNTIFS($K$3:$K$10,$A19)*COUNTIFS($K$3:$K$10,T$17) + COUNTIFS($L$3:$L$10,$A19)*COUNTIFS($L$3:$L$10,T$17) + COUNTIFS($M$3:$M$10,$A19)*COUNTIFS($M$3:$M$10,T$17) + COUNTIFS($N$3:$N$10,$A19)*COUNTIFS($N$3:$N$10,T$17) + COUNTIFS($O$3:$O$10,$A19)*COUNTIFS($O$3:$O$10,T$17) + COUNTIFS($P$3:$P$10,$A19)*COUNTIFS($P$3:$P$10,T$17) + COUNTIFS($Q$3:$Q$10,$A19)*COUNTIFS($Q$3:$Q$10,T$17) + COUNTIFS($R$3:$R$10,$A19)*COUNTIFS($R$3:$R$10,T$17) + COUNTIFS($S$3:$S$10,$A19)*COUNTIFS($S$3:$S$10,T$17) + COUNTIFS($T$3:$T$10,$A19)*COUNTIFS($T$3:$T$10,T$17) + COUNTIFS($U$3:$U$10,$A19)*COUNTIFS($U$3:$U$10,T$17) + COUNTIFS($V$3:$V$10,$A19)*COUNTIFS($V$3:$V$10,T$17) + COUNTIFS($W$3:$W$10,$A19)*COUNTIFS($W$3:$W$10,T$17) + COUNTIFS($X$3:$X$10,$A19)*COUNTIFS($X$3:$X$10,T$17) + COUNTIFS($Y$3:$Y$10,$A19)*COUNTIFS($Y$3:$Y$10,T$17) -> 0 | W19: 7 | AA19: 7 | AB19: =COUNTIF($B$18:$T$36,AA19)/2 -> 1
A20: 3 | B20: =COUNTIFS($B$3:$B$10,$A20)*COUNTIFS($B$3:$B$10,B$17) + COUNTIFS($C$3:$C$10,$A20)*COUNTIFS($C$3:$C$10,B$17) + COUNTIFS($D$3:$D$10,$A20)*COUNTIFS($D$3:$D$10,B$17) + COUNTIFS($E$3:$E$10,$A20)*COUNTIFS($E$3:$E$10,B$17) + COUNTIFS($F$3:$F$10,$A20)*COUNTIFS($F$3:$F$10,B$17) + COUNTIFS($G$3:$G$10,$A20)*COUNTIFS($G$3:$G$10,B$17) + COUNTIFS($H$3:$H$10,$A20)*COUNTIFS($H$3:$H$10,B$17) + COUNTIFS($I$3:$I$10,$A20)*COUNTIFS($I$3:$I$10,B$17) + COUNTIFS($J$3:$J$10,$A20)*COUNTIFS($J$3:$J$10,B$17) + COUNTIFS($K$3:$K$10,$A20)*COUNTIFS($K$3:$K$10,B$17) + COUNTIFS($L$3:$L$10,$A20)*COUNTIFS($L$3:$L$10,B$17) + COUNTIFS($M$3:$M$10,$A20)*COUNTIFS($M$3:$M$10,B$17) + COUNTIFS($N$3:$N$10,$A20)*COUNTIFS($N$3:$N$10,B$17) + COUNTIFS($O$3:$O$10,$A20)*COUNTIFS($O$3:$O$10,B$17) + COUNTIFS($P$3:$P$10,$A20)*COUNTIFS($P$3:$P$10,B$17) + COUNTIFS($Q$3:$Q$10,$A20)*COUNTIFS($Q$3:$Q$10,B$17) + COUNTIFS($R$3:$R$10,$A20)*COUNTIFS($R$3:$R$10,B$17) + COUNTIFS($S$3:$S$10,$A20)*COUNTIFS($S$3:$S$10,B$17) + COUNTIFS($T$3:$T$10,$A20)*COUNTIFS($T$3:$T$10,B$17) + COUNTIFS($U$3:$U$10,$A20)*COUNTIFS($U$3:$U$10,B$17) + COUNTIFS($V$3:$V$10,$A20)*COUNTIFS($V$3:$V$10,B$17) + COUNTIFS($W$3:$W$10,$A20)*COUNTIFS($W$3:$W$10,B$17) + COUNTIFS($X$3:$X$10,$A20)*COUNTIFS($X$3:$X$10,B$17) + COUNTIFS($Y$3:$Y$10,$A20)*COUNTIFS($Y$3:$Y$10,B$17) -> 4 | C20: =COUNTIFS($B$3:$B$10,$A20)*COUNTIFS($B$3:$B$10,C$17) + COUNTIFS($C$3:$C$10,$A20)*COUNTIFS($C$3:$C$10,C$17) + COUNTIFS($D$3:$D$10,$A20)*COUNTIFS($D$3:$D$10,C$17) + COUNTIFS($E$3:$E$10,$A20)*COUNTIFS($E$3:$E$10,C$17) + COUNTIFS($F$3:$F$10,$A20)*COUNTIFS($F$3:$F$10,C$17) + COUNTIFS($G$3:$G$10,$A20)*COUNTIFS($G$3:$G$10,C$17) + COUNTIFS($H$3:$H$10,$A20)*COUNTIFS($H$3:$H$10,C$17) + COUNTIFS($I$3:$I$10,$A20)*COUNTIFS($I$3:$I$10,C$17) + COUNTIFS($J$3:$J$10,$A20)*COUNTIFS($J$3:$J$10,C$17) + COUNTIFS($K$3:$K$10,$A20)*COUNTIFS($K$3:$K$10,C$17) + COUNTIFS($L$3:$L$10,$A20)*COUNTIFS($L$3:$L$10,C$17) + COUNTIFS($M$3:$M$10,$A20)*COUNTIFS($M$3:$M$10,C$17) + COUNTIFS($N$3:$N$10,$A20)*COUNTIFS($N$3:$N$10,C$17) + COUNTIFS($O$3:$O$10,$A20)*COUNTIFS($O$3:$O$10,C$17) + COUNTIFS($P$3:$P$10,$A20)*COUNTIFS($P$3:$P$10,C$17) + COUNTIFS($Q$3:$Q$10,$A20)*COUNTIFS($Q$3:$Q$10,C$17) + COUNTIFS($R$3:$R$10,$A20)*COUNTIFS($R$3:$R$10,C$17) + COUNTIFS($S$3:$S$10,$A20)*COUNTIFS($S$3:$S$10,C$17) + COUNTIFS($T$3:$T$10,$A20)*COUNTIFS($T$3:$T$10,C$17) + COUNTIFS($U$3:$U$10,$A20)*COUNTIFS($U$3:$U$10,C$17) + COUNTIFS($V$3:$V$10,$A20)*COUNTIFS($V$3:$V$10,C$17) + COUNTIFS($W$3:$W$10,$A20)*COUNTIFS($W$3:$W$10,C$17) + COUNTIFS($X$3:$X$10,$A20)*COUNTIFS($X$3:$X$10,C$17) + COUNTIFS($Y$3:$Y$10,$A20)*COUNTIFS($Y$3:$Y$10,C$17) -> 4 | D20: =COUNTIFS($B$3:$B$10,$A20)*COUNTIFS($B$3:$B$10,D$17) + COUNTIFS($C$3:$C$10,$A20)*COUNTIFS($C$3:$C$10,D$17) + COUNTIFS($D$3:$D$10,$A20)*COUNTIFS($D$3:$D$10,D$17) + COUNTIFS($E$3:$E$10,$A20)*COUNTIFS($E$3:$E$10,D$17) + COUNTIFS($F$3:$F$10,$A20)*COUNTIFS($F$3:$F$10,D$17) + COUNTIFS($G$3:$G$10,$A20)*COUNTIFS($G$3:$G$10,D$17) + COUNTIFS($H$3:$H$10,$A20)*COUNTIFS($H$3:$H$10,D$17) + COUNTIFS($I$3:$I$10,$A20)*COUNTIFS($I$3:$I$10,D$17) + COUNTIFS($J$3:$J$10,$A20)*COUNTIFS($J$3:$J$10,D$17) + COUNTIFS($K$3:$K$10,$A20)*COUNTIFS($K$3:$K$10,D$17) + COUNTIFS($L$3:$L$10,$A20)*COUNTIFS($L$3:$L$10,D$17) + COUNTIFS($M$3:$M$10,$A20)*COUNTIFS($M$3:$M$10,D$17) + COUNTIFS($N$3:$N$10,$A20)*COUNTIFS($N$3:$N$10,D$17) + COUNTIFS($O$3:$O$10,$A20)*COUNTIFS($O$3:$O$10,D$17) + COUNTIFS($P$3:$P$10,$A20)*COUNTIFS($P$3:$P$10,D$17) + COUNTIFS($Q$3:$Q$10,$A20)*COUNTIFS($Q$3:$Q$10,D$17) + COUNTIFS($R$3:$R$10,$A20)*COUNTIFS($R$3:$R$10,D$17) + COUNTIFS($S$3:$S$10,$A20)*COUNTIFS($S$3:$S$10,D$17) + COUNTIFS($T$3:$T$10,$A20)*COUNTIFS($T$3:$T$10,D$17) + COUNTIFS($U$3:$U$10,$A20)*COUNTIFS($U$3:$U$10,D$17) + COUNTIFS($V$3:$V$10,$A20)*COUNTIFS($V$3:$V$10,D$17) + COUNTIFS($W$3:$W$10,$A20)*COUNTIFS($W$3:$W$10,D$17) + COUNTIFS($X$3:$X$10,$A20)*COUNTIFS($X$3:$X$10,D$17) + COUNTIFS($Y$3:$Y$10,$A20)*COUNTIFS($Y$3:$Y$10,D$17) -> 8 | E20: =COUNTIFS($B$3:$B$10,$A20)*COUNTIFS($B$3:$B$10,E$17) + COUNTIFS($C$3:$C$10,$A20)*COUNTIFS($C$3:$C$10,E$17) + COUNTIFS($D$3:$D$10,$A20)*COUNTIFS($D$3:$D$10,E$17) + COUNTIFS($E$3:$E$10,$A20)*COUNTIFS($E$3:$E$10,E$17) + COUNTIFS($F$3:$F$10,$A20)*COUNTIFS($F$3:$F$10,E$17) + COUNTIFS($G$3:$G$10,$A20)*COUNTIFS($G$3:$G$10,E$17) + COUNTIFS($H$3:$H$10,$A20)*COUNTIFS($H$3:$H$10,E$17) + COUNTIFS($I$3:$I$10,$A20)*COUNTIFS($I$3:$I$10,E$17) + COUNTIFS($J$3:$J$10,$A20)*COUNTIFS($J$3:$J$10,E$17) + COUNTIFS($K$3:$K$10,$A20)*COUNTIFS($K$3:$K$10,E$17) + COUNTIFS($L$3:$L$10,$A20)*COUNTIFS($L$3:$L$10,E$17) + COUNTIFS($M$3:$M$10,$A20)*COUNTIFS($M$3:$M$10,E$17) + COUNTIFS($N$3:$N$10,$A20)*COUNTIFS($N$3:$N$10,E$17) + COUNTIFS($O$3:$O$10,$A20)*COUNTIFS($O$3:$O$10,E$17) + COUNTIFS($P$3:$P$10,$A20)*COUNTIFS($P$3:$P$10,E$17) + COUNTIFS($Q$3:$Q$10,$A20)*COUNTIFS($Q$3:$Q$10,E$17) + COUNTIFS($R$3:$R$10,$A20)*COUNTIFS($R$3:$R$10,E$17) + COUNTIFS($S$3:$S$10,$A20)*COUNTIFS($S$3:$S$10,E$17) + COUNTIFS($T$3:$T$10,$A20)*COUNTIFS($T$3:$T$10,E$17) + COUNTIFS($U$3:$U$10,$A20)*COUNTIFS($U$3:$U$10,E$17) + COUNTIFS($V$3:$V$10,$A20)*COUNTIFS($V$3:$V$10,E$17) + COUNTIFS($W$3:$W$10,$A20)*COUNTIFS($W$3:$W$10,E$17) + COUNTIFS($X$3:$X$10,$A20)*COUNTIFS($X$3:$X$10,E$17) + COUNTIFS($Y$3:$Y$10,$A20)*COUNTIFS($Y$3:$Y$10,E$17) -> 0 | F20: =COUNTIFS($B$3:$B$10,$A20)*COUNTIFS($B$3:$B$10,F$17) + COUNTIFS($C$3:$C$10,$A20)*COUNTIFS($C$3:$C$10,F$17) + COUNTIFS($D$3:$D$10,$A20)*COUNTIFS($D$3:$D$10,F$17) + COUNTIFS($E$3:$E$10,$A20)*COUNTIFS($E$3:$E$10,F$17) + COUNTIFS($F$3:$F$10,$A20)*COUNTIFS($F$3:$F$10,F$17) + COUNTIFS($G$3:$G$10,$A20)*COUNTIFS($G$3:$G$10,F$17) + COUNTIFS($H$3:$H$10,$A20)*COUNTIFS($H$3:$H$10,F$17) + COUNTIFS($I$3:$I$10,$A20)*COUNTIFS($I$3:$I$10,F$17) + COUNTIFS($J$3:$J$10,$A20)*COUNTIFS($J$3:$J$10,F$17) + COUNTIFS($K$3:$K$10,$A20)*COUNTIFS($K$3:$K$10,F$17) + COUNTIFS($L$3:$L$10,$A20)*COUNTIFS($L$3:$L$10,F$17) + COUNTIFS($M$3:$M$10,$A20)*COUNTIFS($M$3:$M$10,F$17) + COUNTIFS($N$3:$N$10,$A20)*COUNTIFS($N$3:$N$10,F$17) + COUNTIFS($O$3:$O$10,$A20)*COUNTIFS($O$3:$O$10,F$17) + COUNTIFS($P$3:$P$10,$A20)*COUNTIFS($P$3:$P$10,F$17) + COUNTIFS($Q$3:$Q$10,$A20)*COUNTIFS($Q$3:$Q$10,F$17) + COUNTIFS($R$3:$R$10,$A20)*COUNTIFS($R$3:$R$10,F$17) + COUNTIFS($S$3:$S$10,$A20)*COUNTIFS($S$3:$S$10,F$17) + COUNTIFS($T$3:$T$10,$A20)*COUNTIFS($T$3:$T$10,F$17) + COUNTIFS($U$3:$U$10,$A20)*COUNTIFS($U$3:$U$10,F$17) + COUNTIFS($V$3:$V$10,$A20)*COUNTIFS($V$3:$V$10,F$17) + COUNTIFS($W$3:$W$10,$A20)*COUNTIFS($W$3:$W$10,F$17) + COUNTIFS($X$3:$X$10,$A20)*COUNTIFS($X$3:$X$10,F$17) + COUNTIFS($Y$3:$Y$10,$A20)*COUNTIFS($Y$3:$Y$10,F$17) -> 5 | G20: =COUNTIFS($B$3:$B$10,$A20)*COUNTIFS($B$3:$B$10,G$17) + COUNTIFS($C$3:$C$10,$A20)*COUNTIFS($C$3:$C$10,G$17) + COUNTIFS($D$3:$D$10,$A20)*COUNTIFS($D$3:$D$10,G$17) + COUNTIFS($E$3:$E$10,$A20)*COUNTIFS($E$3:$E$10,G$17) + COUNTIFS($F$3:$F$10,$A20)*COUNTIFS($F$3:$F$10,G$17) + COUNTIFS($G$3:$G$10,$A20)*COUNTIFS($G$3:$G$10,G$17) + COUNTIFS($H$3:$H$10,$A20)*COUNTIFS($H$3:$H$10,G$17) + COUNTIFS($I$3:$I$10,$A20)*COUNTIFS($I$3:$I$10,G$17) + COUNTIFS($J$3:$J$10,$A20)*COUNTIFS($J$3:$J$10,G$17) + COUNTIFS($K$3:$K$10,$A20)*COUNTIFS($K$3:$K$10,G$17) + COUNTIFS($L$3:$L$10,$A20)*COUNTIFS($L$3:$L$10,G$17) + COUNTIFS($M$3:$M$10,$A20)*COUNTIFS($M$3:$M$10,G$17) + COUNTIFS($N$3:$N$10,$A20)*COUNTIFS($N$3:$N$10,G$17) + COUNTIFS($O$3:$O$10,$A20)*COUNTIFS($O$3:$O$10,G$17) + COUNTIFS($P$3:$P$10,$A20)*COUNTIFS($P$3:$P$10,G$17) + COUNTIFS($Q$3:$Q$10,$A20)*COUNTIFS($Q$3:$Q$10,G$17) + COUNTIFS($R$3:$R$10,$A20)*COUNTIFS($R$3:$R$10,G$17) + COUNTIFS($S$3:$S$10,$A20)*COUNTIFS($S$3:$S$10,G$17) + COUNTIFS($T$3:$T$10,$A20)*COUNTIFS($T$3:$T$10,G$17) + COUNTIFS($U$3:$U$10,$A20)*COUNTIFS($U$3:$U$10,G$17) + COUNTIFS($V$3:$V$10,$A20)*COUNTIFS($V$3:$V$10,G$17) + COUNTIFS($W$3:$W$10,$A20)*COUNTIFS($W$3:$W$10,G$17) + COUNTIFS($X$3:$X$10,$A20)*COUNTIFS($X$3:$X$10,G$17) + COUNTIFS($Y$3:$Y$10,$A20)*COUNTIFS($Y$3:$Y$10,G$17) -> 3 | H20: =COUNTIFS($B$3:$B$10,$A20)*COUNTIFS($B$3:$B$10,H$17) + COUNTIFS($C$3:$C$10,$A20)*COUNTIFS($C$3:$C$10,H$17) + COUNTIFS($D$3:$D$10,$A20)*COUNTIFS($D$3:$D$10,H$17) + COUNTIFS($E$3:$E$10,$A20)*COUNTIFS($E$3:$E$10,H$17) + COUNTIFS($F$3:$F$10,$A20)*COUNTIFS($F$3:$F$10,H$17) + COUNTIFS($G$3:$G$10,$A20)*COUNTIFS($G$3:$G$10,H$17) + COUNTIFS($H$3:$H$10,$A20)*COUNTIFS($H$3:$H$10,H$17) + COUNTIFS($I$3:$I$10,$A20)*COUNTIFS($I$3:$I$10,H$17) + COUNTIFS($J$3:$J$10,$A20)*COUNTIFS($J$3:$J$10,H$17) + COUNTIFS($K$3:$K$10,$A20)*COUNTIFS($K$3:$K$10,H$17) + COUNTIFS($L$3:$L$10,$A20)*COUNTIFS($L$3:$L$10,H$17) + COUNTIFS($M$3:$M$10,$A20)*COUNTIFS($M$3:$M$10,H$17) + COUNTIFS($N$3:$N$10,$A20)*COUNTIFS($N$3:$N$10,H$17) + COUNTIFS($O$3:$O$10,$A20)*COUNTIFS($O$3:$O$10,H$17) + COUNTIFS($P$3:$P$10,$A20)*COUNTIFS($P$3:$P$10,H$17) + COUNTIFS($Q$3:$Q$10,$A20)*COUNTIFS($Q$3:$Q$10,H$17) + COUNTIFS($R$3:$R$10,$A20)*COUNTIFS($R$3:$R$10,H$17) + COUNTIFS($S$3:$S$10,$A20)*COUNTIFS($S$3:$S$10,H$17) + COUNTIFS($T$3:$T$10,$A20)*COUNTIFS($T$3:$T$10,H$17) + COUNTIFS($U$3:$U$10,$A20)*COUNTIFS($U$3:$U$10,H$17) + COUNTIFS($V$3:$V$10,$A20)*COUNTIFS($V$3:$V$10,H$17) + COUNTIFS($W$3:$W$10,$A20)*COUNTIFS($W$3:$W$10,H$17) + COUNTIFS($X$3:$X$10,$A20)*COUNTIFS($X$3:$X$10,H$17) + COUNTIFS($Y$3:$Y$10,$A20)*COUNTIFS($Y$3:$Y$10,H$17) -> 5 | I20: =COUNTIFS($B$3:$B$10,$A20)*COUNTIFS($B$3:$B$10,I$17) + COUNTIFS($C$3:$C$10,$A20)*COUNTIFS($C$3:$C$10,I$17) + COUNTIFS($D$3:$D$10,$A20)*COUNTIFS($D$3:$D$10,I$17) + COUNTIFS($E$3:$E$10,$A20)*COUNTIFS($E$3:$E$10,I$17) + COUNTIFS($F$3:$F$10,$A20)*COUNTIFS($F$3:$F$10,I$17) + COUNTIFS($G$3:$G$10,$A20)*COUNTIFS($G$3:$G$10,I$17) + COUNTIFS($H$3:$H$10,$A20)*COUNTIFS($H$3:$H$10,I$17) + COUNTIFS($I$3:$I$10,$A20)*COUNTIFS($I$3:$I$10,I$17) + COUNTIFS($J$3:$J$10,$A20)*COUNTIFS($J$3:$J$10,I$17) + COUNTIFS($K$3:$K$10,$A20)*COUNTIFS($K$3:$K$10,I$17) + COUNTIFS($L$3:$L$10,$A20)*COUNTIFS($L$3:$L$10,I$17) + COUNTIFS($M$3:$M$10,$A20)*COUNTIFS($M$3:$M$10,I$17) + COUNTIFS($N$3:$N$10,$A20)*COUNTIFS($N$3:$N$10,I$17) + COUNTIFS($O$3:$O$10,$A20)*COUNTIFS($O$3:$O$10,I$17) + COUNTIFS($P$3:$P$10,$A20)*COUNTIFS($P$3:$P$10,I$17) + COUNTIFS($Q$3:$Q$10,$A20)*COUNTIFS($Q$3:$Q$10,I$17) + COUNTIFS($R$3:$R$10,$A20)*COUNTIFS($R$3:$R$10,I$17) + COUNTIFS($S$3:$S$10,$A20)*COUNTIFS($S$3:$S$10,I$17) + COUNTIFS($T$3:$T$10,$A20)*COUNTIFS($T$3:$T$10,I$17) + COUNTIFS($U$3:$U$10,$A20)*COUNTIFS($U$3:$U$10,I$17) + COUNTIFS($V$3:$V$10,$A20)*COUNTIFS($V$3:$V$10,I$17) + COUNTIFS($W$3:$W$10,$A20)*COUNTIFS($W$3:$W$10,I$17) + COUNTIFS($X$3:$X$10,$A20)*COUNTIFS($X$3:$X$10,I$17) + COUNTIFS($Y$3:$Y$10,$A20)*COUNTIFS($Y$3:$Y$10,I$17) -> 3 | ... T20: =COUNTIFS($B$3:$B$10,$A20)*COUNTIFS($B$3:$B$10,T$17) + COUNTIFS($C$3:$C$10,$A20)*COUNTIFS($C$3:$C$10,T$17) + COUNTIFS($D$3:$D$10,$A20)*COUNTIFS($D$3:$D$10,T$17) + COUNTIFS($E$3:$E$10,$A20)*COUNTIFS($E$3:$E$10,T$17) + COUNTIFS($F$3:$F$10,$A20)*COUNTIFS($F$3:$F$10,T$17) + COUNTIFS($G$3:$G$10,$A20)*COUNTIFS($G$3:$G$10,T$17) + COUNTIFS($H$3:$H$10,$A20)*COUNTIFS($H$3:$H$10,T$17) + COUNTIFS($I$3:$I$10,$A20)*COUNTIFS($I$3:$I$10,T$17) + COUNTIFS($J$3:$J$10,$A20)*COUNTIFS($J$3:$J$10,T$17) + COUNTIFS($K$3:$K$10,$A20)*COUNTIFS($K$3:$K$10,T$17) + COUNTIFS($L$3:$L$10,$A20)*COUNTIFS($L$3:$L$10,T$17) + COUNTIFS($M$3:$M$10,$A20)*COUNTIFS($M$3:$M$10,T$17) + COUNTIFS($N$3:$N$10,$A20)*COUNTIFS($N$3:$N$10,T$17) + COUNTIFS($O$3:$O$10,$A20)*COUNTIFS($O$3:$O$10,T$17) + COUNTIFS($P$3:$P$10,$A20)*COUNTIFS($P$3:$P$10,T$17) + COUNTIFS($Q$3:$Q$10,$A20)*COUNTIFS($Q$3:$Q$10,T$17) + COUNTIFS($R$3:$R$10,$A20)*COUNTIFS($R$3:$R$10,T$17) + COUNTIFS($S$3:$S$10,$A20)*COUNTIFS($S$3:$S$10,T$17) + COUNTIFS($T$3:$T$10,$A20)*COUNTIFS($T$3:$T$10,T$17) + COUNTIFS($U$3:$U$10,$A20)*COUNTIFS($U$3:$U$10,T$17) + COUNTIFS($V$3:$V$10,$A20)*COUNTIFS($V$3:$V$10,T$17) + COUNTIFS($W$3:$W$10,$A20)*COUNTIFS($W$3:$W$10,T$17) + COUNTIFS($X$3:$X$10,$A20)*COUNTIFS($X$3:$X$10,T$17) + COUNTIFS($Y$3:$Y$10,$A20)*COUNTIFS($Y$3:$Y$10,T$17) -> 0 | W20: 6 | AA20: 6 | AB20: =COUNTIF($B$18:$T$36,AA20)/2 -> 3
A21: 4 | B21: =COUNTIFS($B$3:$B$10,$A21)*COUNTIFS($B$3:$B$10,B$17) + COUNTIFS($C$3:$C$10,$A21)*COUNTIFS($C$3:$C$10,B$17) + COUNTIFS($D$3:$D$10,$A21)*COUNTIFS($D$3:$D$10,B$17) + COUNTIFS($E$3:$E$10,$A21)*COUNTIFS($E$3:$E$10,B$17) + COUNTIFS($F$3:$F$10,$A21)*COUNTIFS($F$3:$F$10,B$17) + COUNTIFS($G$3:$G$10,$A21)*COUNTIFS($G$3:$G$10,B$17) + COUNTIFS($H$3:$H$10,$A21)*COUNTIFS($H$3:$H$10,B$17) + COUNTIFS($I$3:$I$10,$A21)*COUNTIFS($I$3:$I$10,B$17) + COUNTIFS($J$3:$J$10,$A21)*COUNTIFS($J$3:$J$10,B$17) + COUNTIFS($K$3:$K$10,$A21)*COUNTIFS($K$3:$K$10,B$17) + COUNTIFS($L$3:$L$10,$A21)*COUNTIFS($L$3:$L$10,B$17) + COUNTIFS($M$3:$M$10,$A21)*COUNTIFS($M$3:$M$10,B$17) + COUNTIFS($N$3:$N$10,$A21)*COUNTIFS($N$3:$N$10,B$17) + COUNTIFS($O$3:$O$10,$A21)*COUNTIFS($O$3:$O$10,B$17) + COUNTIFS($P$3:$P$10,$A21)*COUNTIFS($P$3:$P$10,B$17) + COUNTIFS($Q$3:$Q$10,$A21)*COUNTIFS($Q$3:$Q$10,B$17) + COUNTIFS($R$3:$R$10,$A21)*COUNTIFS($R$3:$R$10,B$17) + COUNTIFS($S$3:$S$10,$A21)*COUNTIFS($S$3:$S$10,B$17) + COUNTIFS($T$3:$T$10,$A21)*COUNTIFS($T$3:$T$10,B$17) + COUNTIFS($U$3:$U$10,$A21)*COUNTIFS($U$3:$U$10,B$17) + COUNTIFS($V$3:$V$10,$A21)*COUNTIFS($V$3:$V$10,B$17) + COUNTIFS($W$3:$W$10,$A21)*COUNTIFS($W$3:$W$10,B$17) + COUNTIFS($X$3:$X$10,$A21)*COUNTIFS($X$3:$X$10,B$17) + COUNTIFS($Y$3:$Y$10,$A21)*COUNTIFS($Y$3:$Y$10,B$17) -> 4 | C21: =COUNTIFS($B$3:$B$10,$A21)*COUNTIFS($B$3:$B$10,C$17) + COUNTIFS($C$3:$C$10,$A21)*COUNTIFS($C$3:$C$10,C$17) + COUNTIFS($D$3:$D$10,$A21)*COUNTIFS($D$3:$D$10,C$17) + COUNTIFS($E$3:$E$10,$A21)*COUNTIFS($E$3:$E$10,C$17) + COUNTIFS($F$3:$F$10,$A21)*COUNTIFS($F$3:$F$10,C$17) + COUNTIFS($G$3:$G$10,$A21)*COUNTIFS($G$3:$G$10,C$17) + COUNTIFS($H$3:$H$10,$A21)*COUNTIFS($H$3:$H$10,C$17) + COUNTIFS($I$3:$I$10,$A21)*COUNTIFS($I$3:$I$10,C$17) + COUNTIFS($J$3:$J$10,$A21)*COUNTIFS($J$3:$J$10,C$17) + COUNTIFS($K$3:$K$10,$A21)*COUNTIFS($K$3:$K$10,C$17) + COUNTIFS($L$3:$L$10,$A21)*COUNTIFS($L$3:$L$10,C$17) + COUNTIFS($M$3:$M$10,$A21)*COUNTIFS($M$3:$M$10,C$17) + COUNTIFS($N$3:$N$10,$A21)*COUNTIFS($N$3:$N$10,C$17) + COUNTIFS($O$3:$O$10,$A21)*COUNTIFS($O$3:$O$10,C$17) + COUNTIFS($P$3:$P$10,$A21)*COUNTIFS($P$3:$P$10,C$17) + COUNTIFS($Q$3:$Q$10,$A21)*COUNTIFS($Q$3:$Q$10,C$17) + COUNTIFS($R$3:$R$10,$A21)*COUNTIFS($R$3:$R$10,C$17) + COUNTIFS($S$3:$S$10,$A21)*COUNTIFS($S$3:$S$10,C$17) + COUNTIFS($T$3:$T$10,$A21)*COUNTIFS($T$3:$T$10,C$17) + COUNTIFS($U$3:$U$10,$A21)*COUNTIFS($U$3:$U$10,C$17) + COUNTIFS($V$3:$V$10,$A21)*COUNTIFS($V$3:$V$10,C$17) + COUNTIFS($W$3:$W$10,$A21)*COUNTIFS($W$3:$W$10,C$17) + COUNTIFS($X$3:$X$10,$A21)*COUNTIFS($X$3:$X$10,C$17) + COUNTIFS($Y$3:$Y$10,$A21)*COUNTIFS($Y$3:$Y$10,C$17) -> 4 | D21: =COUNTIFS($B$3:$B$10,$A21)*COUNTIFS($B$3:$B$10,D$17) + COUNTIFS($C$3:$C$10,$A21)*COUNTIFS($C$3:$C$10,D$17) + COUNTIFS($D$3:$D$10,$A21)*COUNTIFS($D$3:$D$10,D$17) + COUNTIFS($E$3:$E$10,$A21)*COUNTIFS($E$3:$E$10,D$17) + COUNTIFS($F$3:$F$10,$A21)*COUNTIFS($F$3:$F$10,D$17) + COUNTIFS($G$3:$G$10,$A21)*COUNTIFS($G$3:$G$10,D$17) + COUNTIFS($H$3:$H$10,$A21)*COUNTIFS($H$3:$H$10,D$17) + COUNTIFS($I$3:$I$10,$A21)*COUNTIFS($I$3:$I$10,D$17) + COUNTIFS($J$3:$J$10,$A21)*COUNTIFS($J$3:$J$10,D$17) + COUNTIFS($K$3:$K$10,$A21)*COUNTIFS($K$3:$K$10,D$17) + COUNTIFS($L$3:$L$10,$A21)*COUNTIFS($L$3:$L$10,D$17) + COUNTIFS($M$3:$M$10,$A21)*COUNTIFS($M$3:$M$10,D$17) + COUNTIFS($N$3:$N$10,$A21)*COUNTIFS($N$3:$N$10,D$17) + COUNTIFS($O$3:$O$10,$A21)*COUNTIFS($O$3:$O$10,D$17) + COUNTIFS($P$3:$P$10,$A21)*COUNTIFS($P$3:$P$10,D$17) + COUNTIFS($Q$3:$Q$10,$A21)*COUNTIFS($Q$3:$Q$10,D$17) + COUNTIFS($R$3:$R$10,$A21)*COUNTIFS($R$3:$R$10,D$17) + COUNTIFS($S$3:$S$10,$A21)*COUNTIFS($S$3:$S$10,D$17) + COUNTIFS($T$3:$T$10,$A21)*COUNTIFS($T$3:$T$10,D$17) + COUNTIFS($U$3:$U$10,$A21)*COUNTIFS($U$3:$U$10,D$17) + COUNTIFS($V$3:$V$10,$A21)*COUNTIFS($V$3:$V$10,D$17) + COUNTIFS($W$3:$W$10,$A21)*COUNTIFS($W$3:$W$10,D$17) + COUNTIFS($X$3:$X$10,$A21)*COUNTIFS($X$3:$X$10,D$17) + COUNTIFS($Y$3:$Y$10,$A21)*COUNTIFS($Y$3:$Y$10,D$17) -> 0 | E21: =COUNTIFS($B$3:$B$10,$A21)*COUNTIFS($B$3:$B$10,E$17) + COUNTIFS($C$3:$C$10,$A21)*COUNTIFS($C$3:$C$10,E$17) + COUNTIFS($D$3:$D$10,$A21)*COUNTIFS($D$3:$D$10,E$17) + COUNTIFS($E$3:$E$10,$A21)*COUNTIFS($E$3:$E$10,E$17) + COUNTIFS($F$3:$F$10,$A21)*COUNTIFS($F$3:$F$10,E$17) + COUNTIFS($G$3:$G$10,$A21)*COUNTIFS($G$3:$G$10,E$17) + COUNTIFS($H$3:$H$10,$A21)*COUNTIFS($H$3:$H$10,E$17) + COUNTIFS($I$3:$I$10,$A21)*COUNTIFS($I$3:$I$10,E$17) + COUNTIFS($J$3:$J$10,$A21)*COUNTIFS($J$3:$J$10,E$17) + COUNTIFS($K$3:$K$10,$A21)*COUNTIFS($K$3:$K$10,E$17) + COUNTIFS($L$3:$L$10,$A21)*COUNTIFS($L$3:$L$10,E$17) + COUNTIFS($M$3:$M$10,$A21)*COUNTIFS($M$3:$M$10,E$17) + COUNTIFS($N$3:$N$10,$A21)*COUNTIFS($N$3:$N$10,E$17) + COUNTIFS($O$3:$O$10,$A21)*COUNTIFS($O$3:$O$10,E$17) + COUNTIFS($P$3:$P$10,$A21)*COUNTIFS($P$3:$P$10,E$17) + COUNTIFS($Q$3:$Q$10,$A21)*COUNTIFS($Q$3:$Q$10,E$17) + COUNTIFS($R$3:$R$10,$A21)*COUNTIFS($R$3:$R$10,E$17) + COUNTIFS($S$3:$S$10,$A21)*COUNTIFS($S$3:$S$10,E$17) + COUNTIFS($T$3:$T$10,$A21)*COUNTIFS($T$3:$T$10,E$17) + COUNTIFS($U$3:$U$10,$A21)*COUNTIFS($U$3:$U$10,E$17) + COUNTIFS($V$3:$V$10,$A21)*COUNTIFS($V$3:$V$10,E$17) + COUNTIFS($W$3:$W$10,$A21)*COUNTIFS($W$3:$W$10,E$17) + COUNTIFS($X$3:$X$10,$A21)*COUNTIFS($X$3:$X$10,E$17) + COUNTIFS($Y$3:$Y$10,$A21)*COUNTIFS($Y$3:$Y$10,E$17) -> 8 | F21: =COUNTIFS($B$3:$B$10,$A21)*COUNTIFS($B$3:$B$10,F$17) + COUNTIFS($C$3:$C$10,$A21)*COUNTIFS($C$3:$C$10,F$17) + COUNTIFS($D$3:$D$10,$A21)*COUNTIFS($D$3:$D$10,F$17) + COUNTIFS($E$3:$E$10,$A21)*COUNTIFS($E$3:$E$10,F$17) + COUNTIFS($F$3:$F$10,$A21)*COUNTIFS($F$3:$F$10,F$17) + COUNTIFS($G$3:$G$10,$A21)*COUNTIFS($G$3:$G$10,F$17) + COUNTIFS($H$3:$H$10,$A21)*COUNTIFS($H$3:$H$10,F$17) + COUNTIFS($I$3:$I$10,$A21)*COUNTIFS($I$3:$I$10,F$17) + COUNTIFS($J$3:$J$10,$A21)*COUNTIFS($J$3:$J$10,F$17) + COUNTIFS($K$3:$K$10,$A21)*COUNTIFS($K$3:$K$10,F$17) + COUNTIFS($L$3:$L$10,$A21)*COUNTIFS($L$3:$L$10,F$17) + COUNTIFS($M$3:$M$10,$A21)*COUNTIFS($M$3:$M$10,F$17) + COUNTIFS($N$3:$N$10,$A21)*COUNTIFS($N$3:$N$10,F$17) + COUNTIFS($O$3:$O$10,$A21)*COUNTIFS($O$3:$O$10,F$17) + COUNTIFS($P$3:$P$10,$A21)*COUNTIFS($P$3:$P$10,F$17) + COUNTIFS($Q$3:$Q$10,$A21)*COUNTIFS($Q$3:$Q$10,F$17) + COUNTIFS($R$3:$R$10,$A21)*COUNTIFS($R$3:$R$10,F$17) + COUNTIFS($S$3:$S$10,$A21)*COUNTIFS($S$3:$S$10,F$17) + COUNTIFS($T$3:$T$10,$A21)*COUNTIFS($T$3:$T$10,F$17) + COUNTIFS($U$3:$U$10,$A21)*COUNTIFS($U$3:$U$10,F$17) + COUNTIFS($V$3:$V$10,$A21)*COUNTIFS($V$3:$V$10,F$17) + COUNTIFS($W$3:$W$10,$A21)*COUNTIFS($W$3:$W$10,F$17) + COUNTIFS($X$3:$X$10,$A21)*COUNTIFS($X$3:$X$10,F$17) + COUNTIFS($Y$3:$Y$10,$A21)*COUNTIFS($Y$3:$Y$10,F$17) -> 3 | G21: =COUNTIFS($B$3:$B$10,$A21)*COUNTIFS($B$3:$B$10,G$17) + COUNTIFS($C$3:$C$10,$A21)*COUNTIFS($C$3:$C$10,G$17) + COUNTIFS($D$3:$D$10,$A21)*COUNTIFS($D$3:$D$10,G$17) + COUNTIFS($E$3:$E$10,$A21)*COUNTIFS($E$3:$E$10,G$17) + COUNTIFS($F$3:$F$10,$A21)*COUNTIFS($F$3:$F$10,G$17) + COUNTIFS($G$3:$G$10,$A21)*COUNTIFS($G$3:$G$10,G$17) + COUNTIFS($H$3:$H$10,$A21)*COUNTIFS($H$3:$H$10,G$17) + COUNTIFS($I$3:$I$10,$A21)*COUNTIFS($I$3:$I$10,G$17) + COUNTIFS($J$3:$J$10,$A21)*COUNTIFS($J$3:$J$10,G$17) + COUNTIFS($K$3:$K$10,$A21)*COUNTIFS($K$3:$K$10,G$17) + COUNTIFS($L$3:$L$10,$A21)*COUNTIFS($L$3:$L$10,G$17) + COUNTIFS($M$3:$M$10,$A21)*COUNTIFS($M$3:$M$10,G$17) + COUNTIFS($N$3:$N$10,$A21)*COUNTIFS($N$3:$N$10,G$17) + COUNTIFS($O$3:$O$10,$A21)*COUNTIFS($O$3:$O$10,G$17) + COUNTIFS($P$3:$P$10,$A21)*COUNTIFS($P$3:$P$10,G$17) + COUNTIFS($Q$3:$Q$10,$A21)*COUNTIFS($Q$3:$Q$10,G$17) + COUNTIFS($R$3:$R$10,$A21)*COUNTIFS($R$3:$R$10,G$17) + COUNTIFS($S$3:$S$10,$A21)*COUNTIFS($S$3:$S$10,G$17) + COUNTIFS($T$3:$T$10,$A21)*COUNTIFS($T$3:$T$10,G$17) + COUNTIFS($U$3:$U$10,$A21)*COUNTIFS($U$3:$U$10,G$17) + COUNTIFS($V$3:$V$10,$A21)*COUNTIFS($V$3:$V$10,G$17) + COUNTIFS($W$3:$W$10,$A21)*COUNTIFS($W$3:$W$10,G$17) + COUNTIFS($X$3:$X$10,$A21)*COUNTIFS($X$3:$X$10,G$17) + COUNTIFS($Y$3:$Y$10,$A21)*COUNTIFS($Y$3:$Y$10,G$17) -> 5 | H21: =COUNTIFS($B$3:$B$10,$A21)*COUNTIFS($B$3:$B$10,H$17) + COUNTIFS($C$3:$C$10,$A21)*COUNTIFS($C$3:$C$10,H$17) + COUNTIFS($D$3:$D$10,$A21)*COUNTIFS($D$3:$D$10,H$17) + COUNTIFS($E$3:$E$10,$A21)*COUNTIFS($E$3:$E$10,H$17) + COUNTIFS($F$3:$F$10,$A21)*COUNTIFS($F$3:$F$10,H$17) + COUNTIFS($G$3:$G$10,$A21)*COUNTIFS($G$3:$G$10,H$17) + COUNTIFS($H$3:$H$10,$A21)*COUNTIFS($H$3:$H$10,H$17) + COUNTIFS($I$3:$I$10,$A21)*COUNTIFS($I$3:$I$10,H$17) + COUNTIFS($J$3:$J$10,$A21)*COUNTIFS($J$3:$J$10,H$17) + COUNTIFS($K$3:$K$10,$A21)*COUNTIFS($K$3:$K$10,H$17) + COUNTIFS($L$3:$L$10,$A21)*COUNTIFS($L$3:$L$10,H$17) + COUNTIFS($M$3:$M$10,$A21)*COUNTIFS($M$3:$M$10,H$17) + COUNTIFS($N$3:$N$10,$A21)*COUNTIFS($N$3:$N$10,H$17) + COUNTIFS($O$3:$O$10,$A21)*COUNTIFS($O$3:$O$10,H$17) + COUNTIFS($P$3:$P$10,$A21)*COUNTIFS($P$3:$P$10,H$17) + COUNTIFS($Q$3:$Q$10,$A21)*COUNTIFS($Q$3:$Q$10,H$17) + COUNTIFS($R$3:$R$10,$A21)*COUNTIFS($R$3:$R$10,H$17) + COUNTIFS($S$3:$S$10,$A21)*COUNTIFS($S$3:$S$10,H$17) + COUNTIFS($T$3:$T$10,$A21)*COUNTIFS($T$3:$T$10,H$17) + COUNTIFS($U$3:$U$10,$A21)*COUNTIFS($U$3:$U$10,H$17) + COUNTIFS($V$3:$V$10,$A21)*COUNTIFS($V$3:$V$10,H$17) + COUNTIFS($W$3:$W$10,$A21)*COUNTIFS($W$3:$W$10,H$17) + COUNTIFS($X$3:$X$10,$A21)*COUNTIFS($X$3:$X$10,H$17) + COUNTIFS($Y$3:$Y$10,$A21)*COUNTIFS($Y$3:$Y$10,H$17) -> 3 | I21: =COUNTIFS($B$3:$B$10,$A21)*COUNTIFS($B$3:$B$10,I$17) + COUNTIFS($C$3:$C$10,$A21)*COUNTIFS($C$3:$C$10,I$17) + COUNTIFS($D$3:$D$10,$A21)*COUNTIFS($D$3:$D$10,I$17) + COUNTIFS($E$3:$E$10,$A21)*COUNTIFS($E$3:$E$10,I$17) + COUNTIFS($F$3:$F$10,$A21)*COUNTIFS($F$3:$F$10,I$17) + COUNTIFS($G$3:$G$10,$A21)*COUNTIFS($G$3:$G$10,I$17) + COUNTIFS($H$3:$H$10,$A21)*COUNTIFS($H$3:$H$10,I$17) + COUNTIFS($I$3:$I$10,$A21)*COUNTIFS($I$3:$I$10,I$17) + COUNTIFS($J$3:$J$10,$A21)*COUNTIFS($J$3:$J$10,I$17) + COUNTIFS($K$3:$K$10,$A21)*COUNTIFS($K$3:$K$10,I$17) + COUNTIFS($L$3:$L$10,$A21)*COUNTIFS($L$3:$L$10,I$17) + COUNTIFS($M$3:$M$10,$A21)*COUNTIFS($M$3:$M$10,I$17) + COUNTIFS($N$3:$N$10,$A21)*COUNTIFS($N$3:$N$10,I$17) + COUNTIFS($O$3:$O$10,$A21)*COUNTIFS($O$3:$O$10,I$17) + COUNTIFS($P$3:$P$10,$A21)*COUNTIFS($P$3:$P$10,I$17) + COUNTIFS($Q$3:$Q$10,$A21)*COUNTIFS($Q$3:$Q$10,I$17) + COUNTIFS($R$3:$R$10,$A21)*COUNTIFS($R$3:$R$10,I$17) + COUNTIFS($S$3:$S$10,$A21)*COUNTIFS($S$3:$S$10,I$17) + COUNTIFS($T$3:$T$10,$A21)*COUNTIFS($T$3:$T$10,I$17) + COUNTIFS($U$3:$U$10,$A21)*COUNTIFS($U$3:$U$10,I$17) + COUNTIFS($V$3:$V$10,$A21)*COUNTIFS($V$3:$V$10,I$17) + COUNTIFS($W$3:$W$10,$A21)*COUNTIFS($W$3:$W$10,I$17) + COUNTIFS($X$3:$X$10,$A21)*COUNTIFS($X$3:$X$10,I$17) + COUNTIFS($Y$3:$Y$10,$A21)*COUNTIFS($Y$3:$Y$10,I$17) -> 5 | ... T21: =COUNTIFS($B$3:$B$10,$A21)*COUNTIFS($B$3:$B$10,T$17) + COUNTIFS($C$3:$C$10,$A21)*COUNTIFS($C$3:$C$10,T$17) + COUNTIFS($D$3:$D$10,$A21)*COUNTIFS($D$3:$D$10,T$17) + COUNTIFS($E$3:$E$10,$A21)*COUNTIFS($E$3:$E$10,T$17) + COUNTIFS($F$3:$F$10,$A21)*COUNTIFS($F$3:$F$10,T$17) + COUNTIFS($G$3:$G$10,$A21)*COUNTIFS($G$3:$G$10,T$17) + COUNTIFS($H$3:$H$10,$A21)*COUNTIFS($H$3:$H$10,T$17) + COUNTIFS($I$3:$I$10,$A21)*COUNTIFS($I$3:$I$10,T$17) + COUNTIFS($J$3:$J$10,$A21)*COUNTIFS($J$3:$J$10,T$17) + COUNTIFS($K$3:$K$10,$A21)*COUNTIFS($K$3:$K$10,T$17) + COUNTIFS($L$3:$L$10,$A21)*COUNTIFS($L$3:$L$10,T$17) + COUNTIFS($M$3:$M$10,$A21)*COUNTIFS($M$3:$M$10,T$17) + COUNTIFS($N$3:$N$10,$A21)*COUNTIFS($N$3:$N$10,T$17) + COUNTIFS($O$3:$O$10,$A21)*COUNTIFS($O$3:$O$10,T$17) + COUNTIFS($P$3:$P$10,$A21)*COUNTIFS($P$3:$P$10,T$17) + COUNTIFS($Q$3:$Q$10,$A21)*COUNTIFS($Q$3:$Q$10,T$17) + COUNTIFS($R$3:$R$10,$A21)*COUNTIFS($R$3:$R$10,T$17) + COUNTIFS($S$3:$S$10,$A21)*COUNTIFS($S$3:$S$10,T$17) + COUNTIFS($T$3:$T$10,$A21)*COUNTIFS($T$3:$T$10,T$17) + COUNTIFS($U$3:$U$10,$A21)*COUNTIFS($U$3:$U$10,T$17) + COUNTIFS($V$3:$V$10,$A21)*COUNTIFS($V$3:$V$10,T$17) + COUNTIFS($W$3:$W$10,$A21)*COUNTIFS($W$3:$W$10,T$17) + COUNTIFS($X$3:$X$10,$A21)*COUNTIFS($X$3:$X$10,T$17) + COUNTIFS($Y$3:$Y$10,$A21)*COUNTIFS($Y$3:$Y$10,T$17) -> 0 | W21: 5 | AA21: 5 | AB21: =COUNTIF($B$18:$T$36,AA21)/2 -> 13
