Workbook

Sheet Prijave
A1: RB | B1: Prezime, ime | C1: Jr. | D1: Država | E1: Aeroklub | F1: Dozvola | G1: Kanal 1 | H1: kanal 2 | J1: St.Broj | K1: Natjecatelj | L1: Jr | M1: Država | N1: Aeroklub
A2: 1 | B2: Urbančič, Grega | D2: SLO | E2: AK-Ptuj | G2: 2.4 | J2: 1 | K2: =B2 -> Urbančič, Grega | M2: =D2 -> SLO | N2: =E2 -> AK-Ptuj
A3: 2 | B3: Urbančič, Luka | C3: (jr) | D3: SLO | E3: AK-Ptuj | G3: 2.4 | J3: 2 | K3: =B3 -> Urbančič, Luka | L3: (jr) | M3: =D3 -> SLO | N3: =E3 -> AK-Ptuj
A4: 3 | B4: Kosir, Damir | D4: CRO | E4: MK Zaprešić | F4: F 001 | G4: 2.4 | J4: 3 | K4: =B4 -> Kosir, Damir | M4: =D4 -> CRO | N4: =E4 -> MK Zaprešić
A5: 4 | B5: Tucman, Alen | C5: (jr) | D5: CRO | E5: MK Zaprešić | F5: F-004 | G5: 2.4 | J5: 4 | K5: =B5 -> Tucman, Alen | L5: (jr) | M5: =D5 -> CRO | N5: =E5 -> MK Zaprešić
A6: 5 | B6: Frančić, Nikola | D6: CRO | E6: AK Rudolf Fizir | F6: F - 020 | G6: 42096 | H6: - | J6: 5 | K6: =B6 -> Frančić, Nikola | M6: =D6 -> CRO | N6: =E6 -> AK Rudolf Fizir
A7: 6 | B7: Geci, Filip | D7: CRO | E7: AK Rudolf Fizir | G7: 42096 | J7: 6 | K7: =B7 -> Geci, Filip | M7: =D7 -> CRO | N7: =E7 -> AK Rudolf Fizir
A8: 7 | B8: Hrastovec, Krešimir | D8: CRO | E8: MK Zaprešić | F8: F-015 | G8: 2.4 | J8: 7 | K8: =B8 -> Hrastovec, Krešimir | M8: =D8 -> CRO | N8: =E8 -> MK Zaprešić
A9: 8 | B9: Videnšek, Tone | D9: SLO | E9: DMP-Murska Sobota | F9: 143034 | G9: 2.4 | J9: 8 | K9: =B9 -> Videnšek, Tone | M9: =D9 -> SLO | N9: =E9 -> DMP-Murska Sobota
A10: 9 | B10: Mihajlović, Saša | D10: CRO | E10: MK Zaprešić | F10: F-063 | G10: 2.4 | J10: 9 | K10: =B10 -> Mihajlović, Saša | M10: =D10 -> CRO | N10: =E10 -> MK Zaprešić
A11: 10 | B11: Podbregar, Matjaž | D11: SLO | E11: AK Milan B.Litija | G11: 2.4 | J11: 10 | K11: =B11 -> Podbregar, Matjaž | M11: =D11 -> SLO | N11: =E11 -> AK Milan B.Litija
A12: 11 | B12: Lovše, Mirko | D12: SLO | E12: AK. Milan B. Litija | G12: 35 | H12: 74 | J12: 11 | K12: =B12 -> Lovše, Mirko | M12: =D12 -> SLO | N12: =E12 -> AK. Milan B. Litija
A13: 12
A14: 13
A15: 14
A16: 15
A17: 16
A18: 17
A19: 18
A20: 19
A21: 20
A22: 21
A23: 22
A25: *** U gornju tablicu kopirati podatke iz prijava *** | J25: *** upisati samo Startni Broj uz natjecatelja (sve ostalo je linkano) ***
B28: Naziv natjecanja: | C28: 7. Zaprešićki elektro kup F5J-400
B29: Mjesto i datum: | C29: Zaprešić, 10.5.2015.

Sheet Kartoni
B2: =Prijave!$C$28 -> 7. Zaprešićki elektro kup F5J-400 | K2: =$B$2 -> 7. Zaprešićki elektro kup F5J-400
H3: St.Broj: | I3: 1 | Q3: St.Broj: | R3: 2
B4: NATJECATELJ | D4: =VLOOKUP(I3,Prijave!$J$2:$N$22,2,FALSE) -> Urbančič, Grega | K4: NATJECATELJ | M4: =VLOOKUP(R3,Prijave!$J$2:$N$22,2,FALSE) -> Urbančič, Luka
B5: AEROKLUB | D5: =VLOOKUP(I3,Prijave!$J$2:$N$22,5,FALSE) -> AK-Ptuj | H5: Država | I5: =VLOOKUP(I3,Prijave!$J$2:$N$22,4,FALSE) -> SLO | K5: AEROKLUB | M5: =VLOOKUP(R3,Prijave!$J$2:$N$22,5,FALSE) -> AK-Ptuj | Q5: Država | R5: =VLOOKUP(R3,Prijave!$J$2:$N$22,4,FALSE) -> SLO
B7: LET | C7: Grupa | D7: Minute | E7: Sekunde | F7: Stotinke | H7: SLIJETANJE | I7: OK | K7: LET | L7: Grupa | M7: Minute | N7: Sekunde | O7: Stotinke | Q7: SLIJETANJE | R7: OK
B8: 1 | I8: ⃝ | K8: 1 | R8: ⃝
B9: 2 | I9: ⃝ | K9: 2 | R9: ⃝
B10: 3 | I10: ⃝ | K10: 3 | R10: ⃝
B11: 4 | I11: ⃝ | K11: 4 | R11: ⃝
B12: 5 | I12: ⃝ | K12: 5 | R12: ⃝
B13: 6 | I13: ⃝ | K13: 6 | R13: ⃝
B14: 7 | I14: ⃝ | K14: 7 | R14: ⃝
B15: 8 | I15: ⃝ | K15: 8 | R15: ⃝
B16: Napomene: | K16: Napomene:
B20: =Prijave!$C$29 -> Zaprešić, 10.5.2015. | K20: =$B$20 -> Zaprešić, 10.5.2015.
B22: =$B$2 -> 7. Zaprešićki elektro kup F5J-400 | K22: =$B$2 -> 7. Zaprešićki elektro kup F5J-400
H23: St.Broj: | I23: 3 | Q23: St.Broj: | R23: 4
B24: NATJECATELJ | D24: =VLOOKUP(I23,Prijave!$J$2:$N$22,2,FALSE) -> Kosir, Damir | K24: NATJECATELJ | M24: =VLOOKUP(R23,Prijave!$J$2:$N$22,2,FALSE) -> Tucman, Alen
B25: AEROKLUB | D25: =VLOOKUP(I23,Prijave!$J$2:$N$22,5,FALSE) -> MK Zaprešić | H25: Država | I25: =VLOOKUP(I23,Prijave!$J$2:$N$22,4,FALSE) -> CRO | K25: AEROKLUB | M25: =VLOOKUP(R23,Prijave!$J$2:$N$22,5,FALSE) -> MK Zaprešić | Q25: Država | R25: =VLOOKUP(R23,Prijave!$J$2:$N$22,4,FALSE) -> CRO
B27: LET | C27: Grupa | D27: Minute | E27: Sekunde | F27: Stotinke | H27: SLIJETANJE | I27: OK | K27: LET | L27: Grupa | M27: Minute | N27: Sekunde | O27: Stotinke | Q27: SLIJETANJE | R27: OK
B28: 1 | I28: ⃝ | K28: 1 | R28: ⃝
B29: 2 | I29: ⃝ | K29: 2 | R29: ⃝
B30: 3 | I30: ⃝ | K30: 3 | R30: ⃝
B31: 4 | I31: ⃝ | K31: 4 | R31: ⃝
B32: 5 | I32: ⃝ | K32: 5 | R32: ⃝
B33: 6 | I33: ⃝ | K33: 6 | R33: ⃝
B34: 7 | I34: ⃝ | K34: 7 | R34: ⃝
B35: 8 | I35: ⃝ | K35: 8 | R35: ⃝
B36: Napomene: | K36: Napomene:
B40: =$B$20 -> Zaprešić, 10.5.2015. | K40: =$B$20 -> Zaprešić, 10.5.2015.
B41: =$B$2 -> 7. Zaprešićki elektro kup F5J-400 | K41: =$B$2 -> 7. Zaprešićki elektro kup F5J-400
H42: St.Broj: | I42: 5 | Q42: St.Broj: | R42: 6
B43: NATJECATELJ | D43: =VLOOKUP(I42,Prijave!$J$2:$N$22,2,FALSE) -> Frančić, Nikola | K43: NATJECATELJ | M43: =VLOOKUP(R42,Prijave!$J$2:$N$22,2,FALSE) -> Geci, Filip
B44: AEROKLUB | D44: =VLOOKUP(I42,Prijave!$J$2:$N$22,5,FALSE) -> AK Rudolf Fizir | H44: Država | I44: =VLOOKUP(I42,Prijave!$J$2:$N$22,4,FALSE) -> CRO | K44: AEROKLUB | M44: =VLOOKUP(R42,Prijave!$J$2:$N$22,5,FALSE) -> AK Rudolf Fizir | Q44: Država | R44: =VLOOKUP(R42,Prijave!$J$2:$N$22,4,FALSE) -> CRO
B46: LET | C46: Grupa | D46: Minute | E46: Sekunde | F46: Stotinke | H46: SLIJETANJE | I46: OK | K46: LET | L46: Grupa | M46: Minute | N46: Sekunde | O46: Stotinke | Q46: SLIJETANJE | R46: OK
B47: 1 | I47: ⃝ | K47: 1 | R47: ⃝
B48: 2 | I48: ⃝ | K48: 2 | R48: ⃝
B49: 3 | I49: ⃝ | K49: 3 | R49: ⃝
B50: 4 | I50: ⃝ | K50: 4 | R50: ⃝
B51: 5 | I51: ⃝ | K51: 5 | R51: ⃝
B52: 6 | I52: ⃝ | K52: 6 | R52: ⃝
B53: 7 | I53: ⃝ | K53: 7 | R53: ⃝
B54: 8 | I54: ⃝ | K54: 8 | R54: ⃝
B55: Napomene: | K55: Napomene:
B59: =$B$20 -> Zaprešić, 10.5.2015. | K59: =$B$20 -> Zaprešić, 10.5.2015.
B61: =$B$2 -> 7. Zaprešićki elektro kup F5J-400 | K61: =$B$2 -> 7. Zaprešićki elektro kup F5J-400
H62: St.Broj: | I62: 7 | Q62: St.Broj: | R62: 8
B63: NATJECATELJ | D63: =VLOOKUP(I62,Prijave!$J$2:$N$22,2,FALSE) -> Hrastovec, Krešimir | K63: NATJECATELJ | M63: =VLOOKUP(R62,Prijave!$J$2:$N$22,2,FALSE) -> Videnšek, Tone
B64: AEROKLUB | D64: =VLOOKUP(I62,Prijave!$J$2:$N$22,5,FALSE) -> MK Zaprešić | H64: Država | I64: =VLOOKUP(I62,Prijave!$J$2:$N$22,4,FALSE) -> CRO | K64: AEROKLUB | M64: =VLOOKUP(R62,Prijave!$J$2:$N$22,5,FALSE) -> DMP-Murska Sobota | Q64: Država | R64: =VLOOKUP(R62,Prijave!$J$2:$N$22,4,FALSE) -> SLO
B66: LET | C66: Grupa | D66: Minute | E66: Sekunde | F66: Stotinke | H66: SLIJETANJE | I66: OK | K66: LET | L66: Grupa | M66: Minute | N66: Sekunde | O66: Stotinke | Q66: SLIJETANJE | R66: OK
B67: 1 | I67: ⃝ | K67: 1 | R67: ⃝
B68: 2 | I68: ⃝ | K68: 2 | R68: ⃝
B69: 3 | I69: ⃝ | K69: 3 | R69: ⃝
B70: 4 | I70: ⃝ | K70: 4 | R70: ⃝
B71: 5 | I71: ⃝ | K71: 5 | R71: ⃝
B72: 6 | I72: ⃝ | K72: 6 | R72: ⃝
B73: 7 | I73: ⃝ | K73: 7 | R73: ⃝
B74: 8 | I74: ⃝ | K74: 8 | R74: ⃝
B75: Napomene: | K75: Napomene:
B79: =$B$20 -> Zaprešić, 10.5.2015. | K79: =$B$20 -> Zaprešić, 10.5.2015.
B80: =$B$2 -> 7. Zaprešićki elektro kup F5J-400 | K80: =$B$2 -> 7. Zaprešićki elektro kup F5J-400
H81: St.Broj: | I81: 9 | Q81: St.Broj: | R81: 10
B82: NATJECATELJ | D82: =VLOOKUP(I81,Prijave!$J$2:$N$22,2,FALSE) -> Mihajlović, Saša | K82: NATJECATELJ | M82: =VLOOKUP(R81,Prijave!$J$2:$N$22,2,FALSE) -> Podbregar, Matjaž
B83: AEROKLUB | D83: =VLOOKUP(I81,Prijave!$J$2:$N$22,5,FALSE) -> MK Zaprešić | H83: Država | I83: =VLOOKUP(I81,Prijave!$J$2:$N$22,4,FALSE) -> CRO | K83: AEROKLUB | M83: =VLOOKUP(R81,Prijave!$J$2:$N$22,5,FALSE) -> AK Milan B.Litija | Q83: Država | R83: =VLOOKUP(R81,Prijave!$J$2:$N$22,4,FALSE) -> SLO
B85: LET | C85: Grupa | D85: Minute | E85: Sekunde | F85: Stotinke | H85: SLIJETANJE | I85: OK | K85: LET | L85: Grupa | M85: Minute | N85: Sekunde | O85: Stotinke | Q85: SLIJETANJE | R85: OK
B86: 1 | I86: ⃝ | K86: 1 | R86: ⃝
B87: 2 | I87: ⃝ | K87: 2 | R87: ⃝
B88: 3 | I88: ⃝ | K88: 3 | R88: ⃝
B89: 4 | I89: ⃝ | K89: 4 | R89: ⃝
B90: 5 | I90: ⃝ | K90: 5 | R90: ⃝
B91: 6 | I91: ⃝ | K91: 6 | R91: ⃝
B92: 7 | I92: ⃝ | K92: 7 | R92: ⃝
B93: 8 | I93: ⃝ | K93: 8 | R93: ⃝
B94: Napomene: | K94: Napomene:
B98: =$B$20 -> Zaprešić, 10.5.2015. | K98: =$B$20 -> Zaprešić, 10.5.2015.
B100: =$B$2 -> 7. Zaprešićki elektro kup F5J-400 | K100: =$B$2 -> 7. Zaprešićki elektro kup F5J-400
H101: St.Broj: | I101: 11 | Q101: St.Broj: | R101: 12
B102: NATJECATELJ | D102: =VLOOKUP(I101,Prijave!$J$2:$N$22,2,FALSE) -> Lovše, Mirko | K102: NATJECATELJ
B103: AEROKLUB | D103: =VLOOKUP(I101,Prijave!$J$2:$N$22,5,FALSE) -> AK. Milan B. Litija | H103: Država | I103: =VLOOKUP(I101,Prijave!$J$2:$N$22,4,FALSE) -> SLO | K103: AEROKLUB | Q103: Država
B105: LET | C105: Grupa | D105: Minute | E105: Sekunde | F105: Stotinke | H105: SLIJETANJE | I105: OK | K105: LET | L105: Grupa | M105: Minute | N105: Sekunde | O105: Stotinke | Q105: SLIJETANJE | R105: OK
B106: 1 | I106: ⃝ | K106: 1 | R106: ⃝
B107: 2 | I107: ⃝ | K107: 2 | R107: ⃝
B108: 3 | I108: ⃝ | K108: 3 | R108: ⃝
B109: 4 | I109: ⃝ | K109: 4 | R109: ⃝
B110: 5 | I110: ⃝ | K110: 5 | R110: ⃝
B111: 6 | I111: ⃝ | K111: 6 | R111: ⃝
B112: 7 | I112: ⃝ | K112: 7 | R112: ⃝
B113: 8 | I113: ⃝ | K113: 8 | R113: ⃝
B114: Napomene: | K114: Napomene:
B118: =$B$20 -> Zaprešić, 10.5.2015. | K118: =$B$20 -> Zaprešić, 10.5.2015.
B119: =$B$2 -> 7. Zaprešićki elektro kup F5J-400 | K119: =$B$2 -> 7. Zaprešićki elektro kup F5J-400
H120: St.Broj: | I120: 13 | Q120: St.Broj: | R120: 14
B121: NATJECATELJ | D121: =VLOOKUP(I120,Prijave!$J$2:$N$22,2,FALSE) -> #N/A | K121: NATJECATELJ | M121: =VLOOKUP(R120,Prijave!$J$2:$N$22,2,FALSE) -> #N/A
B122: AEROKLUB | D122: =VLOOKUP(I120,Prijave!$J$2:$N$22,5,FALSE) -> #N/A | H122: Država | I122: =VLOOKUP(I120,Prijave!$J$2:$N$22,4,FALSE) -> #N/A | K122: AEROKLUB | M122: =VLOOKUP(R120,Prijave!$J$2:$N$22,5,FALSE) -> #N/A | Q122: Država | R122: =VLOOKUP(R120,Prijave!$J$2:$N$22,4,FALSE) -> #N/A
B124: LET | C124: Grupa | D124: Minute | E124: Sekunde | F124: Stotinke | H124: SLIJETANJE | I124: OK | K124: LET | L124: Grupa | M124: Minute | N124: Sekunde | O124: Stotinke | Q124: SLIJETANJE | R124: OK
B125: 1 | I125: ⃝ | K125: 1 | R125: ⃝
B126: 2 | I126: ⃝ | K126: 2 | R126: ⃝
B127: 3 | I127: ⃝ | K127: 3 | R127: ⃝
B128: 4 | I128: ⃝ | K128: 4 | R128: ⃝
B129: 5 | I129: ⃝ | K129: 5 | R129: ⃝
...

Sheet Matrica
B1: Turnus 1 | E1: Turnus 2 | H1: Turnus 3 | K1: Turnus 4 | N1: Turnus 5 | Q1: Turnus 6 | T1: Turnus 7 | W1: Turnus 8
B2: G1 | C2: G2 | D2: G3 | E2: G1 | F2: G2 | G2: G3 | H2: G1 | I2: G2 | J2: G3 | K2: G1 | L2: G2 | M2: G3 | N2: G1 | O2: G2 | P2: G3 | Q2: G1 | R2: G2 | S2: G3 | T2: G1 | U2: G2 | V2: G3 | W2: G1 | X2: G2 | Y2: G3
A3: 1 | B3: 1 | C3: 2 | E3: 1 | F3: 2 | H3: 1 | I3: 2 | K3: 1 | L3: 2 | N3: 1 | O3: 2 | Q3: 1 | R3: 2 | T3: 1 | U3: 2 | W3: 1 | X3: 2
A4: 2 | B4: 3 | C4: 4 | E4: 3 | F4: 4 | H4: 3 | I4: 4 | K4: 3 | L4: 4 | N4: 4 | O4: 3 | Q4: 4 | R4: 3 | T4: 4 | U4: 3 | W4: 4 | X4: 3
A5: 3 | B5: 5 | C5: 9 | E5: 6 | F5: 5 | H5: 5 | I5: 6 | K5: 5 | L5: 7 | N5: 6 | O5: 5 | Q5: 6 | R5: 5 | T5: 5 | U5: 7 | W5: 5 | X5: 9
A6: 4 | B6: 6 | C6: 10 | E6: 8 | F6: 7 | H6: 7 | I6: 8 | K6: 6 | L6: 8 | N6: 8 | O6: 7 | Q6: 8 | R6: 7 | T6: 6 | U6: 8 | W6: 6 | X6: 10
A7: 5 | B7: 7 | C7: 11 | E7: 10 | F7: 9 | H7: 9 | I7: 10 | K7: 9 | L7: 11 | N7: 9 | O7: 10 | Q7: 9 | R7: 10 | T7: 9 | U7: 11 | W7: 7 | X7: 11
A8: 6 | B8: 8 | F8: 11 | H8: 11 | K8: 10 | N8: 11 | Q8: 11 | T8: 10 | W8: 8
A9: 7
A10: 8
B12: =SUM(B3:B11) -> 30 | C12: =SUM(C3:C11) -> 36 | D12: =SUM(D3:D11) -> 0 | E12: =SUM(E3:E11) -> 28 | F12: =SUM(F3:F11) -> 38 | G12: =SUM(G3:G11) -> 0 | H12: =SUM(H3:H11) -> 36 | I12: =SUM(I3:I11) -> 30 | ... Y12: =SUM(Y3:Y11) -> 0
D13: =SUM(B12:D12) -> 66 | G13: =SUM(E12:G12) -> 66 | J13: =SUM(H12:J12) -> 66 | M13: =SUM(K12:M12) -> 66 | P13: =SUM(N12:P12) -> 66 | S13: =SUM(Q12:S12) -> 66 | V13: =SUM(T12:V12) -> 66 | Y13: =SUM(W12:Y12) -> 66
B17: 1 | C17: 2 | D17: 3 | E17: 4 | F17: 5 | G17: 6 | H17: 7 | I17: 8 | J17: 9 | K17: 10 | L17: 11 | M17: 12 | N17: 13 | O17: 14 | P17: 15 | Q17: 16 | R17: 17 | S17: 18 | T17: 19 | W17: Parovi | X17: Boja | AA17: Parovi | AB17: Zbroj
A18: 1 | B18: =COUNTIFS($B$3:$B$10,$A18)*COUNTIFS($B$3:$B$10,B$17) + COUNTIFS($C$3:$C$10,$A18)*COUNTIFS($C$3:$C$10,B$17) + COUNTIFS($D$3:$D$10,$A18)*COUNTIFS($D$3:$D$10,B$17) + COUNTIFS($E$3:$E$10,$A18)*COUNTIFS($E$3:$E$10,B$17) + COUNTIFS($F$3:$F$10,$A18)*COUNTIFS($F$3:$F$10,B$17) + COUNTIFS($G$3:$G$10,$A18)*COUNTIFS($G$3:$G$10,B$17) + COUNTIFS($H$3:$H$10,$A18)*COUNTIFS($H$3:$H$10,B$17) + COUNTIFS($I$3:$I$10,$A18)*COUNTIFS($I$3:$I$10,B$17) + COUNTIFS($J$3:$J$10,$A18)*COUNTIFS($J$3:$J$10,B$17) + COUNTIFS($K$3:$K$10,$A18)*COUNTIFS($K$3:$K$10,B$17) + COUNTIFS($L$3:$L$10,$A18)*COUNTIFS($L$3:$L$10,B$17) + COUNTIFS($M$3:$M$10,$A18)*COUNTIFS($M$3:$M$10,B$17) + COUNTIFS($N$3:$N$10,$A18)*COUNTIFS($N$3:$N$10,B$17) + COUNTIFS($O$3:$O$10,$A18)*COUNTIFS($O$3:$O$10,B$17) + COUNTIFS($P$3:$P$10,$A18)*COUNTIFS($P$3:$P$10,B$17) + COUNTIFS($Q$3:$Q$10,$A18)*COUNTIFS($Q$3:$Q$10,B$17) + COUNTIFS($R$3:$R$10,$A18)*COUNTIFS($R$3:$R$10,B$17) + COUNTIFS($S$3:$S$10,$A18)*COUNTIFS($S$3:$S$10,B$17) + COUNTIFS($T$3:$T$10,$A18)*COUNTIFS($T$3:$T$10,B$17) + COUNTIFS($U$3:$U$10,$A18)*COUNTIFS($U$3:$U$10,B$17) + COUNTIFS($V$3:$V$10,$A18)*COUNTIFS($V$3:$V$10,B$17) + COUNTIFS($W$3:$W$10,$A18)*COUNTIFS($W$3:$W$10,B$17) + COUNTIFS($X$3:$X$10,$A18)*COUNTIFS($X$3:$X$10,B$17) + COUNTIFS($Y$3:$Y$10,$A18)*COUNTIFS($Y$3:$Y$10,B$17) -> 8 | C18: =COUNTIFS($B$3:$B$10,$A18)*COUNTIFS($B$3:$B$10,C$17) + COUNTIFS($C$3:$C$10,$A18)*COUNTIFS($C$3:$C$10,C$17) + COUNTIFS($D$3:$D$10,$A18)*COUNTIFS($D$3:$D$10,C$17) + COUNTIFS($E$3:$E$10,$A18)*COUNTIFS($E$3:$E$10,C$17) + COUNTIFS($F$3:$F$10,$A18)*COUNTIFS($F$3:$F$10,C$17) + COUNTIFS($G$3:$G$10,$A18)*COUNTIFS($G$3:$G$10,C$17) + COUNTIFS($H$3:$H$10,$A18)*COUNTIFS($H$3:$H$10,C$17) + COUNTIFS($I$3:$I$10,$A18)*COUNTIFS($I$3:$I$10,C$17) + COUNTIFS($J$3:$J$10,$A18)*COUNTIFS($J$3:$J$10,C$17) + COUNTIFS($K$3:$K$10,$A18)*COUNTIFS($K$3:$K$10,C$17) + COUNTIFS($L$3:$L$10,$A18)*COUNTIFS($L$3:$L$10,C$17) + COUNTIFS($M$3:$M$10,$A18)*COUNTIFS($M$3:$M$10,C$17) + COUNTIFS($N$3:$N$10,$A18)*COUNTIFS($N$3:$N$10,C$17) + COUNTIFS($O$3:$O$10,$A18)*COUNTIFS($O$3:$O$10,C$17) + COUNTIFS($P$3:$P$10,$A18)*COUNTIFS($P$3:$P$10,C$17) + COUNTIFS($Q$3:$Q$10,$A18)*COUNTIFS($Q$3:$Q$10,C$17) + COUNTIFS($R$3:$R$10,$A18)*COUNTIFS($R$3:$R$10,C$17) + COUNTIFS($S$3:$S$10,$A18)*COUNTIFS($S$3:$S$10,C$17) + COUNTIFS($T$3:$T$10,$A18)*COUNTIFS($T$3:$T$10,C$17) + COUNTIFS($U$3:$U$10,$A18)*COUNTIFS($U$3:$U$10,C$17) + COUNTIFS($V$3:$V$10,$A18)*COUNTIFS($V$3:$V$10,C$17) + COUNTIFS($W$3:$W$10,$A18)*COUNTIFS($W$3:$W$10,C$17) + COUNTIFS($X$3:$X$10,$A18)*COUNTIFS($X$3:$X$10,C$17) + COUNTIFS($Y$3:$Y$10,$A18)*COUNTIFS($Y$3:$Y$10,C$17) -> 0 | D18: =COUNTIFS($B$3:$B$10,$A18)*COUNTIFS($B$3:$B$10,D$17) + COUNTIFS($C$3:$C$10,$A18)*COUNTIFS($C$3:$C$10,D$17) + COUNTIFS($D$3:$D$10,$A18)*COUNTIFS($D$3:$D$10,D$17) + COUNTIFS($E$3:$E$10,$A18)*COUNTIFS($E$3:$E$10,D$17) + COUNTIFS($F$3:$F$10,$A18)*COUNTIFS($F$3:$F$10,D$17) + COUNTIFS($G$3:$G$10,$A18)*COUNTIFS($G$3:$G$10,D$17) + COUNTIFS($H$3:$H$10,$A18)*COUNTIFS($H$3:$H$10,D$17) + COUNTIFS($I$3:$I$10,$A18)*COUNTIFS($I$3:$I$10,D$17) + COUNTIFS($J$3:$J$10,$A18)*COUNTIFS($J$3:$J$10,D$17) + COUNTIFS($K$3:$K$10,$A18)*COUNTIFS($K$3:$K$10,D$17) + COUNTIFS($L$3:$L$10,$A18)*COUNTIFS($L$3:$L$10,D$17) + COUNTIFS($M$3:$M$10,$A18)*COUNTIFS($M$3:$M$10,D$17) + COUNTIFS($N$3:$N$10,$A18)*COUNTIFS($N$3:$N$10,D$17) + COUNTIFS($O$3:$O$10,$A18)*COUNTIFS($O$3:$O$10,D$17) + COUNTIFS($P$3:$P$10,$A18)*COUNTIFS($P$3:$P$10,D$17) + COUNTIFS($Q$3:$Q$10,$A18)*COUNTIFS($Q$3:$Q$10,D$17) + COUNTIFS($R$3:$R$10,$A18)*COUNTIFS($R$3:$R$10,D$17) + COUNTIFS($S$3:$S$10,$A18)*COUNTIFS($S$3:$S$10,D$17) + COUNTIFS($T$3:$T$10,$A18)*COUNTIFS($T$3:$T$10,D$17) + COUNTIFS($U$3:$U$10,$A18)*COUNTIFS($U$3:$U$10,D$17) + COUNTIFS($V$3:$V$10,$A18)*COUNTIFS($V$3:$V$10,D$17) + COUNTIFS($W$3:$W$10,$A18)*COUNTIFS($W$3:$W$10,D$17) + COUNTIFS($X$3:$X$10,$A18)*COUNTIFS($X$3:$X$10,D$17) + COUNTIFS($Y$3:$Y$10,$A18)*COUNTIFS($Y$3:$Y$10,D$17) -> 4 | E18: =COUNTIFS($B$3:$B$10,$A18)*COUNTIFS($B$3:$B$10,E$17) + COUNTIFS($C$3:$C$10,$A18)*COUNTIFS($C$3:$C$10,E$17) + COUNTIFS($D$3:$D$10,$A18)*COUNTIFS($D$3:$D$10,E$17) + COUNTIFS($E$3:$E$10,$A18)*COUNTIFS($E$3:$E$10,E$17) + COUNTIFS($F$3:$F$10,$A18)*COUNTIFS($F$3:$F$10,E$17) + COUNTIFS($G$3:$G$10,$A18)*COUNTIFS($G$3:$G$10,E$17) + COUNTIFS($H$3:$H$10,$A18)*COUNTIFS($H$3:$H$10,E$17) + COUNTIFS($I$3:$I$10,$A18)*COUNTIFS($I$3:$I$10,E$17) + COUNTIFS($J$3:$J$10,$A18)*COUNTIFS($J$3:$J$10,E$17) + COUNTIFS($K$3:$K$10,$A18)*COUNTIFS($K$3:$K$10,E$17) + COUNTIFS($L$3:$L$10,$A18)*COUNTIFS($L$3:$L$10,E$17) + COUNTIFS($M$3:$M$10,$A18)*COUNTIFS($M$3:$M$10,E$17) + COUNTIFS($N$3:$N$10,$A18)*COUNTIFS($N$3:$N$10,E$17) + COUNTIFS($O$3:$O$10,$A18)*COUNTIFS($O$3:$O$10,E$17) + COUNTIFS($P$3:$P$10,$A18)*COUNTIFS($P$3:$P$10,E$17) + COUNTIFS($Q$3:$Q$10,$A18)*COUNTIFS($Q$3:$Q$10,E$17) + COUNTIFS($R$3:$R$10,$A18)*COUNTIFS($R$3:$R$10,E$17) + COUNTIFS($S$3:$S$10,$A18)*COUNTIFS($S$3:$S$10,E$17) + COUNTIFS($T$3:$T$10,$A18)*COUNTIFS($T$3:$T$10,E$17) + COUNTIFS($U$3:$U$10,$A18)*COUNTIFS($U$3:$U$10,E$17) + COUNTIFS($V$3:$V$10,$A18)*COUNTIFS($V$3:$V$10,E$17) + COUNTIFS($W$3:$W$10,$A18)*COUNTIFS($W$3:$W$10,E$17) + COUNTIFS($X$3:$X$10,$A18)*COUNTIFS($X$3:$X$10,E$17) + COUNTIFS($Y$3:$Y$10,$A18)*COUNTIFS($Y$3:$Y$10,E$17) -> 4 | F18: =COUNTIFS($B$3:$B$10,$A18)*COUNTIFS($B$3:$B$10,F$17) + COUNTIFS($C$3:$C$10,$A18)*COUNTIFS($C$3:$C$10,F$17) + COUNTIFS($D$3:$D$10,$A18)*COUNTIFS($D$3:$D$10,F$17) + COUNTIFS($E$3:$E$10,$A18)*COUNTIFS($E$3:$E$10,F$17) + COUNTIFS($F$3:$F$10,$A18)*COUNTIFS($F$3:$F$10,F$17) + COUNTIFS($G$3:$G$10,$A18)*COUNTIFS($G$3:$G$10,F$17) + COUNTIFS($H$3:$H$10,$A18)*COUNTIFS($H$3:$H$10,F$17) + COUNTIFS($I$3:$I$10,$A18)*COUNTIFS($I$3:$I$10,F$17) + COUNTIFS($J$3:$J$10,$A18)*COUNTIFS($J$3:$J$10,F$17) + COUNTIFS($K$3:$K$10,$A18)*COUNTIFS($K$3:$K$10,F$17) + COUNTIFS($L$3:$L$10,$A18)*COUNTIFS($L$3:$L$10,F$17) + COUNTIFS($M$3:$M$10,$A18)*COUNTIFS($M$3:$M$10,F$17) + COUNTIFS($N$3:$N$10,$A18)*COUNTIFS($N$3:$N$10,F$17) + COUNTIFS($O$3:$O$10,$A18)*COUNTIFS($O$3:$O$10,F$17) + COUNTIFS($P$3:$P$10,$A18)*COUNTIFS($P$3:$P$10,F$17) + COUNTIFS($Q$3:$Q$10,$A18)*COUNTIFS($Q$3:$Q$10,F$17) + COUNTIFS($R$3:$R$10,$A18)*COUNTIFS($R$3:$R$10,F$17) + COUNTIFS($S$3:$S$10,$A18)*COUNTIFS($S$3:$S$10,F$17) + COUNTIFS($T$3:$T$10,$A18)*COUNTIFS($T$3:$T$10,F$17) + COUNTIFS($U$3:$U$10,$A18)*COUNTIFS($U$3:$U$10,F$17) + COUNTIFS($V$3:$V$10,$A18)*COUNTIFS($V$3:$V$10,F$17) + COUNTIFS($W$3:$W$10,$A18)*COUNTIFS($W$3:$W$10,F$17) + COUNTIFS($X$3:$X$10,$A18)*COUNTIFS($X$3:$X$10,F$17) + COUNTIFS($Y$3:$Y$10,$A18)*COUNTIFS($Y$3:$Y$10,F$17) -> 5 | G18: =COUNTIFS($B$3:$B$10,$A18)*COUNTIFS($B$3:$B$10,G$17) + COUNTIFS($C$3:$C$10,$A18)*COUNTIFS($C$3:$C$10,G$17) + COUNTIFS($D$3:$D$10,$A18)*COUNTIFS($D$3:$D$10,G$17) + COUNTIFS($E$3:$E$10,$A18)*COUNTIFS($E$3:$E$10,G$17) + COUNTIFS($F$3:$F$10,$A18)*COUNTIFS($F$3:$F$10,G$17) + COUNTIFS($G$3:$G$10,$A18)*COUNTIFS($G$3:$G$10,G$17) + COUNTIFS($H$3:$H$10,$A18)*COUNTIFS($H$3:$H$10,G$17) + COUNTIFS($I$3:$I$10,$A18)*COUNTIFS($I$3:$I$10,G$17) + COUNTIFS($J$3:$J$10,$A18)*COUNTIFS($J$3:$J$10,G$17) + COUNTIFS($K$3:$K$10,$A18)*COUNTIFS($K$3:$K$10,G$17) + COUNTIFS($L$3:$L$10,$A18)*COUNTIFS($L$3:$L$10,G$17) + COUNTIFS($M$3:$M$10,$A18)*COUNTIFS($M$3:$M$10,G$17) + COUNTIFS($N$3:$N$10,$A18)*COUNTIFS($N$3:$N$10,G$17) + COUNTIFS($O$3:$O$10,$A18)*COUNTIFS($O$3:$O$10,G$17) + COUNTIFS($P$3:$P$10,$A18)*COUNTIFS($P$3:$P$10,G$17) + COUNTIFS($Q$3:$Q$10,$A18)*COUNTIFS($Q$3:$Q$10,G$17) + COUNTIFS($R$3:$R$10,$A18)*COUNTIFS($R$3:$R$10,G$17) + COUNTIFS($S$3:$S$10,$A18)*COUNTIFS($S$3:$S$10,G$17) + COUNTIFS($T$3:$T$10,$A18)*COUNTIFS($T$3:$T$10,G$17) + COUNTIFS($U$3:$U$10,$A18)*COUNTIFS($U$3:$U$10,G$17) + COUNTIFS($V$3:$V$10,$A18)*COUNTIFS($V$3:$V$10,G$17) + COUNTIFS($W$3:$W$10,$A18)*COUNTIFS($W$3:$W$10,G$17) + COUNTIFS($X$3:$X$10,$A18)*COUNTIFS($X$3:$X$10,G$17) + COUNTIFS($Y$3:$Y$10,$A18)*COUNTIFS($Y$3:$Y$10,G$17) -> 7 | H18: =COUNTIFS($B$3:$B$10,$A18)*COUNTIFS($B$3:$B$10,H$17) + COUNTIFS($C$3:$C$10,$A18)*COUNTIFS($C$3:$C$10,H$17) + COUNTIFS($D$3:$D$10,$A18)*COUNTIFS($D$3:$D$10,H$17) + COUNTIFS($E$3:$E$10,$A18)*COUNTIFS($E$3:$E$10,H$17) + COUNTIFS($F$3:$F$10,$A18)*COUNTIFS($F$3:$F$10,H$17) + COUNTIFS($G$3:$G$10,$A18)*COUNTIFS($G$3:$G$10,H$17) + COUNTIFS($H$3:$H$10,$A18)*COUNTIFS($H$3:$H$10,H$17) + COUNTIFS($I$3:$I$10,$A18)*COUNTIFS($I$3:$I$10,H$17) + COUNTIFS($J$3:$J$10,$A18)*COUNTIFS($J$3:$J$10,H$17) + COUNTIFS($K$3:$K$10,$A18)*COUNTIFS($K$3:$K$10,H$17) + COUNTIFS($L$3:$L$10,$A18)*COUNTIFS($L$3:$L$10,H$17) + COUNTIFS($M$3:$M$10,$A18)*COUNTIFS($M$3:$M$10,H$17) + COUNTIFS($N$3:$N$10,$A18)*COUNTIFS($N$3:$N$10,H$17) + COUNTIFS($O$3:$O$10,$A18)*COUNTIFS($O$3:$O$10,H$17) + COUNTIFS($P$3:$P$10,$A18)*COUNTIFS($P$3:$P$10,H$17) + COUNTIFS($Q$3:$Q$10,$A18)*COUNTIFS($Q$3:$Q$10,H$17) + COUNTIFS($R$3:$R$10,$A18)*COUNTIFS($R$3:$R$10,H$17) + COUNTIFS($S$3:$S$10,$A18)*COUNTIFS($S$3:$S$10,H$17) + COUNTIFS($T$3:$T$10,$A18)*COUNTIFS($T$3:$T$10,H$17) + COUNTIFS($U$3:$U$10,$A18)*COUNTIFS($U$3:$U$10,H$17) + COUNTIFS($V$3:$V$10,$A18)*COUNTIFS($V$3:$V$10,H$17) + COUNTIFS($W$3:$W$10,$A18)*COUNTIFS($W$3:$W$10,H$17) + COUNTIFS($X$3:$X$10,$A18)*COUNTIFS($X$3:$X$10,H$17) + COUNTIFS($Y$3:$Y$10,$A18)*COUNTIFS($Y$3:$Y$10,H$17) -> 3 | I18: =COUNTIFS($B$3:$B$10,$A18)*COUNTIFS($B$3:$B$10,I$17) + COUNTIFS($C$3:$C$10,$A18)*COUNTIFS($C$3:$C$10,I$17) + COUNTIFS($D$3:$D$10,$A18)*COUNTIFS($D$3:$D$10,I$17) + COUNTIFS($E$3:$E$10,$A18)*COUNTIFS($E$3:$E$10,I$17) + COUNTIFS($F$3:$F$10,$A18)*COUNTIFS($F$3:$F$10,I$17) + COUNTIFS($G$3:$G$10,$A18)*COUNTIFS($G$3:$G$10,I$17) + COUNTIFS($H$3:$H$10,$A18)*COUNTIFS($H$3:$H$10,I$17) + COUNTIFS($I$3:$I$10,$A18)*COUNTIFS($I$3:$I$10,I$17) + COUNTIFS($J$3:$J$10,$A18)*COUNTIFS($J$3:$J$10,I$17) + COUNTIFS($K$3:$K$10,$A18)*COUNTIFS($K$3:$K$10,I$17) + COUNTIFS($L$3:$L$10,$A18)*COUNTIFS($L$3:$L$10,I$17) + COUNTIFS($M$3:$M$10,$A18)*COUNTIFS($M$3:$M$10,I$17) + COUNTIFS($N$3:$N$10,$A18)*COUNTIFS($N$3:$N$10,I$17) + COUNTIFS($O$3:$O$10,$A18)*COUNTIFS($O$3:$O$10,I$17) + COUNTIFS($P$3:$P$10,$A18)*COUNTIFS($P$3:$P$10,I$17) + COUNTIFS($Q$3:$Q$10,$A18)*COUNTIFS($Q$3:$Q$10,I$17) + COUNTIFS($R$3:$R$10,$A18)*COUNTIFS($R$3:$R$10,I$17) + COUNTIFS($S$3:$S$10,$A18)*COUNTIFS($S$3:$S$10,I$17) + COUNTIFS($T$3:$T$10,$A18)*COUNTIFS($T$3:$T$10,I$17) + COUNTIFS($U$3:$U$10,$A18)*COUNTIFS($U$3:$U$10,I$17) + COUNTIFS($V$3:$V$10,$A18)*COUNTIFS($V$3:$V$10,I$17) + COUNTIFS($W$3:$W$10,$A18)*COUNTIFS($W$3:$W$10,I$17) + COUNTIFS($X$3:$X$10,$A18)*COUNTIFS($X$3:$X$10,I$17) + COUNTIFS($Y$3:$Y$10,$A18)*COUNTIFS($Y$3:$Y$10,I$17) -> 5 | ... T18: =COUNTIFS($B$3:$B$10,$A18)*COUNTIFS($B$3:$B$10,T$17) + COUNTIFS($C$3:$C$10,$A18)*COUNTIFS($C$3:$C$10,T$17) + COUNTIFS($D$3:$D$10,$A18)*COUNTIFS($D$3:$D$10,T$17) + COUNTIFS($E$3:$E$10,$A18)*COUNTIFS($E$3:$E$10,T$17) + COUNTIFS($F$3:$F$10,$A18)*COUNTIFS($F$3:$F$10,T$17) + COUNTIFS($G$3:$G$10,$A18)*COUNTIFS($G$3:$G$10,T$17) + COUNTIFS($H$3:$H$10,$A18)*COUNTIFS($H$3:$H$10,T$17) + COUNTIFS($I$3:$I$10,$A18)*COUNTIFS($I$3:$I$10,T$17) + COUNTIFS($J$3:$J$10,$A18)*COUNTIFS($J$3:$J$10,T$17) + COUNTIFS($K$3:$K$10,$A18)*COUNTIFS($K$3:$K$10,T$17) + COUNTIFS($L$3:$L$10,$A18)*COUNTIFS($L$3:$L$10,T$17) + COUNTIFS($M$3:$M$10,$A18)*COUNTIFS($M$3:$M$10,T$17) + COUNTIFS($N$3:$N$10,$A18)*COUNTIFS($N$3:$N$10,T$17) + COUNTIFS($O$3:$O$10,$A18)*COUNTIFS($O$3:$O$10,T$17) + COUNTIFS($P$3:$P$10,$A18)*COUNTIFS($P$3:$P$10,T$17) + COUNTIFS($Q$3:$Q$10,$A18)*COUNTIFS($Q$3:$Q$10,T$17) + COUNTIFS($R$3:$R$10,$A18)*COUNTIFS($R$3:$R$10,T$17) + COUNTIFS($S$3:$S$10,$A18)*COUNTIFS($S$3:$S$10,T$17) + COUNTIFS($T$3:$T$10,$A18)*COUNTIFS($T$3:$T$10,T$17) + COUNTIFS($U$3:$U$10,$A18)*COUNTIFS($U$3:$U$10,T$17) + COUNTIFS($V$3:$V$10,$A18)*COUNTIFS($V$3:$V$10,T$17) + COUNTIFS($W$3:$W$10,$A18)*COUNTIFS($W$3:$W$10,T$17) + COUNTIFS($X$3:$X$10,$A18)*COUNTIFS($X$3:$X$10,T$17) + COUNTIFS($Y$3:$Y$10,$A18)*COUNTIFS($Y$3:$Y$10,T$17) -> 0 | W18: 8 | AA18: 8 | AB18: 0
A19: 2 | B19: =COUNTIFS($B$3:$B$10,$A19)*COUNTIFS($B$3:$B$10,B$17) + COUNTIFS($C$3:$C$10,$A19)*COUNTIFS($C$3:$C$10,B$17) + COUNTIFS($D$3:$D$10,$A19)*COUNTIFS($D$3:$D$10,B$17) + COUNTIFS($E$3:$E$10,$A19)*COUNTIFS($E$3:$E$10,B$17) + COUNTIFS($F$3:$F$10,$A19)*COUNTIFS($F$3:$F$10,B$17) + COUNTIFS($G$3:$G$10,$A19)*COUNTIFS($G$3:$G$10,B$17) + COUNTIFS($H$3:$H$10,$A19)*COUNTIFS($H$3:$H$10,B$17) + COUNTIFS($I$3:$I$10,$A19)*COUNTIFS($I$3:$I$10,B$17) + COUNTIFS($J$3:$J$10,$A19)*COUNTIFS($J$3:$J$10,B$17) + COUNTIFS($K$3:$K$10,$A19)*COUNTIFS($K$3:$K$10,B$17) + COUNTIFS($L$3:$L$10,$A19)*COUNTIFS($L$3:$L$10,B$17) + COUNTIFS($M$3:$M$10,$A19)*COUNTIFS($M$3:$M$10,B$17) + COUNTIFS($N$3:$N$10,$A19)*COUNTIFS($N$3:$N$10,B$17) + COUNTIFS($O$3:$O$10,$A19)*COUNTIFS($O$3:$O$10,B$17) + COUNTIFS($P$3:$P$10,$A19)*COUNTIFS($P$3:$P$10,B$17) + COUNTIFS($Q$3:$Q$10,$A19)*COUNTIFS($Q$3:$Q$10,B$17) + COUNTIFS($R$3:$R$10,$A19)*COUNTIFS($R$3:$R$10,B$17) + COUNTIFS($S$3:$S$10,$A19)*COUNTIFS($S$3:$S$10,B$17) + COUNTIFS($T$3:$T$10,$A19)*COUNTIFS($T$3:$T$10,B$17) + COUNTIFS($U$3:$U$10,$A19)*COUNTIFS($U$3:$U$10,B$17) + COUNTIFS($V$3:$V$10,$A19)*COUNTIFS($V$3:$V$10,B$17) + COUNTIFS($W$3:$W$10,$A19)*COUNTIFS($W$3:$W$10,B$17) + COUNTIFS($X$3:$X$10,$A19)*COUNTIFS($X$3:$X$10,B$17) + COUNTIFS($Y$3:$Y$10,$A19)*COUNTIFS($Y$3:$Y$10,B$17) -> 0 | C19: =COUNTIFS($B$3:$B$10,$A19)*COUNTIFS($B$3:$B$10,C$17) + COUNTIFS($C$3:$C$10,$A19)*COUNTIFS($C$3:$C$10,C$17) + COUNTIFS($D$3:$D$10,$A19)*COUNTIFS($D$3:$D$10,C$17) + COUNTIFS($E$3:$E$10,$A19)*COUNTIFS($E$3:$E$10,C$17) + COUNTIFS($F$3:$F$10,$A19)*COUNTIFS($F$3:$F$10,C$17) + COUNTIFS($G$3:$G$10,$A19)*COUNTIFS($G$3:$G$10,C$17) + COUNTIFS($H$3:$H$10,$A19)*COUNTIFS($H$3:$H$10,C$17) + COUNTIFS($I$3:$I$10,$A19)*COUNTIFS($I$3:$I$10,C$17) + COUNTIFS($J$3:$J$10,$A19)*COUNTIFS($J$3:$J$10,C$17) + COUNTIFS($K$3:$K$10,$A19)*COUNTIFS($K$3:$K$10,C$17) + COUNTIFS($L$3:$L$10,$A19)*COUNTIFS($L$3:$L$10,C$17) + COUNTIFS($M$3:$M$10,$A19)*COUNTIFS($M$3:$M$10,C$17) + COUNTIFS($N$3:$N$10,$A19)*COUNTIFS($N$3:$N$10,C$17) + COUNTIFS($O$3:$O$10,$A19)*COUNTIFS($O$3:$O$10,C$17) + COUNTIFS($P$3:$P$10,$A19)*COUNTIFS($P$3:$P$10,C$17) + COUNTIFS($Q$3:$Q$10,$A19)*COUNTIFS($Q$3:$Q$10,C$17) + COUNTIFS($R$3:$R$10,$A19)*COUNTIFS($R$3:$R$10,C$17) + COUNTIFS($S$3:$S$10,$A19)*COUNTIFS($S$3:$S$10,C$17) + COUNTIFS($T$3:$T$10,$A19)*COUNTIFS($T$3:$T$10,C$17) + COUNTIFS($U$3:$U$10,$A19)*COUNTIFS($U$3:$U$10,C$17) + COUNTIFS($V$3:$V$10,$A19)*COUNTIFS($V$3:$V$10,C$17) + COUNTIFS($W$3:$W$10,$A19)*COUNTIFS($W$3:$W$10,C$17) + COUNTIFS($X$3:$X$10,$A19)*COUNTIFS($X$3:$X$10,C$17) + COUNTIFS($Y$3:$Y$10,$A19)*COUNTIFS($Y$3:$Y$10,C$17) -> 8 | D19: =COUNTIFS($B$3:$B$10,$A19)*COUNTIFS($B$3:$B$10,D$17) + COUNTIFS($C$3:$C$10,$A19)*COUNTIFS($C$3:$C$10,D$17) + COUNTIFS($D$3:$D$10,$A19)*COUNTIFS($D$3:$D$10,D$17) + COUNTIFS($E$3:$E$10,$A19)*COUNTIFS($E$3:$E$10,D$17) + COUNTIFS($F$3:$F$10,$A19)*COUNTIFS($F$3:$F$10,D$17) + COUNTIFS($G$3:$G$10,$A19)*COUNTIFS($G$3:$G$10,D$17) + COUNTIFS($H$3:$H$10,$A19)*COUNTIFS($H$3:$H$10,D$17) + COUNTIFS($I$3:$I$10,$A19)*COUNTIFS($I$3:$I$10,D$17) + COUNTIFS($J$3:$J$10,$A19)*COUNTIFS($J$3:$J$10,D$17) + COUNTIFS($K$3:$K$10,$A19)*COUNTIFS($K$3:$K$10,D$17) + COUNTIFS($L$3:$L$10,$A19)*COUNTIFS($L$3:$L$10,D$17) + COUNTIFS($M$3:$M$10,$A19)*COUNTIFS($M$3:$M$10,D$17) + COUNTIFS($N$3:$N$10,$A19)*COUNTIFS($N$3:$N$10,D$17) + COUNTIFS($O$3:$O$10,$A19)*COUNTIFS($O$3:$O$10,D$17) + COUNTIFS($P$3:$P$10,$A19)*COUNTIFS($P$3:$P$10,D$17) + COUNTIFS($Q$3:$Q$10,$A19)*COUNTIFS($Q$3:$Q$10,D$17) + COUNTIFS($R$3:$R$10,$A19)*COUNTIFS($R$3:$R$10,D$17) + COUNTIFS($S$3:$S$10,$A19)*COUNTIFS($S$3:$S$10,D$17) + COUNTIFS($T$3:$T$10,$A19)*COUNTIFS($T$3:$T$10,D$17) + COUNTIFS($U$3:$U$10,$A19)*COUNTIFS($U$3:$U$10,D$17) + COUNTIFS($V$3:$V$10,$A19)*COUNTIFS($V$3:$V$10,D$17) + COUNTIFS($W$3:$W$10,$A19)*COUNTIFS($W$3:$W$10,D$17) + COUNTIFS($X$3:$X$10,$A19)*COUNTIFS($X$3:$X$10,D$17) + COUNTIFS($Y$3:$Y$10,$A19)*COUNTIFS($Y$3:$Y$10,D$17) -> 4 | E19: =COUNTIFS($B$3:$B$10,$A19)*COUNTIFS($B$3:$B$10,E$17) + COUNTIFS($C$3:$C$10,$A19)*COUNTIFS($C$3:$C$10,E$17) + COUNTIFS($D$3:$D$10,$A19)*COUNTIFS($D$3:$D$10,E$17) + COUNTIFS($E$3:$E$10,$A19)*COUNTIFS($E$3:$E$10,E$17) + COUNTIFS($F$3:$F$10,$A19)*COUNTIFS($F$3:$F$10,E$17) + COUNTIFS($G$3:$G$10,$A19)*COUNTIFS($G$3:$G$10,E$17) + COUNTIFS($H$3:$H$10,$A19)*COUNTIFS($H$3:$H$10,E$17) + COUNTIFS($I$3:$I$10,$A19)*COUNTIFS($I$3:$I$10,E$17) + COUNTIFS($J$3:$J$10,$A19)*COUNTIFS($J$3:$J$10,E$17) + COUNTIFS($K$3:$K$10,$A19)*COUNTIFS($K$3:$K$10,E$17) + COUNTIFS($L$3:$L$10,$A19)*COUNTIFS($L$3:$L$10,E$17) + COUNTIFS($M$3:$M$10,$A19)*COUNTIFS($M$3:$M$10,E$17) + COUNTIFS($N$3:$N$10,$A19)*COUNTIFS($N$3:$N$10,E$17) + COUNTIFS($O$3:$O$10,$A19)*COUNTIFS($O$3:$O$10,E$17) + COUNTIFS($P$3:$P$10,$A19)*COUNTIFS($P$3:$P$10,E$17) + COUNTIFS($Q$3:$Q$10,$A19)*COUNTIFS($Q$3:$Q$10,E$17) + COUNTIFS($R$3:$R$10,$A19)*COUNTIFS($R$3:$R$10,E$17) + COUNTIFS($S$3:$S$10,$A19)*COUNTIFS($S$3:$S$10,E$17) + COUNTIFS($T$3:$T$10,$A19)*COUNTIFS($T$3:$T$10,E$17) + COUNTIFS($U$3:$U$10,$A19)*COUNTIFS($U$3:$U$10,E$17) + COUNTIFS($V$3:$V$10,$A19)*COUNTIFS($V$3:$V$10,E$17) + COUNTIFS($W$3:$W$10,$A19)*COUNTIFS($W$3:$W$10,E$17) + COUNTIFS($X$3:$X$10,$A19)*COUNTIFS($X$3:$X$10,E$17) + COUNTIFS($Y$3:$Y$10,$A19)*COUNTIFS($Y$3:$Y$10,E$17) -> 4 | F19: =COUNTIFS($B$3:$B$10,$A19)*COUNTIFS($B$3:$B$10,F$17) + COUNTIFS($C$3:$C$10,$A19)*COUNTIFS($C$3:$C$10,F$17) + COUNTIFS($D$3:$D$10,$A19)*COUNTIFS($D$3:$D$10,F$17) + COUNTIFS($E$3:$E$10,$A19)*COUNTIFS($E$3:$E$10,F$17) + COUNTIFS($F$3:$F$10,$A19)*COUNTIFS($F$3:$F$10,F$17) + COUNTIFS($G$3:$G$10,$A19)*COUNTIFS($G$3:$G$10,F$17) + COUNTIFS($H$3:$H$10,$A19)*COUNTIFS($H$3:$H$10,F$17) + COUNTIFS($I$3:$I$10,$A19)*COUNTIFS($I$3:$I$10,F$17) + COUNTIFS($J$3:$J$10,$A19)*COUNTIFS($J$3:$J$10,F$17) + COUNTIFS($K$3:$K$10,$A19)*COUNTIFS($K$3:$K$10,F$17) + COUNTIFS($L$3:$L$10,$A19)*COUNTIFS($L$3:$L$10,F$17) + COUNTIFS($M$3:$M$10,$A19)*COUNTIFS($M$3:$M$10,F$17) + COUNTIFS($N$3:$N$10,$A19)*COUNTIFS($N$3:$N$10,F$17) + COUNTIFS($O$3:$O$10,$A19)*COUNTIFS($O$3:$O$10,F$17) + COUNTIFS($P$3:$P$10,$A19)*COUNTIFS($P$3:$P$10,F$17) + COUNTIFS($Q$3:$Q$10,$A19)*COUNTIFS($Q$3:$Q$10,F$17) + COUNTIFS($R$3:$R$10,$A19)*COUNTIFS($R$3:$R$10,F$17) + COUNTIFS($S$3:$S$10,$A19)*COUNTIFS($S$3:$S$10,F$17) + COUNTIFS($T$3:$T$10,$A19)*COUNTIFS($T$3:$T$10,F$17) + COUNTIFS($U$3:$U$10,$A19)*COUNTIFS($U$3:$U$10,F$17) + COUNTIFS($V$3:$V$10,$A19)*COUNTIFS($V$3:$V$10,F$17) + COUNTIFS($W$3:$W$10,$A19)*COUNTIFS($W$3:$W$10,F$17) + COUNTIFS($X$3:$X$10,$A19)*COUNTIFS($X$3:$X$10,F$17) + COUNTIFS($Y$3:$Y$10,$A19)*COUNTIFS($Y$3:$Y$10,F$17) -> 3 | G19: =COUNTIFS($B$3:$B$10,$A19)*COUNTIFS($B$3:$B$10,G$17) + COUNTIFS($C$3:$C$10,$A19)*COUNTIFS($C$3:$C$10,G$17) + COUNTIFS($D$3:$D$10,$A19)*COUNTIFS($D$3:$D$10,G$17) + COUNTIFS($E$3:$E$10,$A19)*COUNTIFS($E$3:$E$10,G$17) + COUNTIFS($F$3:$F$10,$A19)*COUNTIFS($F$3:$F$10,G$17) + COUNTIFS($G$3:$G$10,$A19)*COUNTIFS($G$3:$G$10,G$17) + COUNTIFS($H$3:$H$10,$A19)*COUNTIFS($H$3:$H$10,G$17) + COUNTIFS($I$3:$I$10,$A19)*COUNTIFS($I$3:$I$10,G$17) + COUNTIFS($J$3:$J$10,$A19)*COUNTIFS($J$3:$J$10,G$17) + COUNTIFS($K$3:$K$10,$A19)*COUNTIFS($K$3:$K$10,G$17) + COUNTIFS($L$3:$L$10,$A19)*COUNTIFS($L$3:$L$10,G$17) + COUNTIFS($M$3:$M$10,$A19)*COUNTIFS($M$3:$M$10,G$17) + COUNTIFS($N$3:$N$10,$A19)*COUNTIFS($N$3:$N$10,G$17) + COUNTIFS($O$3:$O$10,$A19)*COUNTIFS($O$3:$O$10,G$17) + COUNTIFS($P$3:$P$10,$A19)*COUNTIFS($P$3:$P$10,G$17) + COUNTIFS($Q$3:$Q$10,$A19)*COUNTIFS($Q$3:$Q$10,G$17) + COUNTIFS($R$3:$R$10,$A19)*COUNTIFS($R$3:$R$10,G$17) + COUNTIFS($S$3:$S$10,$A19)*COUNTIFS($S$3:$S$10,G$17) + COUNTIFS($T$3:$T$10,$A19)*COUNTIFS($T$3:$T$10,G$17) + COUNTIFS($U$3:$U$10,$A19)*COUNTIFS($U$3:$U$10,G$17) + COUNTIFS($V$3:$V$10,$A19)*COUNTIFS($V$3:$V$10,G$17) + COUNTIFS($W$3:$W$10,$A19)*COUNTIFS($W$3:$W$10,G$17) + COUNTIFS($X$3:$X$10,$A19)*COUNTIFS($X$3:$X$10,G$17) + COUNTIFS($Y$3:$Y$10,$A19)*COUNTIFS($Y$3:$Y$10,G$17) -> 1 | H19: =COUNTIFS($B$3:$B$10,$A19)*COUNTIFS($B$3:$B$10,H$17) + COUNTIFS($C$3:$C$10,$A19)*COUNTIFS($C$3:$C$10,H$17) + COUNTIFS($D$3:$D$10,$A19)*COUNTIFS($D$3:$D$10,H$17) + COUNTIFS($E$3:$E$10,$A19)*COUNTIFS($E$3:$E$10,H$17) + COUNTIFS($F$3:$F$10,$A19)*COUNTIFS($F$3:$F$10,H$17) + COUNTIFS($G$3:$G$10,$A19)*COUNTIFS($G$3:$G$10,H$17) + COUNTIFS($H$3:$H$10,$A19)*COUNTIFS($H$3:$H$10,H$17) + COUNTIFS($I$3:$I$10,$A19)*COUNTIFS($I$3:$I$10,H$17) + COUNTIFS($J$3:$J$10,$A19)*COUNTIFS($J$3:$J$10,H$17) + COUNTIFS($K$3:$K$10,$A19)*COUNTIFS($K$3:$K$10,H$17) + COUNTIFS($L$3:$L$10,$A19)*COUNTIFS($L$3:$L$10,H$17) + COUNTIFS($M$3:$M$10,$A19)*COUNTIFS($M$3:$M$10,H$17) + COUNTIFS($N$3:$N$10,$A19)*COUNTIFS($N$3:$N$10,H$17) + COUNTIFS($O$3:$O$10,$A19)*COUNTIFS($O$3:$O$10,H$17) + COUNTIFS($P$3:$P$10,$A19)*COUNTIFS($P$3:$P$10,H$17) + COUNTIFS($Q$3:$Q$10,$A19)*COUNTIFS($Q$3:$Q$10,H$17) + COUNTIFS($R$3:$R$10,$A19)*COUNTIFS($R$3:$R$10,H$17) + COUNTIFS($S$3:$S$10,$A19)*COUNTIFS($S$3:$S$10,H$17) + COUNTIFS($T$3:$T$10,$A19)*COUNTIFS($T$3:$T$10,H$17) + COUNTIFS($U$3:$U$10,$A19)*COUNTIFS($U$3:$U$10,H$17) + COUNTIFS($V$3:$V$10,$A19)*COUNTIFS($V$3:$V$10,H$17) + COUNTIFS($W$3:$W$10,$A19)*COUNTIFS($W$3:$W$10,H$17) + COUNTIFS($X$3:$X$10,$A19)*COUNTIFS($X$3:$X$10,H$17) + COUNTIFS($Y$3:$Y$10,$A19)*COUNTIFS($Y$3:$Y$10,H$17) -> 5 | I19: =COUNTIFS($B$3:$B$10,$A19)*COUNTIFS($B$3:$B$10,I$17) + COUNTIFS($C$3:$C$10,$A19)*COUNTIFS($C$3:$C$10,I$17) + COUNTIFS($D$3:$D$10,$A19)*COUNTIFS($D$3:$D$10,I$17) + COUNTIFS($E$3:$E$10,$A19)*COUNTIFS($E$3:$E$10,I$17) + COUNTIFS($F$3:$F$10,$A19)*COUNTIFS($F$3:$F$10,I$17) + COUNTIFS($G$3:$G$10,$A19)*COUNTIFS($G$3:$G$10,I$17) + COUNTIFS($H$3:$H$10,$A19)*COUNTIFS($H$3:$H$10,I$17) + COUNTIFS($I$3:$I$10,$A19)*COUNTIFS($I$3:$I$10,I$17) + COUNTIFS($J$3:$J$10,$A19)*COUNTIFS($J$3:$J$10,I$17) + COUNTIFS($K$3:$K$10,$A19)*COUNTIFS($K$3:$K$10,I$17) + COUNTIFS($L$3:$L$10,$A19)*COUNTIFS($L$3:$L$10,I$17) + COUNTIFS($M$3:$M$10,$A19)*COUNTIFS($M$3:$M$10,I$17) + COUNTIFS($N$3:$N$10,$A19)*COUNTIFS($N$3:$N$10,I$17) + COUNTIFS($O$3:$O$10,$A19)*COUNTIFS($O$3:$O$10,I$17) + COUNTIFS($P$3:$P$10,$A19)*COUNTIFS($P$3:$P$10,I$17) + COUNTIFS($Q$3:$Q$10,$A19)*COUNTIFS($Q$3:$Q$10,I$17) + COUNTIFS($R$3:$R$10,$A19)*COUNTIFS($R$3:$R$10,I$17) + COUNTIFS($S$3:$S$10,$A19)*COUNTIFS($S$3:$S$10,I$17) + COUNTIFS($T$3:$T$10,$A19)*COUNTIFS($T$3:$T$10,I$17) + COUNTIFS($U$3:$U$10,$A19)*COUNTIFS($U$3:$U$10,I$17) + COUNTIFS($V$3:$V$10,$A19)*COUNTIFS($V$3:$V$10,I$17) + COUNTIFS($W$3:$W$10,$A19)*COUNTIFS($W$3:$W$10,I$17) + COUNTIFS($X$3:$X$10,$A19)*COUNTIFS($X$3:$X$10,I$17) + COUNTIFS($Y$3:$Y$10,$A19)*COUNTIFS($Y$3:$Y$10,I$17) -> 3 | ... T19: =COUNTIFS($B$3:$B$10,$A19)*COUNTIFS($B$3:$B$10,T$17) + COUNTIFS($C$3:$C$10,$A19)*COUNTIFS($C$3:$C$10,T$17) + COUNTIFS($D$3:$D$10,$A19)*COUNTIFS($D$3:$D$10,T$17) + COUNTIFS($E$3:$E$10,$A19)*COUNTIFS($E$3:$E$10,T$17) + COUNTIFS($F$3:$F$10,$A19)*COUNTIFS($F$3:$F$10,T$17) + COUNTIFS($G$3:$G$10,$A19)*COUNTIFS($G$3:$G$10,T$17) + COUNTIFS($H$3:$H$10,$A19)*COUNTIFS($H$3:$H$10,T$17) + COUNTIFS($I$3:$I$10,$A19)*COUNTIFS($I$3:$I$10,T$17) + COUNTIFS($J$3:$J$10,$A19)*COUNTIFS($J$3:$J$10,T$17) + COUNTIFS($K$3:$K$10,$A19)*COUNTIFS($K$3:$K$10,T$17) + COUNTIFS($L$3:$L$10,$A19)*COUNTIFS($L$3:$L$10,T$17) + COUNTIFS($M$3:$M$10,$A19)*COUNTIFS($M$3:$M$10,T$17) + COUNTIFS($N$3:$N$10,$A19)*COUNTIFS($N$3:$N$10,T$17) + COUNTIFS($O$3:$O$10,$A19)*COUNTIFS($O$3:$O$10,T$17) + COUNTIFS($P$3:$P$10,$A19)*COUNTIFS($P$3:$P$10,T$17) + COUNTIFS($Q$3:$Q$10,$A19)*COUNTIFS($Q$3:$Q$10,T$17) + COUNTIFS($R$3:$R$10,$A19)*COUNTIFS($R$3:$R$10,T$17) + COUNTIFS($S$3:$S$10,$A19)*COUNTIFS($S$3:$S$10,T$17) + COUNTIFS($T$3:$T$10,$A19)*COUNTIFS($T$3:$T$10,T$17) + COUNTIFS($U$3:$U$10,$A19)*COUNTIFS($U$3:$U$10,T$17) + COUNTIFS($V$3:$V$10,$A19)*COUNTIFS($V$3:$V$10,T$17) + COUNTIFS($W$3:$W$10,$A19)*COUNTIFS($W$3:$W$10,T$17) + COUNTIFS($X$3:$X$10,$A19)*COUNTIFS($X$3:$X$10,T$17) + COUNTIFS($Y$3:$Y$10,$A19)*COUNTIFS($Y$3:$Y$10,T$17) -> 0 | W19: 7 | AA19: 7 | AB19: =COUNTIF($B$18:$T$36,AA19)/2 -> 1
A20: 3 | B20: =COUNTIFS($B$3:$B$10,$A20)*COUNTIFS($B$3:$B$10,B$17) + COUNTIFS($C$3:$C$10,$A20)*COUNTIFS($C$3:$C$10,B$17) + COUNTIFS($D$3:$D$10,$A20)*COUNTIFS($D$3:$D$10,B$17) + COUNTIFS($E$3:$E$10,$A20)*COUNTIFS($E$3:$E$10,B$17) + COUNTIFS($F$3:$F$10,$A20)*COUNTIFS($F$3:$F$10,B$17) + COUNTIFS($G$3:$G$10,$A20)*COUNTIFS($G$3:$G$10,B$17) + COUNTIFS($H$3:$H$10,$A20)*COUNTIFS($H$3:$H$10,B$17) + COUNTIFS($I$3:$I$10,$A20)*COUNTIFS($I$3:$I$10,B$17) + COUNTIFS($J$3:$J$10,$A20)*COUNTIFS($J$3:$J$10,B$17) + COUNTIFS($K$3:$K$10,$A20)*COUNTIFS($K$3:$K$10,B$17) + COUNTIFS($L$3:$L$10,$A20)*COUNTIFS($L$3:$L$10,B$17) + COUNTIFS($M$3:$M$10,$A20)*COUNTIFS($M$3:$M$10,B$17) + COUNTIFS($N$3:$N$10,$A20)*COUNTIFS($N$3:$N$10,B$17) + COUNTIFS($O$3:$O$10,$A20)*COUNTIFS($O$3:$O$10,B$17) + COUNTIFS($P$3:$P$10,$A20)*COUNTIFS($P$3:$P$10,B$17) + COUNTIFS($Q$3:$Q$10,$A20)*COUNTIFS($Q$3:$Q$10,B$17) + COUNTIFS($R$3:$R$10,$A20)*COUNTIFS($R$3:$R$10,B$17) + COUNTIFS($S$3:$S$10,$A20)*COUNTIFS($S$3:$S$10,B$17) + COUNTIFS($T$3:$T$10,$A20)*COUNTIFS($T$3:$T$10,B$17) + COUNTIFS($U$3:$U$10,$A20)*COUNTIFS($U$3:$U$10,B$17) + COUNTIFS($V$3:$V$10,$A20)*COUNTIFS($V$3:$V$10,B$17) + COUNTIFS($W$3:$W$10,$A20)*COUNTIFS($W$3:$W$10,B$17) + COUNTIFS($X$3:$X$10,$A20)*COUNTIFS($X$3:$X$10,B$17) + COUNTIFS($Y$3:$Y$10,$A20)*COUNTIFS($Y$3:$Y$10,B$17) -> 4 | C20: =COUNTIFS($B$3:$B$10,$A20)*COUNTIFS($B$3:$B$10,C$17) + COUNTIFS($C$3:$C$10,$A20)*COUNTIFS($C$3:$C$10,C$17) + COUNTIFS($D$3:$D$10,$A20)*COUNTIFS($D$3:$D$10,C$17) + COUNTIFS($E$3:$E$10,$A20)*COUNTIFS($E$3:$E$10,C$17) + COUNTIFS($F$3:$F$10,$A20)*COUNTIFS($F$3:$F$10,C$17) + COUNTIFS($G$3:$G$10,$A20)*COUNTIFS($G$3:$G$10,C$17) + COUNTIFS($H$3:$H$10,$A20)*COUNTIFS($H$3:$H$10,C$17) + COUNTIFS($I$3:$I$10,$A20)*COUNTIFS($I$3:$I$10,C$17) + COUNTIFS($J$3:$J$10,$A20)*COUNTIFS($J$3:$J$10,C$17) + COUNTIFS($K$3:$K$10,$A20)*COUNTIFS($K$3:$K$10,C$17) + COUNTIFS($L$3:$L$10,$A20)*COUNTIFS($L$3:$L$10,C$17) + COUNTIFS($M$3:$M$10,$A20)*COUNTIFS($M$3:$M$10,C$17) + COUNTIFS($N$3:$N$10,$A20)*COUNTIFS($N$3:$N$10,C$17) + COUNTIFS($O$3:$O$10,$A20)*COUNTIFS($O$3:$O$10,C$17) + COUNTIFS($P$3:$P$10,$A20)*COUNTIFS($P$3:$P$10,C$17) + COUNTIFS($Q$3:$Q$10,$A20)*COUNTIFS($Q$3:$Q$10,C$17) + COUNTIFS($R$3:$R$10,$A20)*COUNTIFS($R$3:$R$10,C$17) + COUNTIFS($S$3:$S$10,$A20)*COUNTIFS($S$3:$S$10,C$17) + COUNTIFS($T$3:$T$10,$A20)*COUNTIFS($T$3:$T$10,C$17) + COUNTIFS($U$3:$U$10,$A20)*COUNTIFS($U$3:$U$10,C$17) + COUNTIFS($V$3:$V$10,$A20)*COUNTIFS($V$3:$V$10,C$17) + COUNTIFS($W$3:$W$10,$A20)*COUNTIFS($W$3:$W$10,C$17) + COUNTIFS($X$3:$X$10,$A20)*COUNTIFS($X$3:$X$10,C$17) + COUNTIFS($Y$3:$Y$10,$A20)*COUNTIFS($Y$3:$Y$10,C$17) -> 4 | D20: =COUNTIFS($B$3:$B$10,$A20)*COUNTIFS($B$3:$B$10,D$17) + COUNTIFS($C$3:$C$10,$A20)*COUNTIFS($C$3:$C$10,D$17) + COUNTIFS($D$3:$D$10,$A20)*COUNTIFS($D$3:$D$10,D$17) + COUNTIFS($E$3:$E$10,$A20)*COUNTIFS($E$3:$E$10,D$17) + COUNTIFS($F$3:$F$10,$A20)*COUNTIFS($F$3:$F$10,D$17) + COUNTIFS($G$3:$G$10,$A20)*COUNTIFS($G$3:$G$10,D$17) + COUNTIFS($H$3:$H$10,$A20)*COUNTIFS($H$3:$H$10,D$17) + COUNTIFS($I$3:$I$10,$A20)*COUNTIFS($I$3:$I$10,D$17) + COUNTIFS($J$3:$J$10,$A20)*COUNTIFS($J$3:$J$10,D$17) + COUNTIFS($K$3:$K$10,$A20)*COUNTIFS($K$3:$K$10,D$17) + COUNTIFS($L$3:$L$10,$A20)*COUNTIFS($L$3:$L$10,D$17) + COUNTIFS($M$3:$M$10,$A20)*COUNTIFS($M$3:$M$10,D$17) + COUNTIFS($N$3:$N$10,$A20)*COUNTIFS($N$3:$N$10,D$17) + COUNTIFS($O$3:$O$10,$A20)*COUNTIFS($O$3:$O$10,D$17) + COUNTIFS($P$3:$P$10,$A20)*COUNTIFS($P$3:$P$10,D$17) + COUNTIFS($Q$3:$Q$10,$A20)*COUNTIFS($Q$3:$Q$10,D$17) + COUNTIFS($R$3:$R$10,$A20)*COUNTIFS($R$3:$R$10,D$17) + COUNTIFS($S$3:$S$10,$A20)*COUNTIFS($S$3:$S$10,D$17) + COUNTIFS($T$3:$T$10,$A20)*COUNTIFS($T$3:$T$10,D$17) + COUNTIFS($U$3:$U$10,$A20)*COUNTIFS($U$3:$U$10,D$17) + COUNTIFS($V$3:$V$10,$A20)*COUNTIFS($V$3:$V$10,D$17) + COUNTIFS($W$3:$W$10,$A20)*COUNTIFS($W$3:$W$10,D$17) + COUNTIFS($X$3:$X$10,$A20)*COUNTIFS($X$3:$X$10,D$17) + COUNTIFS($Y$3:$Y$10,$A20)*COUNTIFS($Y$3:$Y$10,D$17) -> 8 | E20: =COUNTIFS($B$3:$B$10,$A20)*COUNTIFS($B$3:$B$10,E$17) + COUNTIFS($C$3:$C$10,$A20)*COUNTIFS($C$3:$C$10,E$17) + COUNTIFS($D$3:$D$10,$A20)*COUNTIFS($D$3:$D$10,E$17) + COUNTIFS($E$3:$E$10,$A20)*COUNTIFS($E$3:$E$10,E$17) + COUNTIFS($F$3:$F$10,$A20)*COUNTIFS($F$3:$F$10,E$17) + COUNTIFS($G$3:$G$10,$A20)*COUNTIFS($G$3:$G$10,E$17) + COUNTIFS($H$3:$H$10,$A20)*COUNTIFS($H$3:$H$10,E$17) + COUNTIFS($I$3:$I$10,$A20)*COUNTIFS($I$3:$I$10,E$17) + COUNTIFS($J$3:$J$10,$A20)*COUNTIFS($J$3:$J$10,E$17) + COUNTIFS($K$3:$K$10,$A20)*COUNTIFS($K$3:$K$10,E$17) + COUNTIFS($L$3:$L$10,$A20)*COUNTIFS($L$3:$L$10,E$17) + COUNTIFS($M$3:$M$10,$A20)*COUNTIFS($M$3:$M$10,E$17) + COUNTIFS($N$3:$N$10,$A20)*COUNTIFS($N$3:$N$10,E$17) + COUNTIFS($O$3:$O$10,$A20)*COUNTIFS($O$3:$O$10,E$17) + COUNTIFS($P$3:$P$10,$A20)*COUNTIFS($P$3:$P$10,E$17) + COUNTIFS($Q$3:$Q$10,$A20)*COUNTIFS($Q$3:$Q$10,E$17) + COUNTIFS($R$3:$R$10,$A20)*COUNTIFS($R$3:$R$10,E$17) + COUNTIFS($S$3:$S$10,$A20)*COUNTIFS($S$3:$S$10,E$17) + COUNTIFS($T$3:$T$10,$A20)*COUNTIFS($T$3:$T$10,E$17) + COUNTIFS($U$3:$U$10,$A20)*COUNTIFS($U$3:$U$10,E$17) + COUNTIFS($V$3:$V$10,$A20)*COUNTIFS($V$3:$V$10,E$17) + COUNTIFS($W$3:$W$10,$A20)*COUNTIFS($W$3:$W$10,E$17) + COUNTIFS($X$3:$X$10,$A20)*COUNTIFS($X$3:$X$10,E$17) + COUNTIFS($Y$3:$Y$10,$A20)*COUNTIFS($Y$3:$Y$10,E$17) -> 0 | F20: =COUNTIFS($B$3:$B$10,$A20)*COUNTIFS($B$3:$B$10,F$17) + COUNTIFS($C$3:$C$10,$A20)*COUNTIFS($C$3:$C$10,F$17) + COUNTIFS($D$3:$D$10,$A20)*COUNTIFS($D$3:$D$10,F$17) + COUNTIFS($E$3:$E$10,$A20)*COUNTIFS($E$3:$E$10,F$17) + COUNTIFS($F$3:$F$10,$A20)*COUNTIFS($F$3:$F$10,F$17) + COUNTIFS($G$3:$G$10,$A20)*COUNTIFS($G$3:$G$10,F$17) + COUNTIFS($H$3:$H$10,$A20)*COUNTIFS($H$3:$H$10,F$17) + COUNTIFS($I$3:$I$10,$A20)*COUNTIFS($I$3:$I$10,F$17) + COUNTIFS($J$3:$J$10,$A20)*COUNTIFS($J$3:$J$10,F$17) + COUNTIFS($K$3:$K$10,$A20)*COUNTIFS($K$3:$K$10,F$17) + COUNTIFS($L$3:$L$10,$A20)*COUNTIFS($L$3:$L$10,F$17) + COUNTIFS($M$3:$M$10,$A20)*COUNTIFS($M$3:$M$10,F$17) + COUNTIFS($N$3:$N$10,$A20)*COUNTIFS($N$3:$N$10,F$17) + COUNTIFS($O$3:$O$10,$A20)*COUNTIFS($O$3:$O$10,F$17) + COUNTIFS($P$3:$P$10,$A20)*COUNTIFS($P$3:$P$10,F$17) + COUNTIFS($Q$3:$Q$10,$A20)*COUNTIFS($Q$3:$Q$10,F$17) + COUNTIFS($R$3:$R$10,$A20)*COUNTIFS($R$3:$R$10,F$17) + COUNTIFS($S$3:$S$10,$A20)*COUNTIFS($S$3:$S$10,F$17) + COUNTIFS($T$3:$T$10,$A20)*COUNTIFS($T$3:$T$10,F$17) + COUNTIFS($U$3:$U$10,$A20)*COUNTIFS($U$3:$U$10,F$17) + COUNTIFS($V$3:$V$10,$A20)*COUNTIFS($V$3:$V$10,F$17) + COUNTIFS($W$3:$W$10,$A20)*COUNTIFS($W$3:$W$10,F$17) + COUNTIFS($X$3:$X$10,$A20)*COUNTIFS($X$3:$X$10,F$17) + COUNTIFS($Y$3:$Y$10,$A20)*COUNTIFS($Y$3:$Y$10,F$17) -> 5 | G20: =COUNTIFS($B$3:$B$10,$A20)*COUNTIFS($B$3:$B$10,G$17) + COUNTIFS($C$3:$C$10,$A20)*COUNTIFS($C$3:$C$10,G$17) + COUNTIFS($D$3:$D$10,$A20)*COUNTIFS($D$3:$D$10,G$17) + COUNTIFS($E$3:$E$10,$A20)*COUNTIFS($E$3:$E$10,G$17) + COUNTIFS($F$3:$F$10,$A20)*COUNTIFS($F$3:$F$10,G$17) + COUNTIFS($G$3:$G$10,$A20)*COUNTIFS($G$3:$G$10,G$17) + COUNTIFS($H$3:$H$10,$A20)*COUNTIFS($H$3:$H$10,G$17) + COUNTIFS($I$3:$I$10,$A20)*COUNTIFS($I$3:$I$10,G$17) + COUNTIFS($J$3:$J$10,$A20)*COUNTIFS($J$3:$J$10,G$17) + COUNTIFS($K$3:$K$10,$A20)*COUNTIFS($K$3:$K$10,G$17) + COUNTIFS($L$3:$L$10,$A20)*COUNTIFS($L$3:$L$10,G$17) + COUNTIFS($M$3:$M$10,$A20)*COUNTIFS($M$3:$M$10,G$17) + COUNTIFS($N$3:$N$10,$A20)*COUNTIFS($N$3:$N$10,G$17) + COUNTIFS($O$3:$O$10,$A20)*COUNTIFS($O$3:$O$10,G$17) + COUNTIFS($P$3:$P$10,$A20)*COUNTIFS($P$3:$P$10,G$17) + COUNTIFS($Q$3:$Q$10,$A20)*COUNTIFS($Q$3:$Q$10,G$17) + COUNTIFS($R$3:$R$10,$A20)*COUNTIFS($R$3:$R$10,G$17) + COUNTIFS($S$3:$S$10,$A20)*COUNTIFS($S$3:$S$10,G$17) + COUNTIFS($T$3:$T$10,$A20)*COUNTIFS($T$3:$T$10,G$17) + COUNTIFS($U$3:$U$10,$A20)*COUNTIFS($U$3:$U$10,G$17) + COUNTIFS($V$3:$V$10,$A20)*COUNTIFS($V$3:$V$10,G$17) + COUNTIFS($W$3:$W$10,$A20)*COUNTIFS($W$3:$W$10,G$17) + COUNTIFS($X$3:$X$10,$A20)*COUNTIFS($X$3:$X$10,G$17) + COUNTIFS($Y$3:$Y$10,$A20)*COUNTIFS($Y$3:$Y$10,G$17) -> 3 | H20: =COUNTIFS($B$3:$B$10,$A20)*COUNTIFS($B$3:$B$10,H$17) + COUNTIFS($C$3:$C$10,$A20)*COUNTIFS($C$3:$C$10,H$17) + COUNTIFS($D$3:$D$10,$A20)*COUNTIFS($D$3:$D$10,H$17) + COUNTIFS($E$3:$E$10,$A20)*COUNTIFS($E$3:$E$10,H$17) + COUNTIFS($F$3:$F$10,$A20)*COUNTIFS($F$3:$F$10,H$17) + COUNTIFS($G$3:$G$10,$A20)*COUNTIFS($G$3:$G$10,H$17) + COUNTIFS($H$3:$H$10,$A20)*COUNTIFS($H$3:$H$10,H$17) + COUNTIFS($I$3:$I$10,$A20)*COUNTIFS($I$3:$I$10,H$17) + COUNTIFS($J$3:$J$10,$A20)*COUNTIFS($J$3:$J$10,H$17) + COUNTIFS($K$3:$K$10,$A20)*COUNTIFS($K$3:$K$10,H$17) + COUNTIFS($L$3:$L$10,$A20)*COUNTIFS($L$3:$L$10,H$17) + COUNTIFS($M$3:$M$10,$A20)*COUNTIFS($M$3:$M$10,H$17) + COUNTIFS($N$3:$N$10,$A20)*COUNTIFS($N$3:$N$10,H$17) + COUNTIFS($O$3:$O$10,$A20)*COUNTIFS($O$3:$O$10,H$17) + COUNTIFS($P$3:$P$10,$A20)*COUNTIFS($P$3:$P$10,H$17) + COUNTIFS($Q$3:$Q$10,$A20)*COUNTIFS($Q$3:$Q$10,H$17) + COUNTIFS($R$3:$R$10,$A20)*COUNTIFS($R$3:$R$10,H$17) + COUNTIFS($S$3:$S$10,$A20)*COUNTIFS($S$3:$S$10,H$17) + COUNTIFS($T$3:$T$10,$A20)*COUNTIFS($T$3:$T$10,H$17) + COUNTIFS($U$3:$U$10,$A20)*COUNTIFS($U$3:$U$10,H$17) + COUNTIFS($V$3:$V$10,$A20)*COUNTIFS($V$3:$V$10,H$17) + COUNTIFS($W$3:$W$10,$A20)*COUNTIFS($W$3:$W$10,H$17) + COUNTIFS($X$3:$X$10,$A20)*COUNTIFS($X$3:$X$10,H$17) + COUNTIFS($Y$3:$Y$10,$A20)*COUNTIFS($Y$3:$Y$10,H$17) -> 5 | I20: =COUNTIFS($B$3:$B$10,$A20)*COUNTIFS($B$3:$B$10,I$17) + COUNTIFS($C$3:$C$10,$A20)*COUNTIFS($C$3:$C$10,I$17) + COUNTIFS($D$3:$D$10,$A20)*COUNTIFS($D$3:$D$10,I$17) + COUNTIFS($E$3:$E$10,$A20)*COUNTIFS($E$3:$E$10,I$17) + COUNTIFS($F$3:$F$10,$A20)*COUNTIFS($F$3:$F$10,I$17) + COUNTIFS($G$3:$G$10,$A20)*COUNTIFS($G$3:$G$10,I$17) + COUNTIFS($H$3:$H$10,$A20)*COUNTIFS($H$3:$H$10,I$17) + COUNTIFS($I$3:$I$10,$A20)*COUNTIFS($I$3:$I$10,I$17) + COUNTIFS($J$3:$J$10,$A20)*COUNTIFS($J$3:$J$10,I$17) + COUNTIFS($K$3:$K$10,$A20)*COUNTIFS($K$3:$K$10,I$17) + COUNTIFS($L$3:$L$10,$A20)*COUNTIFS($L$3:$L$10,I$17) + COUNTIFS($M$3:$M$10,$A20)*COUNTIFS($M$3:$M$10,I$17) + COUNTIFS($N$3:$N$10,$A20)*COUNTIFS($N$3:$N$10,I$17) + COUNTIFS($O$3:$O$10,$A20)*COUNTIFS($O$3:$O$10,I$17) + COUNTIFS($P$3:$P$10,$A20)*COUNTIFS($P$3:$P$10,I$17) + COUNTIFS($Q$3:$Q$10,$A20)*COUNTIFS($Q$3:$Q$10,I$17) + COUNTIFS($R$3:$R$10,$A20)*COUNTIFS($R$3:$R$10,I$17) + COUNTIFS($S$3:$S$10,$A20)*COUNTIFS($S$3:$S$10,I$17) + COUNTIFS($T$3:$T$10,$A20)*COUNTIFS($T$3:$T$10,I$17) + COUNTIFS($U$3:$U$10,$A20)*COUNTIFS($U$3:$U$10,I$17) + COUNTIFS($V$3:$V$10,$A20)*COUNTIFS($V$3:$V$10,I$17) + COUNTIFS($W$3:$W$10,$A20)*COUNTIFS($W$3:$W$10,I$17) + COUNTIFS($X$3:$X$10,$A20)*COUNTIFS($X$3:$X$10,I$17) + COUNTIFS($Y$3:$Y$10,$A20)*COUNTIFS($Y$3:$Y$10,I$17) -> 3 | ... T20: =COUNTIFS($B$3:$B$10,$A20)*COUNTIFS($B$3:$B$10,T$17) + COUNTIFS($C$3:$C$10,$A20)*COUNTIFS($C$3:$C$10,T$17) + COUNTIFS($D$3:$D$10,$A20)*COUNTIFS($D$3:$D$10,T$17) + COUNTIFS($E$3:$E$10,$A20)*COUNTIFS($E$3:$E$10,T$17) + COUNTIFS($F$3:$F$10,$A20)*COUNTIFS($F$3:$F$10,T$17) + COUNTIFS($G$3:$G$10,$A20)*COUNTIFS($G$3:$G$10,T$17) + COUNTIFS($H$3:$H$10,$A20)*COUNTIFS($H$3:$H$10,T$17) + COUNTIFS($I$3:$I$10,$A20)*COUNTIFS($I$3:$I$10,T$17) + COUNTIFS($J$3:$J$10,$A20)*COUNTIFS($J$3:$J$10,T$17) + COUNTIFS($K$3:$K$10,$A20)*COUNTIFS($K$3:$K$10,T$17) + COUNTIFS($L$3:$L$10,$A20)*COUNTIFS($L$3:$L$10,T$17) + COUNTIFS($M$3:$M$10,$A20)*COUNTIFS($M$3:$M$10,T$17) + COUNTIFS($N$3:$N$10,$A20)*COUNTIFS($N$3:$N$10,T$17) + COUNTIFS($O$3:$O$10,$A20)*COUNTIFS($O$3:$O$10,T$17) + COUNTIFS($P$3:$P$10,$A20)*COUNTIFS($P$3:$P$10,T$17) + COUNTIFS($Q$3:$Q$10,$A20)*COUNTIFS($Q$3:$Q$10,T$17) + COUNTIFS($R$3:$R$10,$A20)*COUNTIFS($R$3:$R$10,T$17) + COUNTIFS($S$3:$S$10,$A20)*COUNTIFS($S$3:$S$10,T$17) + COUNTIFS($T$3:$T$10,$A20)*COUNTIFS($T$3:$T$10,T$17) + COUNTIFS($U$3:$U$10,$A20)*COUNTIFS($U$3:$U$10,T$17) + COUNTIFS($V$3:$V$10,$A20)*COUNTIFS($V$3:$V$10,T$17) + COUNTIFS($W$3:$W$10,$A20)*COUNTIFS($W$3:$W$10,T$17) + COUNTIFS($X$3:$X$10,$A20)*COUNTIFS($X$3:$X$10,T$17) + COUNTIFS($Y$3:$Y$10,$A20)*COUNTIFS($Y$3:$Y$10,T$17) -> 0 | W20: 6 | AA20: 6 | AB20: =COUNTIF($B$18:$T$36,AA20)/2 -> 3
A21: 4 | B21: =COUNTIFS($B$3:$B$10,$A21)*COUNTIFS($B$3:$B$10,B$17) + COUNTIFS($C$3:$C$10,$A21)*COUNTIFS($C$3:$C$10,B$17) + COUNTIFS($D$3:$D$10,$A21)*COUNTIFS($D$3:$D$10,B$17) + COUNTIFS($E$3:$E$10,$A21)*COUNTIFS($E$3:$E$10,B$17) + COUNTIFS($F$3:$F$10,$A21)*COUNTIFS($F$3:$F$10,B$17) + COUNTIFS($G$3:$G$10,$A21)*COUNTIFS($G$3:$G$10,B$17) + COUNTIFS($H$3:$H$10,$A21)*COUNTIFS($H$3:$H$10,B$17) + COUNTIFS($I$3:$I$10,$A21)*COUNTIFS($I$3:$I$10,B$17) + COUNTIFS($J$3:$J$10,$A21)*COUNTIFS($J$3:$J$10,B$17) + COUNTIFS($K$3:$K$10,$A21)*COUNTIFS($K$3:$K$10,B$17) + COUNTIFS($L$3:$L$10,$A21)*COUNTIFS($L$3:$L$10,B$17) + COUNTIFS($M$3:$M$10,$A21)*COUNTIFS($M$3:$M$10,B$17) + COUNTIFS($N$3:$N$10,$A21)*COUNTIFS($N$3:$N$10,B$17) + COUNTIFS($O$3:$O$10,$A21)*COUNTIFS($O$3:$O$10,B$17) + COUNTIFS($P$3:$P$10,$A21)*COUNTIFS($P$3:$P$10,B$17) + COUNTIFS($Q$3:$Q$10,$A21)*COUNTIFS($Q$3:$Q$10,B$17) + COUNTIFS($R$3:$R$10,$A21)*COUNTIFS($R$3:$R$10,B$17) + COUNTIFS($S$3:$S$10,$A21)*COUNTIFS($S$3:$S$10,B$17) + COUNTIFS($T$3:$T$10,$A21)*COUNTIFS($T$3:$T$10,B$17) + COUNTIFS($U$3:$U$10,$A21)*COUNTIFS($U$3:$U$10,B$17) + COUNTIFS($V$3:$V$10,$A21)*COUNTIFS($V$3:$V$10,B$17) + COUNTIFS($W$3:$W$10,$A21)*COUNTIFS($W$3:$W$10,B$17) + COUNTIFS($X$3:$X$10,$A21)*COUNTIFS($X$3:$X$10,B$17) + COUNTIFS($Y$3:$Y$10,$A21)*COUNTIFS($Y$3:$Y$10,B$17) -> 4 | C21: =COUNTIFS($B$3:$B$10,$A21)*COUNTIFS($B$3:$B$10,C$17) + COUNTIFS($C$3:$C$10,$A21)*COUNTIFS($C$3:$C$10,C$17) + COUNTIFS($D$3:$D$10,$A21)*COUNTIFS($D$3:$D$10,C$17) + COUNTIFS($E$3:$E$10,$A21)*COUNTIFS($E$3:$E$10,C$17) + COUNTIFS($F$3:$F$10,$A21)*COUNTIFS($F$3:$F$10,C$17) + COUNTIFS($G$3:$G$10,$A21)*COUNTIFS($G$3:$G$10,C$17) + COUNTIFS($H$3:$H$10,$A21)*COUNTIFS($H$3:$H$10,C$17) + COUNTIFS($I$3:$I$10,$A21)*COUNTIFS($I$3:$I$10,C$17) + COUNTIFS($J$3:$J$10,$A21)*COUNTIFS($J$3:$J$10,C$17) + COUNTIFS($K$3:$K$10,$A21)*COUNTIFS($K$3:$K$10,C$17) + COUNTIFS($L$3:$L$10,$A21)*COUNTIFS($L$3:$L$10,C$17) + COUNTIFS($M$3:$M$10,$A21)*COUNTIFS($M$3:$M$10,C$17) + COUNTIFS($N$3:$N$10,$A21)*COUNTIFS($N$3:$N$10,C$17) + COUNTIFS($O$3:$O$10,$A21)*COUNTIFS($O$3:$O$10,C$17) + COUNTIFS($P$3:$P$10,$A21)*COUNTIFS($P$3:$P$10,C$17) + COUNTIFS($Q$3:$Q$10,$A21)*COUNTIFS($Q$3:$Q$10,C$17) + COUNTIFS($R$3:$R$10,$A21)*COUNTIFS($R$3:$R$10,C$17) + COUNTIFS($S$3:$S$10,$A21)*COUNTIFS($S$3:$S$10,C$17) + COUNTIFS($T$3:$T$10,$A21)*COUNTIFS($T$3:$T$10,C$17) + COUNTIFS($U$3:$U$10,$A21)*COUNTIFS($U$3:$U$10,C$17) + COUNTIFS($V$3:$V$10,$A21)*COUNTIFS($V$3:$V$10,C$17) + COUNTIFS($W$3:$W$10,$A21)*COUNTIFS($W$3:$W$10,C$17) + COUNTIFS($X$3:$X$10,$A21)*COUNTIFS($X$3:$X$10,C$17) + COUNTIFS($Y$3:$Y$10,$A21)*COUNTIFS($Y$3:$Y$10,C$17) -> 4 | D21: =COUNTIFS($B$3:$B$10,$A21)*COUNTIFS($B$3:$B$10,D$17) + COUNTIFS($C$3:$C$10,$A21)*COUNTIFS($C$3:$C$10,D$17) + COUNTIFS($D$3:$D$10,$A21)*COUNTIFS($D$3:$D$10,D$17) + COUNTIFS($E$3:$E$10,$A21)*COUNTIFS($E$3:$E$10,D$17) + COUNTIFS($F$3:$F$10,$A21)*COUNTIFS($F$3:$F$10,D$17) + COUNTIFS($G$3:$G$10,$A21)*COUNTIFS($G$3:$G$10,D$17) + COUNTIFS($H$3:$H$10,$A21)*COUNTIFS($H$3:$H$10,D$17) + COUNTIFS($I$3:$I$10,$A21)*COUNTIFS($I$3:$I$10,D$17) + COUNTIFS($J$3:$J$10,$A21)*COUNTIFS($J$3:$J$10,D$17) + COUNTIFS($K$3:$K$10,$A21)*COUNTIFS($K$3:$K$10,D$17) + COUNTIFS($L$3:$L$10,$A21)*COUNTIFS($L$3:$L$10,D$17) + COUNTIFS($M$3:$M$10,$A21)*COUNTIFS($M$3:$M$10,D$17) + COUNTIFS($N$3:$N$10,$A21)*COUNTIFS($N$3:$N$10,D$17) + COUNTIFS($O$3:$O$10,$A21)*COUNTIFS($O$3:$O$10,D$17) + COUNTIFS($P$3:$P$10,$A21)*COUNTIFS($P$3:$P$10,D$17) + COUNTIFS($Q$3:$Q$10,$A21)*COUNTIFS($Q$3:$Q$10,D$17) + COUNTIFS($R$3:$R$10,$A21)*COUNTIFS($R$3:$R$10,D$17) + COUNTIFS($S$3:$S$10,$A21)*COUNTIFS($S$3:$S$10,D$17) + COUNTIFS($T$3:$T$10,$A21)*COUNTIFS($T$3:$T$10,D$17) + COUNTIFS($U$3:$U$10,$A21)*COUNTIFS($U$3:$U$10,D$17) + COUNTIFS($V$3:$V$10,$A21)*COUNTIFS($V$3:$V$10,D$17) + COUNTIFS($W$3:$W$10,$A21)*COUNTIFS($W$3:$W$10,D$17) + COUNTIFS($X$3:$X$10,$A21)*COUNTIFS($X$3:$X$10,D$17) + COUNTIFS($Y$3:$Y$10,$A21)*COUNTIFS($Y$3:$Y$10,D$17) -> 0 | E21: =COUNTIFS($B$3:$B$10,$A21)*COUNTIFS($B$3:$B$10,E$17) + COUNTIFS($C$3:$C$10,$A21)*COUNTIFS($C$3:$C$10,E$17) + COUNTIFS($D$3:$D$10,$A21)*COUNTIFS($D$3:$D$10,E$17) + COUNTIFS($E$3:$E$10,$A21)*COUNTIFS($E$3:$E$10,E$17) + COUNTIFS($F$3:$F$10,$A21)*COUNTIFS($F$3:$F$10,E$17) + COUNTIFS($G$3:$G$10,$A21)*COUNTIFS($G$3:$G$10,E$17) + COUNTIFS($H$3:$H$10,$A21)*COUNTIFS($H$3:$H$10,E$17) + COUNTIFS($I$3:$I$10,$A21)*COUNTIFS($I$3:$I$10,E$17) + COUNTIFS($J$3:$J$10,$A21)*COUNTIFS($J$3:$J$10,E$17) + COUNTIFS($K$3:$K$10,$A21)*COUNTIFS($K$3:$K$10,E$17) + COUNTIFS($L$3:$L$10,$A21)*COUNTIFS($L$3:$L$10,E$17) + COUNTIFS($M$3:$M$10,$A21)*COUNTIFS($M$3:$M$10,E$17) + COUNTIFS($N$3:$N$10,$A21)*COUNTIFS($N$3:$N$10,E$17) + COUNTIFS($O$3:$O$10,$A21)*COUNTIFS($O$3:$O$10,E$17) + COUNTIFS($P$3:$P$10,$A21)*COUNTIFS($P$3:$P$10,E$17) + COUNTIFS($Q$3:$Q$10,$A21)*COUNTIFS($Q$3:$Q$10,E$17) + COUNTIFS($R$3:$R$10,$A21)*COUNTIFS($R$3:$R$10,E$17) + COUNTIFS($S$3:$S$10,$A21)*COUNTIFS($S$3:$S$10,E$17) + COUNTIFS($T$3:$T$10,$A21)*COUNTIFS($T$3:$T$10,E$17) + COUNTIFS($U$3:$U$10,$A21)*COUNTIFS($U$3:$U$10,E$17) + COUNTIFS($V$3:$V$10,$A21)*COUNTIFS($V$3:$V$10,E$17) + COUNTIFS($W$3:$W$10,$A21)*COUNTIFS($W$3:$W$10,E$17) + COUNTIFS($X$3:$X$10,$A21)*COUNTIFS($X$3:$X$10,E$17) + COUNTIFS($Y$3:$Y$10,$A21)*COUNTIFS($Y$3:$Y$10,E$17) -> 8 | F21: =COUNTIFS($B$3:$B$10,$A21)*COUNTIFS($B$3:$B$10,F$17) + COUNTIFS($C$3:$C$10,$A21)*COUNTIFS($C$3:$C$10,F$17) + COUNTIFS($D$3:$D$10,$A21)*COUNTIFS($D$3:$D$10,F$17) + COUNTIFS($E$3:$E$10,$A21)*COUNTIFS($E$3:$E$10,F$17) + COUNTIFS($F$3:$F$10,$A21)*COUNTIFS($F$3:$F$10,F$17) + COUNTIFS($G$3:$G$10,$A21)*COUNTIFS($G$3:$G$10,F$17) + COUNTIFS($H$3:$H$10,$A21)*COUNTIFS($H$3:$H$10,F$17) + COUNTIFS($I$3:$I$10,$A21)*COUNTIFS($I$3:$I$10,F$17) + COUNTIFS($J$3:$J$10,$A21)*COUNTIFS($J$3:$J$10,F$17) + COUNTIFS($K$3:$K$10,$A21)*COUNTIFS($K$3:$K$10,F$17) + COUNTIFS($L$3:$L$10,$A21)*COUNTIFS($L$3:$L$10,F$17) + COUNTIFS($M$3:$M$10,$A21)*COUNTIFS($M$3:$M$10,F$17) + COUNTIFS($N$3:$N$10,$A21)*COUNTIFS($N$3:$N$10,F$17) + COUNTIFS($O$3:$O$10,$A21)*COUNTIFS($O$3:$O$10,F$17) + COUNTIFS($P$3:$P$10,$A21)*COUNTIFS($P$3:$P$10,F$17) + COUNTIFS($Q$3:$Q$10,$A21)*COUNTIFS($Q$3:$Q$10,F$17) + COUNTIFS($R$3:$R$10,$A21)*COUNTIFS($R$3:$R$10,F$17) + COUNTIFS($S$3:$S$10,$A21)*COUNTIFS($S$3:$S$10,F$17) + COUNTIFS($T$3:$T$10,$A21)*COUNTIFS($T$3:$T$10,F$17) + COUNTIFS($U$3:$U$10,$A21)*COUNTIFS($U$3:$U$10,F$17) + COUNTIFS($V$3:$V$10,$A21)*COUNTIFS($V$3:$V$10,F$17) + COUNTIFS($W$3:$W$10,$A21)*COUNTIFS($W$3:$W$10,F$17) + COUNTIFS($X$3:$X$10,$A21)*COUNTIFS($X$3:$X$10,F$17) + COUNTIFS($Y$3:$Y$10,$A21)*COUNTIFS($Y$3:$Y$10,F$17) -> 3 | G21: =COUNTIFS($B$3:$B$10,$A21)*COUNTIFS($B$3:$B$10,G$17) + COUNTIFS($C$3:$C$10,$A21)*COUNTIFS($C$3:$C$10,G$17) + COUNTIFS($D$3:$D$10,$A21)*COUNTIFS($D$3:$D$10,G$17) + COUNTIFS($E$3:$E$10,$A21)*COUNTIFS($E$3:$E$10,G$17) + COUNTIFS($F$3:$F$10,$A21)*COUNTIFS($F$3:$F$10,G$17) + COUNTIFS($G$3:$G$10,$A21)*COUNTIFS($G$3:$G$10,G$17) + COUNTIFS($H$3:$H$10,$A21)*COUNTIFS($H$3:$H$10,G$17) + COUNTIFS($I$3:$I$10,$A21)*COUNTIFS($I$3:$I$10,G$17) + COUNTIFS($J$3:$J$10,$A21)*COUNTIFS($J$3:$J$10,G$17) + COUNTIFS($K$3:$K$10,$A21)*COUNTIFS($K$3:$K$10,G$17) + COUNTIFS($L$3:$L$10,$A21)*COUNTIFS($L$3:$L$10,G$17) + COUNTIFS($M$3:$M$10,$A21)*COUNTIFS($M$3:$M$10,G$17) + COUNTIFS($N$3:$N$10,$A21)*COUNTIFS($N$3:$N$10,G$17) + COUNTIFS($O$3:$O$10,$A21)*COUNTIFS($O$3:$O$10,G$17) + COUNTIFS($P$3:$P$10,$A21)*COUNTIFS($P$3:$P$10,G$17) + COUNTIFS($Q$3:$Q$10,$A21)*COUNTIFS($Q$3:$Q$10,G$17) + COUNTIFS($R$3:$R$10,$A21)*COUNTIFS($R$3:$R$10,G$17) + COUNTIFS($S$3:$S$10,$A21)*COUNTIFS($S$3:$S$10,G$17) + COUNTIFS($T$3:$T$10,$A21)*COUNTIFS($T$3:$T$10,G$17) + COUNTIFS($U$3:$U$10,$A21)*COUNTIFS($U$3:$U$10,G$17) + COUNTIFS($V$3:$V$10,$A21)*COUNTIFS($V$3:$V$10,G$17) + COUNTIFS($W$3:$W$10,$A21)*COUNTIFS($W$3:$W$10,G$17) + COUNTIFS($X$3:$X$10,$A21)*COUNTIFS($X$3:$X$10,G$17) + COUNTIFS($Y$3:$Y$10,$A21)*COUNTIFS($Y$3:$Y$10,G$17) -> 5 | H21: =COUNTIFS($B$3:$B$10,$A21)*COUNTIFS($B$3:$B$10,H$17) + COUNTIFS($C$3:$C$10,$A21)*COUNTIFS($C$3:$C$10,H$17) + COUNTIFS($D$3:$D$10,$A21)*COUNTIFS($D$3:$D$10,H$17) + COUNTIFS($E$3:$E$10,$A21)*COUNTIFS($E$3:$E$10,H$17) + COUNTIFS($F$3:$F$10,$A21)*COUNTIFS($F$3:$F$10,H$17) + COUNTIFS($G$3:$G$10,$A21)*COUNTIFS($G$3:$G$10,H$17) + COUNTIFS($H$3:$H$10,$A21)*COUNTIFS($H$3:$H$10,H$17) + COUNTIFS($I$3:$I$10,$A21)*COUNTIFS($I$3:$I$10,H$17) + COUNTIFS($J$3:$J$10,$A21)*COUNTIFS($J$3:$J$10,H$17) + COUNTIFS($K$3:$K$10,$A21)*COUNTIFS($K$3:$K$10,H$17) + COUNTIFS($L$3:$L$10,$A21)*COUNTIFS($L$3:$L$10,H$17) + COUNTIFS($M$3:$M$10,$A21)*COUNTIFS($M$3:$M$10,H$17) + COUNTIFS($N$3:$N$10,$A21)*COUNTIFS($N$3:$N$10,H$17) + COUNTIFS($O$3:$O$10,$A21)*COUNTIFS($O$3:$O$10,H$17) + COUNTIFS($P$3:$P$10,$A21)*COUNTIFS($P$3:$P$10,H$17) + COUNTIFS($Q$3:$Q$10,$A21)*COUNTIFS($Q$3:$Q$10,H$17) + COUNTIFS($R$3:$R$10,$A21)*COUNTIFS($R$3:$R$10,H$17) + COUNTIFS($S$3:$S$10,$A21)*COUNTIFS($S$3:$S$10,H$17) + COUNTIFS($T$3:$T$10,$A21)*COUNTIFS($T$3:$T$10,H$17) + COUNTIFS($U$3:$U$10,$A21)*COUNTIFS($U$3:$U$10,H$17) + COUNTIFS($V$3:$V$10,$A21)*COUNTIFS($V$3:$V$10,H$17) + COUNTIFS($W$3:$W$10,$A21)*COUNTIFS($W$3:$W$10,H$17) + COUNTIFS($X$3:$X$10,$A21)*COUNTIFS($X$3:$X$10,H$17) + COUNTIFS($Y$3:$Y$10,$A21)*COUNTIFS($Y$3:$Y$10,H$17) -> 3 | I21: =COUNTIFS($B$3:$B$10,$A21)*COUNTIFS($B$3:$B$10,I$17) + COUNTIFS($C$3:$C$10,$A21)*COUNTIFS($C$3:$C$10,I$17) + COUNTIFS($D$3:$D$10,$A21)*COUNTIFS($D$3:$D$10,I$17) + COUNTIFS($E$3:$E$10,$A21)*COUNTIFS($E$3:$E$10,I$17) + COUNTIFS($F$3:$F$10,$A21)*COUNTIFS($F$3:$F$10,I$17) + COUNTIFS($G$3:$G$10,$A21)*COUNTIFS($G$3:$G$10,I$17) + COUNTIFS($H$3:$H$10,$A21)*COUNTIFS($H$3:$H$10,I$17) + COUNTIFS($I$3:$I$10,$A21)*COUNTIFS($I$3:$I$10,I$17) + COUNTIFS($J$3:$J$10,$A21)*COUNTIFS($J$3:$J$10,I$17) + COUNTIFS($K$3:$K$10,$A21)*COUNTIFS($K$3:$K$10,I$17) + COUNTIFS($L$3:$L$10,$A21)*COUNTIFS($L$3:$L$10,I$17) + COUNTIFS($M$3:$M$10,$A21)*COUNTIFS($M$3:$M$10,I$17) + COUNTIFS($N$3:$N$10,$A21)*COUNTIFS($N$3:$N$10,I$17) + COUNTIFS($O$3:$O$10,$A21)*COUNTIFS($O$3:$O$10,I$17) + COUNTIFS($P$3:$P$10,$A21)*COUNTIFS($P$3:$P$10,I$17) + COUNTIFS($Q$3:$Q$10,$A21)*COUNTIFS($Q$3:$Q$10,I$17) + COUNTIFS($R$3:$R$10,$A21)*COUNTIFS($R$3:$R$10,I$17) + COUNTIFS($S$3:$S$10,$A21)*COUNTIFS($S$3:$S$10,I$17) + COUNTIFS($T$3:$T$10,$A21)*COUNTIFS($T$3:$T$10,I$17) + COUNTIFS($U$3:$U$10,$A21)*COUNTIFS($U$3:$U$10,I$17) + COUNTIFS($V$3:$V$10,$A21)*COUNTIFS($V$3:$V$10,I$17) + COUNTIFS($W$3:$W$10,$A21)*COUNTIFS($W$3:$W$10,I$17) + COUNTIFS($X$3:$X$10,$A21)*COUNTIFS($X$3:$X$10,I$17) + COUNTIFS($Y$3:$Y$10,$A21)*COUNTIFS($Y$3:$Y$10,I$17) -> 5 | ... T21: =COUNTIFS($B$3:$B$10,$A21)*COUNTIFS($B$3:$B$10,T$17) + COUNTIFS($C$3:$C$10,$A21)*COUNTIFS($C$3:$C$10,T$17) + COUNTIFS($D$3:$D$10,$A21)*COUNTIFS($D$3:$D$10,T$17) + COUNTIFS($E$3:$E$10,$A21)*COUNTIFS($E$3:$E$10,T$17) + COUNTIFS($F$3:$F$10,$A21)*COUNTIFS($F$3:$F$10,T$17) + COUNTIFS($G$3:$G$10,$A21)*COUNTIFS($G$3:$G$10,T$17) + COUNTIFS($H$3:$H$10,$A21)*COUNTIFS($H$3:$H$10,T$17) + COUNTIFS($I$3:$I$10,$A21)*COUNTIFS($I$3:$I$10,T$17) + COUNTIFS($J$3:$J$10,$A21)*COUNTIFS($J$3:$J$10,T$17) + COUNTIFS($K$3:$K$10,$A21)*COUNTIFS($K$3:$K$10,T$17) + COUNTIFS($L$3:$L$10,$A21)*COUNTIFS($L$3:$L$10,T$17) + COUNTIFS($M$3:$M$10,$A21)*COUNTIFS($M$3:$M$10,T$17) + COUNTIFS($N$3:$N$10,$A21)*COUNTIFS($N$3:$N$10,T$17) + COUNTIFS($O$3:$O$10,$A21)*COUNTIFS($O$3:$O$10,T$17) + COUNTIFS($P$3:$P$10,$A21)*COUNTIFS($P$3:$P$10,T$17) + COUNTIFS($Q$3:$Q$10,$A21)*COUNTIFS($Q$3:$Q$10,T$17) + COUNTIFS($R$3:$R$10,$A21)*COUNTIFS($R$3:$R$10,T$17) + COUNTIFS($S$3:$S$10,$A21)*COUNTIFS($S$3:$S$10,T$17) + COUNTIFS($T$3:$T$10,$A21)*COUNTIFS($T$3:$T$10,T$17) + COUNTIFS($U$3:$U$10,$A21)*COUNTIFS($U$3:$U$10,T$17) + COUNTIFS($V$3:$V$10,$A21)*COUNTIFS($V$3:$V$10,T$17) + COUNTIFS($W$3:$W$10,$A21)*COUNTIFS($W$3:$W$10,T$17) + COUNTIFS($X$3:$X$10,$A21)*COUNTIFS($X$3:$X$10,T$17) + COUNTIFS($Y$3:$Y$10,$A21)*COUNTIFS($Y$3:$Y$10,T$17) -> 0 | W21: 5 | AA21: 5 | AB21: =COUNTIF($B$18:$T$36,AA21)/2 -> 13
A22: 5 | B22: =COUNTIFS($B$3:$B$10,$A22)*COUNTIFS($B$3:$B$10,B$17) + COUNTIFS($C$3:$C$10,$A22)*COUNTIFS($C$3:$C$10,B$17) + COUNTIFS($D$3:$D$10,$A22)*COUNTIFS($D$3:$D$10,B$17) + COUNTIFS($E$3:$E$10,$A22)*COUNTIFS($E$3:$E$10,B$17) + COUNTIFS($F$3:$F$10,$A22)*COUNTIFS($F$3:$F$10,B$17) + COUNTIFS($G$3:$G$10,$A22)*COUNTIFS($G$3:$G$10,B$17) + COUNTIFS($H$3:$H$10,$A22)*COUNTIFS($H$3:$H$10,B$17) + COUNTIFS($I$3:$I$10,$A22)*COUNTIFS($I$3:$I$10,B$17) + COUNTIFS($J$3:$J$10,$A22)*COUNTIFS($J$3:$J$10,B$17) + COUNTIFS($K$3:$K$10,$A22)*COUNTIFS($K$3:$K$10,B$17) + COUNTIFS($L$3:$L$10,$A22)*COUNTIFS($L$3:$L$10,B$17) + COUNTIFS($M$3:$M$10,$A22)*COUNTIFS($M$3:$M$10,B$17) + COUNTIFS($N$3:$N$10,$A22)*COUNTIFS($N$3:$N$10,B$17) + COUNTIFS($O$3:$O$10,$A22)*COUNTIFS($O$3:$O$10,B$17) + COUNTIFS($P$3:$P$10,$A22)*COUNTIFS($P$3:$P$10,B$17) + COUNTIFS($Q$3:$Q$10,$A22)*COUNTIFS($Q$3:$Q$10,B$17) + COUNTIFS($R$3:$R$10,$A22)*COUNTIFS($R$3:$R$10,B$17) + COUNTIFS($S$3:$S$10,$A22)*COUNTIFS($S$3:$S$10,B$17) + COUNTIFS($T$3:$T$10,$A22)*COUNTIFS($T$3:$T$10,B$17) + COUNTIFS($U$3:$U$10,$A22)*COUNTIFS($U$3:$U$10,B$17) + COUNTIFS($V$3:$V$10,$A22)*COUNTIFS($V$3:$V$10,B$17) + COUNTIFS($W$3:$W$10,$A22)*COUNTIFS($W$3:$W$10,B$17) + COUNTIFS($X$3:$X$10,$A22)*COUNTIFS($X$3:$X$10,B$17) + COUNTIFS($Y$3:$Y$10,$A22)*COUNTIFS($Y$3:$Y$10,B$17) -> 5 | C22: =COUNTIFS($B$3:$B$10,$A22)*COUNTIFS($B$3:$B$10,C$17) + COUNTIFS($C$3:$C$10,$A22)*COUNTIFS($C$3:$C$10,C$17) + COUNTIFS($D$3:$D$10,$A22)*COUNTIFS($D$3:$D$10,C$17) + COUNTIFS($E$3:$E$10,$A22)*COUNTIFS($E$3:$E$10,C$17) + COUNTIFS($F$3:$F$10,$A22)*COUNTIFS($F$3:$F$10,C$17) + COUNTIFS($G$3:$G$10,$A22)*COUNTIFS($G$3:$G$10,C$17) + COUNTIFS($H$3:$H$10,$A22)*COUNTIFS($H$3:$H$10,C$17) + COUNTIFS($I$3:$I$10,$A22)*COUNTIFS($I$3:$I$10,C$17) + COUNTIFS($J$3:$J$10,$A22)*COUNTIFS($J$3:$J$10,C$17) + COUNTIFS($K$3:$K$10,$A22)*COUNTIFS($K$3:$K$10,C$17) + COUNTIFS($L$3:$L$10,$A22)*COUNTIFS($L$3:$L$10,C$17) + COUNTIFS($M$3:$M$10,$A22)*COUNTIFS($M$3:$M$10,C$17) + COUNTIFS($N$3:$N$10,$A22)*COUNTIFS($N$3:$N$10,C$17) + COUNTIFS($O$3:$O$10,$A22)*COUNTIFS($O$3:$O$10,C$17) + COUNTIFS($P$3:$P$10,$A22)*COUNTIFS($P$3:$P$10,C$17) + COUNTIFS($Q$3:$Q$10,$A22)*COUNTIFS($Q$3:$Q$10,C$17) + COUNTIFS($R$3:$R$10,$A22)*COUNTIFS($R$3:$R$10,C$17) + COUNTIFS($S$3:$S$10,$A22)*COUNTIFS($S$3:$S$10,C$17) + COUNTIFS($T$3:$T$10,$A22)*COUNTIFS($T$3:$T$10,C$17) + COUNTIFS($U$3:$U$10,$A22)*COUNTIFS($U$3:$U$10,C$17) + COUNTIFS($V$3:$V$10,$A22)*COUNTIFS($V$3:$V$10,C$17) + COUNTIFS($W$3:$W$10,$A22)*COUNTIFS($W$3:$W$10,C$17) + COUNTIFS($X$3:$X$10,$A22)*COUNTIFS($X$3:$X$10,C$17) + COUNTIFS($Y$3:$Y$10,$A22)*COUNTIFS($Y$3:$Y$10,C$17) -> 3 | D22: =COUNTIFS($B$3:$B$10,$A22)*COUNTIFS($B$3:$B$10,D$17) + COUNTIFS($C$3:$C$10,$A22)*COUNTIFS($C$3:$C$10,D$17) + COUNTIFS($D$3:$D$10,$A22)*COUNTIFS($D$3:$D$10,D$17) + COUNTIFS($E$3:$E$10,$A22)*COUNTIFS($E$3:$E$10,D$17) + COUNTIFS($F$3:$F$10,$A22)*COUNTIFS($F$3:$F$10,D$17) + COUNTIFS($G$3:$G$10,$A22)*COUNTIFS($G$3:$G$10,D$17) + COUNTIFS($H$3:$H$10,$A22)*COUNTIFS($H$3:$H$10,D$17) + COUNTIFS($I$3:$I$10,$A22)*COUNTIFS($I$3:$I$10,D$17) + COUNTIFS($J$3:$J$10,$A22)*COUNTIFS($J$3:$J$10,D$17) + COUNTIFS($K$3:$K$10,$A22)*COUNTIFS($K$3:$K$10,D$17) + COUNTIFS($L$3:$L$10,$A22)*COUNTIFS($L$3:$L$10,D$17) + COUNTIFS($M$3:$M$10,$A22)*COUNTIFS($M$3:$M$10,D$17) + COUNTIFS($N$3:$N$10,$A22)*COUNTIFS($N$3:$N$10,D$17) + COUNTIFS($O$3:$O$10,$A22)*COUNTIFS($O$3:$O$10,D$17) + COUNTIFS($P$3:$P$10,$A22)*COUNTIFS($P$3:$P$10,D$17) + COUNTIFS($Q$3:$Q$10,$A22)*COUNTIFS($Q$3:$Q$10,D$17) + COUNTIFS($R$3:$R$10,$A22)*COUNTIFS($R$3:$R$10,D$17) + COUNTIFS($S$3:$S$10,$A22)*COUNTIFS($S$3:$S$10,D$17) + COUNTIFS($T$3:$T$10,$A22)*COUNTIFS($T$3:$T$10,D$17) + COUNTIFS($U$3:$U$10,$A22)*COUNTIFS($U$3:$U$10,D$17) + COUNTIFS($V$3:$V$10,$A22)*COUNTIFS($V$3:$V$10,D$17) + COUNTIFS($W$3:$W$10,$A22)*COUNTIFS($W$3:$W$10,D$17) + COUNTIFS($X$3:$X$10,$A22)*COUNTIFS($X$3:$X$10,D$17) + COUNTIFS($Y$3:$Y$10,$A22)*COUNTIFS($Y$3:$Y$10,D$17) -> 5 | E22: =COUNTIFS($B$3:$B$10,$A22)*COUNTIFS($B$3:$B$10,E$17) + COUNTIFS($C$3:$C$10,$A22)*COUNTIFS($C$3:$C$10,E$17) + COUNTIFS($D$3:$D$10,$A22)*COUNTIFS($D$3:$D$10,E$17) + COUNTIFS($E$3:$E$10,$A22)*COUNTIFS($E$3:$E$10,E$17) + COUNTIFS($F$3:$F$10,$A22)*COUNTIFS($F$3:$F$10,E$17) + COUNTIFS($G$3:$G$10,$A22)*COUNTIFS($G$3:$G$10,E$17) + COUNTIFS($H$3:$H$10,$A22)*COUNTIFS($H$3:$H$10,E$17) + COUNTIFS($I$3:$I$10,$A22)*COUNTIFS($I$3:$I$10,E$17) + COUNTIFS($J$3:$J$10,$A22)*COUNTIFS($J$3:$J$10,E$17) + COUNTIFS($K$3:$K$10,$A22)*COUNTIFS($K$3:$K$10,E$17) + COUNTIFS($L$3:$L$10,$A22)*COUNTIFS($L$3:$L$10,E$17) + COUNTIFS($M$3:$M$10,$A22)*COUNTIFS($M$3:$M$10,E$17) + COUNTIFS($N$3:$N$10,$A22)*COUNTIFS($N$3:$N$10,E$17) + COUNTIFS($O$3:$O$10,$A22)*COUNTIFS($O$3:$O$10,E$17) + COUNTIFS($P$3:$P$10,$A22)*COUNTIFS($P$3:$P$10,E$17) + COUNTIFS($Q$3:$Q$10,$A22)*COUNTIFS($Q$3:$Q$10,E$17) + COUNTIFS($R$3:$R$10,$A22)*COUNTIFS($R$3:$R$10,E$17) + COUNTIFS($S$3:$S$10,$A22)*COUNTIFS($S$3:$S$10,E$17) + COUNTIFS($T$3:$T$10,$A22)*COUNTIFS($T$3:$T$10,E$17) + COUNTIFS($U$3:$U$10,$A22)*COUNTIFS($U$3:$U$10,E$17) + COUNTIFS($V$3:$V$10,$A22)*COUNTIFS($V$3:$V$10,E$17) + COUNTIFS($W$3:$W$10,$A22)*COUNTIFS($W$3:$W$10,E$17) + COUNTIFS($X$3:$X$10,$A22)*COUNTIFS($X$3:$X$10,E$17) + COUNTIFS($Y$3:$Y$10,$A22)*COUNTIFS($Y$3:$Y$10,E$17) -> 3 | F22: =COUNTIFS($B$3:$B$10,$A22)*COUNTIFS($B$3:$B$10,F$17) + COUNTIFS($C$3:$C$10,$A22)*COUNTIFS($C$3:$C$10,F$17) + COUNTIFS($D$3:$D$10,$A22)*COUNTIFS($D$3:$D$10,F$17) + COUNTIFS($E$3:$E$10,$A22)*COUNTIFS($E$3:$E$10,F$17) + COUNTIFS($F$3:$F$10,$A22)*COUNTIFS($F$3:$F$10,F$17) + COUNTIFS($G$3:$G$10,$A22)*COUNTIFS($G$3:$G$10,F$17) + COUNTIFS($H$3:$H$10,$A22)*COUNTIFS($H$3:$H$10,F$17) + COUNTIFS($I$3:$I$10,$A22)*COUNTIFS($I$3:$I$10,F$17) + COUNTIFS($J$3:$J$10,$A22)*COUNTIFS($J$3:$J$10,F$17) + COUNTIFS($K$3:$K$10,$A22)*COUNTIFS($K$3:$K$10,F$17) + COUNTIFS($L$3:$L$10,$A22)*COUNTIFS($L$3:$L$10,F$17) + COUNTIFS($M$3:$M$10,$A22)*COUNTIFS($M$3:$M$10,F$17) + COUNTIFS($N$3:$N$10,$A22)*COUNTIFS($N$3:$N$10,F$17) + COUNTIFS($O$3:$O$10,$A22)*COUNTIFS($O$3:$O$10,F$17) + COUNTIFS($P$3:$P$10,$A22)*COUNTIFS($P$3:$P$10,F$17) + COUNTIFS($Q$3:$Q$10,$A22)*COUNTIFS($Q$3:$Q$10,F$17) + COUNTIFS($R$3:$R$10,$A22)*COUNTIFS($R$3:$R$10,F$17) + COUNTIFS($S$3:$S$10,$A22)*COUNTIFS($S$3:$S$10,F$17) + COUNTIFS($T$3:$T$10,$A22)*COUNTIFS($T$3:$T$10,F$17) + COUNTIFS($U$3:$U$10,$A22)*COUNTIFS($U$3:$U$10,F$17) + COUNTIFS($V$3:$V$10,$A22)*COUNTIFS($V$3:$V$10,F$17) + COUNTIFS($W$3:$W$10,$A22)*COUNTIFS($W$3:$W$10,F$17) + COUNTIFS($X$3:$X$10,$A22)*COUNTIFS($X$3:$X$10,F$17) + COUNTIFS($Y$3:$Y$10,$A22)*COUNTIFS($Y$3:$Y$10,F$17) -> 8 | G22: =COUNTIFS($B$3:$B$10,$A22)*COUNTIFS($B$3:$B$10,G$17) + COUNTIFS($C$3:$C$10,$A22)*COUNTIFS($C$3:$C$10,G$17) + COUNTIFS($D$3:$D$10,$A22)*COUNTIFS($D$3:$D$10,G$17) + COUNTIFS($E$3:$E$10,$A22)*COUNTIFS($E$3:$E$10,G$17) + COUNTIFS($F$3:$F$10,$A22)*COUNTIFS($F$3:$F$10,G$17) + COUNTIFS($G$3:$G$10,$A22)*COUNTIFS($G$3:$G$10,G$17) + COUNTIFS($H$3:$H$10,$A22)*COUNTIFS($H$3:$H$10,G$17) + COUNTIFS($I$3:$I$10,$A22)*COUNTIFS($I$3:$I$10,G$17) + COUNTIFS($J$3:$J$10,$A22)*COUNTIFS($J$3:$J$10,G$17) + COUNTIFS($K$3:$K$10,$A22)*COUNTIFS($K$3:$K$10,G$17) + COUNTIFS($L$3:$L$10,$A22)*COUNTIFS($L$3:$L$10,G$17) + COUNTIFS($M$3:$M$10,$A22)*COUNTIFS($M$3:$M$10,G$17) + COUNTIFS($N$3:$N$10,$A22)*COUNTIFS($N$3:$N$10,G$17) + COUNTIFS($O$3:$O$10,$A22)*COUNTIFS($O$3:$O$10,G$17) + COUNTIFS($P$3:$P$10,$A22)*COUNTIFS($P$3:$P$10,G$17) + COUNTIFS($Q$3:$Q$10,$A22)*COUNTIFS($Q$3:$Q$10,G$17) + COUNTIFS($R$3:$R$10,$A22)*COUNTIFS($R$3:$R$10,G$17) + COUNTIFS($S$3:$S$10,$A22)*COUNTIFS($S$3:$S$10,G$17) + COUNTIFS($T$3:$T$10,$A22)*COUNTIFS($T$3:$T$10,G$17) + COUNTIFS($U$3:$U$10,$A22)*COUNTIFS($U$3:$U$10,G$17) + COUNTIFS($V$3:$V$10,$A22)*COUNTIFS($V$3:$V$10,G$17) + COUNTIFS($W$3:$W$10,$A22)*COUNTIFS($W$3:$W$10,G$17) + COUNTIFS($X$3:$X$10,$A22)*COUNTIFS($X$3:$X$10,G$17) + COUNTIFS($Y$3:$Y$10,$A22)*COUNTIFS($Y$3:$Y$10,G$17) -> 4 | H22: =COUNTIFS($B$3:$B$10,$A22)*COUNTIFS($B$3:$B$10,H$17) + COUNTIFS($C$3:$C$10,$A22)*COUNTIFS($C$3:$C$10,H$17) + COUNTIFS($D$3:$D$10,$A22)*COUNTIFS($D$3:$D$10,H$17) + COUNTIFS($E$3:$E$10,$A22)*COUNTIFS($E$3:$E$10,H$17) + COUNTIFS($F$3:$F$10,$A22)*COUNTIFS($F$3:$F$10,H$17) + COUNTIFS($G$3:$G$10,$A22)*COUNTIFS($G$3:$G$10,H$17) + COUNTIFS($H$3:$H$10,$A22)*COUNTIFS($H$3:$H$10,H$17) + COUNTIFS($I$3:$I$10,$A22)*COUNTIFS($I$3:$I$10,H$17) + COUNTIFS($J$3:$J$10,$A22)*COUNTIFS($J$3:$J$10,H$17) + COUNTIFS($K$3:$K$10,$A22)*COUNTIFS($K$3:$K$10,H$17) + COUNTIFS($L$3:$L$10,$A22)*COUNTIFS($L$3:$L$10,H$17) + COUNTIFS($M$3:$M$10,$A22)*COUNTIFS($M$3:$M$10,H$17) + COUNTIFS($N$3:$N$10,$A22)*COUNTIFS($N$3:$N$10,H$17) + COUNTIFS($O$3:$O$10,$A22)*COUNTIFS($O$3:$O$10,H$17) + COUNTIFS($P$3:$P$10,$A22)*COUNTIFS($P$3:$P$10,H$17) + COUNTIFS($Q$3:$Q$10,$A22)*COUNTIFS($Q$3:$Q$10,H$17) + COUNTIFS($R$3:$R$10,$A22)*COUNTIFS($R$3:$R$10,H$17) + COUNTIFS($S$3:$S$10,$A22)*COUNTIFS($S$3:$S$10,H$17) + COUNTIFS($T$3:$T$10,$A22)*COUNTIFS($T$3:$T$10,H$17) + COUNTIFS($U$3:$U$10,$A22)*COUNTIFS($U$3:$U$10,H$17) + COUNTIFS($V$3:$V$10,$A22)*COUNTIFS($V$3:$V$10,H$17) + COUNTIFS($W$3:$W$10,$A22)*COUNTIFS($W$3:$W$10,H$17) + COUNTIFS($X$3:$X$10,$A22)*COUNTIFS($X$3:$X$10,H$17) + COUNTIFS($Y$3:$Y$10,$A22)*COUNTIFS($Y$3:$Y$10,H$17) -> 6 | I22: =COUNTIFS($B$3:$B$10,$A22)*COUNTIFS($B$3:$B$10,I$17) + COUNTIFS($C$3:$C$10,$A22)*COUNTIFS($C$3:$C$10,I$17) + COUNTIFS($D$3:$D$10,$A22)*COUNTIFS($D$3:$D$10,I$17) + COUNTIFS($E$3:$E$10,$A22)*COUNTIFS($E$3:$E$10,I$17) + COUNTIFS($F$3:$F$10,$A22)*COUNTIFS($F$3:$F$10,I$17) + COUNTIFS($G$3:$G$10,$A22)*COUNTIFS($G$3:$G$10,I$17) + COUNTIFS($H$3:$H$10,$A22)*COUNTIFS($H$3:$H$10,I$17) + COUNTIFS($I$3:$I$10,$A22)*COUNTIFS($I$3:$I$10,I$17) + COUNTIFS($J$3:$J$10,$A22)*COUNTIFS($J$3:$J$10,I$17) + COUNTIFS($K$3:$K$10,$A22)*COUNTIFS($K$3:$K$10,I$17) + COUNTIFS($L$3:$L$10,$A22)*COUNTIFS($L$3:$L$10,I$17) + COUNTIFS($M$3:$M$10,$A22)*COUNTIFS($M$3:$M$10,I$17) + COUNTIFS($N$3:$N$10,$A22)*COUNTIFS($N$3:$N$10,I$17) + COUNTIFS($O$3:$O$10,$A22)*COUNTIFS($O$3:$O$10,I$17) + COUNTIFS($P$3:$P$10,$A22)*COUNTIFS($P$3:$P$10,I$17) + COUNTIFS($Q$3:$Q$10,$A22)*COUNTIFS($Q$3:$Q$10,I$17) + COUNTIFS($R$3:$R$10,$A22)*COUNTIFS($R$3:$R$10,I$17) + COUNTIFS($S$3:$S$10,$A22)*COUNTIFS($S$3:$S$10,I$17) + COUNTIFS($T$3:$T$10,$A22)*COUNTIFS($T$3:$T$10,I$17) + COUNTIFS($U$3:$U$10,$A22)*COUNTIFS($U$3:$U$10,I$17) + COUNTIFS($V$3:$V$10,$A22)*COUNTIFS($V$3:$V$10,I$17) + COUNTIFS($W$3:$W$10,$A22)*COUNTIFS($W$3:$W$10,I$17) + COUNTIFS($X$3:$X$10,$A22)*COUNTIFS($X$3:$X$10,I$17) + COUNTIFS($Y$3:$Y$10,$A22)*COUNTIFS($Y$3:$Y$10,I$17) -> 2 | ... T22: =COUNTIFS($B$3:$B$10,$A22)*COUNTIFS($B$3:$B$10,T$17) + COUNTIFS($C$3:$C$10,$A22)*COUNTIFS($C$3:$C$10,T$17) + COUNTIFS($D$3:$D$10,$A22)*COUNTIFS($D$3:$D$10,T$17) + COUNTIFS($E$3:$E$10,$A22)*COUNTIFS($E$3:$E$10,T$17) + COUNTIFS($F$3:$F$10,$A22)*COUNTIFS($F$3:$F$10,T$17) + COUNTIFS($G$3:$G$10,$A22)*COUNTIFS($G$3:$G$10,T$17) + COUNTIFS($H$3:$H$10,$A22)*COUNTIFS($H$3:$H$10,T$17) + COUNTIFS($I$3:$I$10,$A22)*COUNTIFS($I$3:$I$10,T$17) + COUNTIFS($J$3:$J$10,$A22)*COUNTIFS($J$3:$J$10,T$17) + COUNTIFS($K$3:$K$10,$A22)*COUNTIFS($K$3:$K$10,T$17) + COUNTIFS($L$3:$L$10,$A22)*COUNTIFS($L$3:$L$10,T$17) + COUNTIFS($M$3:$M$10,$A22)*COUNTIFS($M$3:$M$10,T$17) + COUNTIFS($N$3:$N$10,$A22)*COUNTIFS($N$3:$N$10,T$17) + COUNTIFS($O$3:$O$10,$A22)*COUNTIFS($O$3:$O$10,T$17) + COUNTIFS($P$3:$P$10,$A22)*COUNTIFS($P$3:$P$10,T$17) + COUNTIFS($Q$3:$Q$10,$A22)*COUNTIFS($Q$3:$Q$10,T$17) + COUNTIFS($R$3:$R$10,$A22)*COUNTIFS($R$3:$R$10,T$17) + COUNTIFS($S$3:$S$10,$A22)*COUNTIFS($S$3:$S$10,T$17) + COUNTIFS($T$3:$T$10,$A22)*COUNTIFS($T$3:$T$10,T$17) + COUNTIFS($U$3:$U$10,$A22)*COUNTIFS($U$3:$U$10,T$17) + COUNTIFS($V$3:$V$10,$A22)*COUNTIFS($V$3:$V$10,T$17) + COUNTIFS($W$3:$W$10,$A22)*COUNTIFS($W$3:$W$10,T$17) + COUNTIFS($X$3:$X$10,$A22)*COUNTIFS($X$3:$X$10,T$17) + COUNTIFS($Y$3:$Y$10,$A22)*COUNTIFS($Y$3:$Y$10,T$17) -> 0 | W22: 4 | AA22: 4 | AB22: =COUNTIF($B$18:$T$36,AA22)/2 -> 13
A23: 6 | B23: =COUNTIFS($B$3:$B$10,$A23)*COUNTIFS($B$3:$B$10,B$17) + COUNTIFS($C$3:$C$10,$A23)*COUNTIFS($C$3:$C$10,B$17) + COUNTIFS($D$3:$D$10,$A23)*COUNTIFS($D$3:$D$10,B$17) + COUNTIFS($E$3:$E$10,$A23)*COUNTIFS($E$3:$E$10,B$17) + COUNTIFS($F$3:$F$10,$A23)*COUNTIFS($F$3:$F$10,B$17) + COUNTIFS($G$3:$G$10,$A23)*COUNTIFS($G$3:$G$10,B$17) + COUNTIFS($H$3:$H$10,$A23)*COUNTIFS($H$3:$H$10,B$17) + COUNTIFS($I$3:$I$10,$A23)*COUNTIFS($I$3:$I$10,B$17) + COUNTIFS($J$3:$J$10,$A23)*COUNTIFS($J$3:$J$10,B$17) + COUNTIFS($K$3:$K$10,$A23)*COUNTIFS($K$3:$K$10,B$17) + COUNTIFS($L$3:$L$10,$A23)*COUNTIFS($L$3:$L$10,B$17) + COUNTIFS($M$3:$M$10,$A23)*COUNTIFS($M$3:$M$10,B$17) + COUNTIFS($N$3:$N$10,$A23)*COUNTIFS($N$3:$N$10,B$17) + COUNTIFS($O$3:$O$10,$A23)*COUNTIFS($O$3:$O$10,B$17) + COUNTIFS($P$3:$P$10,$A23)*COUNTIFS($P$3:$P$10,B$17) + COUNTIFS($Q$3:$Q$10,$A23)*COUNTIFS($Q$3:$Q$10,B$17) + COUNTIFS($R$3:$R$10,$A23)*COUNTIFS($R$3:$R$10,B$17) + COUNTIFS($S$3:$S$10,$A23)*COUNTIFS($S$3:$S$10,B$17) + COUNTIFS($T$3:$T$10,$A23)*COUNTIFS($T$3:$T$10,B$17) + COUNTIFS($U$3:$U$10,$A23)*COUNTIFS($U$3:$U$10,B$17) + COUNTIFS($V$3:$V$10,$A23)*COUNTIFS($V$3:$V$10,B$17) + COUNTIFS($W$3:$W$10,$A23)*COUNTIFS($W$3:$W$10,B$17) + COUNTIFS($X$3:$X$10,$A23)*COUNTIFS($X$3:$X$10,B$17) + COUNTIFS($Y$3:$Y$10,$A23)*COUNTIFS($Y$3:$Y$10,B$17) -> 7 | C23: =COUNTIFS($B$3:$B$10,$A23)*COUNTIFS($B$3:$B$10,C$17) + COUNTIFS($C$3:$C$10,$A23)*COUNTIFS($C$3:$C$10,C$17) + COUNTIFS($D$3:$D$10,$A23)*COUNTIFS($D$3:$D$10,C$17) + COUNTIFS($E$3:$E$10,$A23)*COUNTIFS($E$3:$E$10,C$17) + COUNTIFS($F$3:$F$10,$A23)*COUNTIFS($F$3:$F$10,C$17) + COUNTIFS($G$3:$G$10,$A23)*COUNTIFS($G$3:$G$10,C$17) + COUNTIFS($H$3:$H$10,$A23)*COUNTIFS($H$3:$H$10,C$17) + COUNTIFS($I$3:$I$10,$A23)*COUNTIFS($I$3:$I$10,C$17) + COUNTIFS($J$3:$J$10,$A23)*COUNTIFS($J$3:$J$10,C$17) + COUNTIFS($K$3:$K$10,$A23)*COUNTIFS($K$3:$K$10,C$17) + COUNTIFS($L$3:$L$10,$A23)*COUNTIFS($L$3:$L$10,C$17) + COUNTIFS($M$3:$M$10,$A23)*COUNTIFS($M$3:$M$10,C$17) + COUNTIFS($N$3:$N$10,$A23)*COUNTIFS($N$3:$N$10,C$17) + COUNTIFS($O$3:$O$10,$A23)*COUNTIFS($O$3:$O$10,C$17) + COUNTIFS($P$3:$P$10,$A23)*COUNTIFS($P$3:$P$10,C$17) + COUNTIFS($Q$3:$Q$10,$A23)*COUNTIFS($Q$3:$Q$10,C$17) + COUNTIFS($R$3:$R$10,$A23)*COUNTIFS($R$3:$R$10,C$17) + COUNTIFS($S$3:$S$10,$A23)*COUNTIFS($S$3:$S$10,C$17) + COUNTIFS($T$3:$T$10,$A23)*COUNTIFS($T$3:$T$10,C$17) + COUNTIFS($U$3:$U$10,$A23)*COUNTIFS($U$3:$U$10,C$17) + COUNTIFS($V$3:$V$10,$A23)*COUNTIFS($V$3:$V$10,C$17) + COUNTIFS($W$3:$W$10,$A23)*COUNTIFS($W$3:$W$10,C$17) + COUNTIFS($X$3:$X$10,$A23)*COUNTIFS($X$3:$X$10,C$17) + COUNTIFS($Y$3:$Y$10,$A23)*COUNTIFS($Y$3:$Y$10,C$17) -> 1 | D23: =COUNTIFS($B$3:$B$10,$A23)*COUNTIFS($B$3:$B$10,D$17) + COUNTIFS($C$3:$C$10,$A23)*COUNTIFS($C$3:$C$10,D$17) + COUNTIFS($D$3:$D$10,$A23)*COUNTIFS($D$3:$D$10,D$17) + COUNTIFS($E$3:$E$10,$A23)*COUNTIFS($E$3:$E$10,D$17) + COUNTIFS($F$3:$F$10,$A23)*COUNTIFS($F$3:$F$10,D$17) + COUNTIFS($G$3:$G$10,$A23)*COUNTIFS($G$3:$G$10,D$17) + COUNTIFS($H$3:$H$10,$A23)*COUNTIFS($H$3:$H$10,D$17) + COUNTIFS($I$3:$I$10,$A23)*COUNTIFS($I$3:$I$10,D$17) + COUNTIFS($J$3:$J$10,$A23)*COUNTIFS($J$3:$J$10,D$17) + COUNTIFS($K$3:$K$10,$A23)*COUNTIFS($K$3:$K$10,D$17) + COUNTIFS($L$3:$L$10,$A23)*COUNTIFS($L$3:$L$10,D$17) + COUNTIFS($M$3:$M$10,$A23)*COUNTIFS($M$3:$M$10,D$17) + COUNTIFS($N$3:$N$10,$A23)*COUNTIFS($N$3:$N$10,D$17) + COUNTIFS($O$3:$O$10,$A23)*COUNTIFS($O$3:$O$10,D$17) + COUNTIFS($P$3:$P$10,$A23)*COUNTIFS($P$3:$P$10,D$17) + COUNTIFS($Q$3:$Q$10,$A23)*COUNTIFS($Q$3:$Q$10,D$17) + COUNTIFS($R$3:$R$10,$A23)*COUNTIFS($R$3:$R$10,D$17) + COUNTIFS($S$3:$S$10,$A23)*COUNTIFS($S$3:$S$10,D$17) + COUNTIFS($T$3:$T$10,$A23)*COUNTIFS($T$3:$T$10,D$17) + COUNTIFS($U$3:$U$10,$A23)*COUNTIFS($U$3:$U$10,D$17) + COUNTIFS($V$3:$V$10,$A23)*COUNTIFS($V$3:$V$10,D$17) + COUNTIFS($W$3:$W$10,$A23)*COUNTIFS($W$3:$W$10,D$17) + COUNTIFS($X$3:$X$10,$A23)*COUNTIFS($X$3:$X$10,D$17) + COUNTIFS($Y$3:$Y$10,$A23)*COUNTIFS($Y$3:$Y$10,D$17) -> 3 | E23: =COUNTIFS($B$3:$B$10,$A23)*COUNTIFS($B$3:$B$10,E$17) + COUNTIFS($C$3:$C$10,$A23)*COUNTIFS($C$3:$C$10,E$17) + COUNTIFS($D$3:$D$10,$A23)*COUNTIFS($D$3:$D$10,E$17) + COUNTIFS($E$3:$E$10,$A23)*COUNTIFS($E$3:$E$10,E$17) + COUNTIFS($F$3:$F$10,$A23)*COUNTIFS($F$3:$F$10,E$17) + COUNTIFS($G$3:$G$10,$A23)*COUNTIFS($G$3:$G$10,E$17) + COUNTIFS($H$3:$H$10,$A23)*COUNTIFS($H$3:$H$10,E$17) + COUNTIFS($I$3:$I$10,$A23)*COUNTIFS($I$3:$I$10,E$17) + COUNTIFS($J$3:$J$10,$A23)*COUNTIFS($J$3:$J$10,E$17) + COUNTIFS($K$3:$K$10,$A23)*COUNTIFS($K$3:$K$10,E$17) + COUNTIFS($L$3:$L$10,$A23)*COUNTIFS($L$3:$L$10,E$17) + COUNTIFS($M$3:$M$10,$A23)*COUNTIFS($M$3:$M$10,E$17) + COUNTIFS($N$3:$N$10,$A23)*COUNTIFS($N$3:$N$10,E$17) + COUNTIFS($O$3:$O$10,$A23)*COUNTIFS($O$3:$O$10,E$17) + COUNTIFS($P$3:$P$10,$A23)*COUNTIFS($P$3:$P$10,E$17) + COUNTIFS($Q$3:$Q$10,$A23)*COUNTIFS($Q$3:$Q$10,E$17) + COUNTIFS($R$3:$R$10,$A23)*COUNTIFS($R$3:$R$10,E$17) + COUNTIFS($S$3:$S$10,$A23)*COUNTIFS($S$3:$S$10,E$17) + COUNTIFS($T$3:$T$10,$A23)*COUNTIFS($T$3:$T$10,E$17) + COUNTIFS($U$3:$U$10,$A23)*COUNTIFS($U$3:$U$10,E$17) + COUNTIFS($V$3:$V$10,$A23)*COUNTIFS($V$3:$V$10,E$17) + COUNTIFS($W$3:$W$10,$A23)*COUNTIFS($W$3:$W$10,E$17) + COUNTIFS($X$3:$X$10,$A23)*COUNTIFS($X$3:$X$10,E$17) + COUNTIFS($Y$3:$Y$10,$A23)*COUNTIFS($Y$3:$Y$10,E$17) -> 5 | F23: =COUNTIFS($B$3:$B$10,$A23)*COUNTIFS($B$3:$B$10,F$17) + COUNTIFS($C$3:$C$10,$A23)*COUNTIFS($C$3:$C$10,F$17) + COUNTIFS($D$3:$D$10,$A23)*COUNTIFS($D$3:$D$10,F$17) + COUNTIFS($E$3:$E$10,$A23)*COUNTIFS($E$3:$E$10,F$17) + COUNTIFS($F$3:$F$10,$A23)*COUNTIFS($F$3:$F$10,F$17) + COUNTIFS($G$3:$G$10,$A23)*COUNTIFS($G$3:$G$10,F$17) + COUNTIFS($H$3:$H$10,$A23)*COUNTIFS($H$3:$H$10,F$17) + COUNTIFS($I$3:$I$10,$A23)*COUNTIFS($I$3:$I$10,F$17) + COUNTIFS($J$3:$J$10,$A23)*COUNTIFS($J$3:$J$10,F$17) + COUNTIFS($K$3:$K$10,$A23)*COUNTIFS($K$3:$K$10,F$17) + COUNTIFS($L$3:$L$10,$A23)*COUNTIFS($L$3:$L$10,F$17) + COUNTIFS($M$3:$M$10,$A23)*COUNTIFS($M$3:$M$10,F$17) + COUNTIFS($N$3:$N$10,$A23)*COUNTIFS($N$3:$N$10,F$17) + COUNTIFS($O$3:$O$10,$A23)*COUNTIFS($O$3:$O$10,F$17) + COUNTIFS($P$3:$P$10,$A23)*COUNTIFS($P$3:$P$10,F$17) + COUNTIFS($Q$3:$Q$10,$A23)*COUNTIFS($Q$3:$Q$10,F$17) + COUNTIFS($R$3:$R$10,$A23)*COUNTIFS($R$3:$R$10,F$17) + COUNTIFS($S$3:$S$10,$A23)*COUNTIFS($S$3:$S$10,F$17) + COUNTIFS($T$3:$T$10,$A23)*COUNTIFS($T$3:$T$10,F$17) + COUNTIFS($U$3:$U$10,$A23)*COUNTIFS($U$3:$U$10,F$17) + COUNTIFS($V$3:$V$10,$A23)*COUNTIFS($V$3:$V$10,F$17) + COUNTIFS($W$3:$W$10,$A23)*COUNTIFS($W$3:$W$10,F$17) + COUNTIFS($X$3:$X$10,$A23)*COUNTIFS($X$3:$X$10,F$17) + COUNTIFS($Y$3:$Y$10,$A23)*COUNTIFS($Y$3:$Y$10,F$17) -> 4 | G23: =COUNTIFS($B$3:$B$10,$A23)*COUNTIFS($B$3:$B$10,G$17) + COUNTIFS($C$3:$C$10,$A23)*COUNTIFS($C$3:$C$10,G$17) + COUNTIFS($D$3:$D$10,$A23)*COUNTIFS($D$3:$D$10,G$17) + COUNTIFS($E$3:$E$10,$A23)*COUNTIFS($E$3:$E$10,G$17) + COUNTIFS($F$3:$F$10,$A23)*COUNTIFS($F$3:$F$10,G$17) + COUNTIFS($G$3:$G$10,$A23)*COUNTIFS($G$3:$G$10,G$17) + COUNTIFS($H$3:$H$10,$A23)*COUNTIFS($H$3:$H$10,G$17) + COUNTIFS($I$3:$I$10,$A23)*COUNTIFS($I$3:$I$10,G$17) + COUNTIFS($J$3:$J$10,$A23)*COUNTIFS($J$3:$J$10,G$17) + COUNTIFS($K$3:$K$10,$A23)*COUNTIFS($K$3:$K$10,G$17) + COUNTIFS($L$3:$L$10,$A23)*COUNTIFS($L$3:$L$10,G$17) + COUNTIFS($M$3:$M$10,$A23)*COUNTIFS($M$3:$M$10,G$17) + COUNTIFS($N$3:$N$10,$A23)*COUNTIFS($N$3:$N$10,G$17) + COUNTIFS($O$3:$O$10,$A23)*COUNTIFS($O$3:$O$10,G$17) + COUNTIFS($P$3:$P$10,$A23)*COUNTIFS($P$3:$P$10,G$17) + COUNTIFS($Q$3:$Q$10,$A23)*COUNTIFS($Q$3:$Q$10,G$17) + COUNTIFS($R$3:$R$10,$A23)*COUNTIFS($R$3:$R$10,G$17) + COUNTIFS($S$3:$S$10,$A23)*COUNTIFS($S$3:$S$10,G$17) + COUNTIFS($T$3:$T$10,$A23)*COUNTIFS($T$3:$T$10,G$17) + COUNTIFS($U$3:$U$10,$A23)*COUNTIFS($U$3:$U$10,G$17) + COUNTIFS($V$3:$V$10,$A23)*COUNTIFS($V$3:$V$10,G$17) + COUNTIFS($W$3:$W$10,$A23)*COUNTIFS($W$3:$W$10,G$17) + COUNTIFS($X$3:$X$10,$A23)*COUNTIFS($X$3:$X$10,G$17) + COUNTIFS($Y$3:$Y$10,$A23)*COUNTIFS($Y$3:$Y$10,G$17) -> 8 | H23: =COUNTIFS($B$3:$B$10,$A23)*COUNTIFS($B$3:$B$10,H$17) + COUNTIFS($C$3:$C$10,$A23)*COUNTIFS($C$3:$C$10,H$17) + COUNTIFS($D$3:$D$10,$A23)*COUNTIFS($D$3:$D$10,H$17) + COUNTIFS($E$3:$E$10,$A23)*COUNTIFS($E$3:$E$10,H$17) + COUNTIFS($F$3:$F$10,$A23)*COUNTIFS($F$3:$F$10,H$17) + COUNTIFS($G$3:$G$10,$A23)*COUNTIFS($G$3:$G$10,H$17) + COUNTIFS($H$3:$H$10,$A23)*COUNTIFS($H$3:$H$10,H$17) + COUNTIFS($I$3:$I$10,$A23)*COUNTIFS($I$3:$I$10,H$17) + COUNTIFS($J$3:$J$10,$A23)*COUNTIFS($J$3:$J$10,H$17) + COUNTIFS($K$3:$K$10,$A23)*COUNTIFS($K$3:$K$10,H$17) + COUNTIFS($L$3:$L$10,$A23)*COUNTIFS($L$3:$L$10,H$17) + COUNTIFS($M$3:$M$10,$A23)*COUNTIFS($M$3:$M$10,H$17) + COUNTIFS($N$3:$N$10,$A23)*COUNTIFS($N$3:$N$10,H$17) + COUNTIFS($O$3:$O$10,$A23)*COUNTIFS($O$3:$O$10,H$17) + COUNTIFS($P$3:$P$10,$A23)*COUNTIFS($P$3:$P$10,H$17) + COUNTIFS($Q$3:$Q$10,$A23)*COUNTIFS($Q$3:$Q$10,H$17) + COUNTIFS($R$3:$R$10,$A23)*COUNTIFS($R$3:$R$10,H$17) + COUNTIFS($S$3:$S$10,$A23)*COUNTIFS($S$3:$S$10,H$17) + COUNTIFS($T$3:$T$10,$A23)*COUNTIFS($T$3:$T$10,H$17) + COUNTIFS($U$3:$U$10,$A23)*COUNTIFS($U$3:$U$10,H$17) + COUNTIFS($V$3:$V$10,$A23)*COUNTIFS($V$3:$V$10,H$17) + COUNTIFS($W$3:$W$10,$A23)*COUNTIFS($W$3:$W$10,H$17) + COUNTIFS($X$3:$X$10,$A23)*COUNTIFS($X$3:$X$10,H$17) + COUNTIFS($Y$3:$Y$10,$A23)*COUNTIFS($Y$3:$Y$10,H$17) -> 2 | I23: =COUNTIFS($B$3:$B$10,$A23)*COUNTIFS($B$3:$B$10,I$17) + COUNTIFS($C$3:$C$10,$A23)*COUNTIFS($C$3:$C$10,I$17) + COUNTIFS($D$3:$D$10,$A23)*COUNTIFS($D$3:$D$10,I$17) + COUNTIFS($E$3:$E$10,$A23)*COUNTIFS($E$3:$E$10,I$17) + COUNTIFS($F$3:$F$10,$A23)*COUNTIFS($F$3:$F$10,I$17) + COUNTIFS($G$3:$G$10,$A23)*COUNTIFS($G$3:$G$10,I$17) + COUNTIFS($H$3:$H$10,$A23)*COUNTIFS($H$3:$H$10,I$17) + COUNTIFS($I$3:$I$10,$A23)*COUNTIFS($I$3:$I$10,I$17) + COUNTIFS($J$3:$J$10,$A23)*COUNTIFS($J$3:$J$10,I$17) + COUNTIFS($K$3:$K$10,$A23)*COUNTIFS($K$3:$K$10,I$17) + COUNTIFS($L$3:$L$10,$A23)*COUNTIFS($L$3:$L$10,I$17) + COUNTIFS($M$3:$M$10,$A23)*COUNTIFS($M$3:$M$10,I$17) + COUNTIFS($N$3:$N$10,$A23)*COUNTIFS($N$3:$N$10,I$17) + COUNTIFS($O$3:$O$10,$A23)*COUNTIFS($O$3:$O$10,I$17) + COUNTIFS($P$3:$P$10,$A23)*COUNTIFS($P$3:$P$10,I$17) + COUNTIFS($Q$3:$Q$10,$A23)*COUNTIFS($Q$3:$Q$10,I$17) + COUNTIFS($R$3:$R$10,$A23)*COUNTIFS($R$3:$R$10,I$17) + COUNTIFS($S$3:$S$10,$A23)*COUNTIFS($S$3:$S$10,I$17) + COUNTIFS($T$3:$T$10,$A23)*COUNTIFS($T$3:$T$10,I$17) + COUNTIFS($U$3:$U$10,$A23)*COUNTIFS($U$3:$U$10,I$17) + COUNTIFS($V$3:$V$10,$A23)*COUNTIFS($V$3:$V$10,I$17) + COUNTIFS($W$3:$W$10,$A23)*COUNTIFS($W$3:$W$10,I$17) + COUNTIFS($X$3:$X$10,$A23)*COUNTIFS($X$3:$X$10,I$17) + COUNTIFS($Y$3:$Y$10,$A23)*COUNTIFS($Y$3:$Y$10,I$17) -> 6 | ... T23: =COUNTIFS($B$3:$B$10,$A23)*COUNTIFS($B$3:$B$10,T$17) + COUNTIFS($C$3:$C$10,$A23)*COUNTIFS($C$3:$C$10,T$17) + COUNTIFS($D$3:$D$10,$A23)*COUNTIFS($D$3:$D$10,T$17) + COUNTIFS($E$3:$E$10,$A23)*COUNTIFS($E$3:$E$10,T$17) + COUNTIFS($F$3:$F$10,$A23)*COUNTIFS($F$3:$F$10,T$17) + COUNTIFS($G$3:$G$10,$A23)*COUNTIFS($G$3:$G$10,T$17) + COUNTIFS($H$3:$H$10,$A23)*COUNTIFS($H$3:$H$10,T$17) + COUNTIFS($I$3:$I$10,$A23)*COUNTIFS($I$3:$I$10,T$17) + COUNTIFS($J$3:$J$10,$A23)*COUNTIFS($J$3:$J$10,T$17) + COUNTIFS($K$3:$K$10,$A23)*COUNTIFS($K$3:$K$10,T$17) + COUNTIFS($L$3:$L$10,$A23)*COUNTIFS($L$3:$L$10,T$17) + COUNTIFS($M$3:$M$10,$A23)*COUNTIFS($M$3:$M$10,T$17) + COUNTIFS($N$3:$N$10,$A23)*COUNTIFS($N$3:$N$10,T$17) + COUNTIFS($O$3:$O$10,$A23)*COUNTIFS($O$3:$O$10,T$17) + COUNTIFS($P$3:$P$10,$A23)*COUNTIFS($P$3:$P$10,T$17) + COUNTIFS($Q$3:$Q$10,$A23)*COUNTIFS($Q$3:$Q$10,T$17) + COUNTIFS($R$3:$R$10,$A23)*COUNTIFS($R$3:$R$10,T$17) + COUNTIFS($S$3:$S$10,$A23)*COUNTIFS($S$3:$S$10,T$17) + COUNTIFS($T$3:$T$10,$A23)*COUNTIFS($T$3:$T$10,T$17) + COUNTIFS($U$3:$U$10,$A23)*COUNTIFS($U$3:$U$10,T$17) + COUNTIFS($V$3:$V$10,$A23)*COUNTIFS($V$3:$V$10,T$17) + COUNTIFS($W$3:$W$10,$A23)*COUNTIFS($W$3:$W$10,T$17) + COUNTIFS($X$3:$X$10,$A23)*COUNTIFS($X$3:$X$10,T$17) + COUNTIFS($Y$3:$Y$10,$A23)*COUNTIFS($Y$3:$Y$10,T$17) -> 0 | W23: 3 | AA23: 3 | AB23: =COUNTIF($B$18:$T$36,AA23)/2 -> 13
A24: 7 | B24: =COUNTIFS($B$3:$B$10,$A24)*COUNTIFS($B$3:$B$10,B$17) + COUNTIFS($C$3:$C$10,$A24)*COUNTIFS($C$3:$C$10,B$17) + COUNTIFS($D$3:$D$10,$A24)*COUNTIFS($D$3:$D$10,B$17) + COUNTIFS($E$3:$E$10,$A24)*COUNTIFS($E$3:$E$10,B$17) + COUNTIFS($F$3:$F$10,$A24)*COUNTIFS($F$3:$F$10,B$17) + COUNTIFS($G$3:$G$10,$A24)*COUNTIFS($G$3:$G$10,B$17) + COUNTIFS($H$3:$H$10,$A24)*COUNTIFS($H$3:$H$10,B$17) + COUNTIFS($I$3:$I$10,$A24)*COUNTIFS($I$3:$I$10,B$17) + COUNTIFS($J$3:$J$10,$A24)*COUNTIFS($J$3:$J$10,B$17) + COUNTIFS($K$3:$K$10,$A24)*COUNTIFS($K$3:$K$10,B$17) + COUNTIFS($L$3:$L$10,$A24)*COUNTIFS($L$3:$L$10,B$17) + COUNTIFS($M$3:$M$10,$A24)*COUNTIFS($M$3:$M$10,B$17) + COUNTIFS($N$3:$N$10,$A24)*COUNTIFS($N$3:$N$10,B$17) + COUNTIFS($O$3:$O$10,$A24)*COUNTIFS($O$3:$O$10,B$17) + COUNTIFS($P$3:$P$10,$A24)*COUNTIFS($P$3:$P$10,B$17) + COUNTIFS($Q$3:$Q$10,$A24)*COUNTIFS($Q$3:$Q$10,B$17) + COUNTIFS($R$3:$R$10,$A24)*COUNTIFS($R$3:$R$10,B$17) + COUNTIFS($S$3:$S$10,$A24)*COUNTIFS($S$3:$S$10,B$17) + COUNTIFS($T$3:$T$10,$A24)*COUNTIFS($T$3:$T$10,B$17) + COUNTIFS($U$3:$U$10,$A24)*COUNTIFS($U$3:$U$10,B$17) + COUNTIFS($V$3:$V$10,$A24)*COUNTIFS($V$3:$V$10,B$17) + COUNTIFS($W$3:$W$10,$A24)*COUNTIFS($W$3:$W$10,B$17) + COUNTIFS($X$3:$X$10,$A24)*COUNTIFS($X$3:$X$10,B$17) + COUNTIFS($Y$3:$Y$10,$A24)*COUNTIFS($Y$3:$Y$10,B$17) -> 3 | C24: =COUNTIFS($B$3:$B$10,$A24)*COUNTIFS($B$3:$B$10,C$17) + COUNTIFS($C$3:$C$10,$A24)*COUNTIFS($C$3:$C$10,C$17) + COUNTIFS($D$3:$D$10,$A24)*COUNTIFS($D$3:$D$10,C$17) + COUNTIFS($E$3:$E$10,$A24)*COUNTIFS($E$3:$E$10,C$17) + COUNTIFS($F$3:$F$10,$A24)*COUNTIFS($F$3:$F$10,C$17) + COUNTIFS($G$3:$G$10,$A24)*COUNTIFS($G$3:$G$10,C$17) + COUNTIFS($H$3:$H$10,$A24)*COUNTIFS($H$3:$H$10,C$17) + COUNTIFS($I$3:$I$10,$A24)*COUNTIFS($I$3:$I$10,C$17) + COUNTIFS($J$3:$J$10,$A24)*COUNTIFS($J$3:$J$10,C$17) + COUNTIFS($K$3:$K$10,$A24)*COUNTIFS($K$3:$K$10,C$17) + COUNTIFS($L$3:$L$10,$A24)*COUNTIFS($L$3:$L$10,C$17) + COUNTIFS($M$3:$M$10,$A24)*COUNTIFS($M$3:$M$10,C$17) + COUNTIFS($N$3:$N$10,$A24)*COUNTIFS($N$3:$N$10,C$17) + COUNTIFS($O$3:$O$10,$A24)*COUNTIFS($O$3:$O$10,C$17) + COUNTIFS($P$3:$P$10,$A24)*COUNTIFS($P$3:$P$10,C$17) + COUNTIFS($Q$3:$Q$10,$A24)*COUNTIFS($Q$3:$Q$10,C$17) + COUNTIFS($R$3:$R$10,$A24)*COUNTIFS($R$3:$R$10,C$17) + COUNTIFS($S$3:$S$10,$A24)*COUNTIFS($S$3:$S$10,C$17) + COUNTIFS($T$3:$T$10,$A24)*COUNTIFS($T$3:$T$10,C$17) + COUNTIFS($U$3:$U$10,$A24)*COUNTIFS($U$3:$U$10,C$17) + COUNTIFS($V$3:$V$10,$A24)*COUNTIFS($V$3:$V$10,C$17) + COUNTIFS($W$3:$W$10,$A24)*COUNTIFS($W$3:$W$10,C$17) + COUNTIFS($X$3:$X$10,$A24)*COUNTIFS($X$3:$X$10,C$17) + COUNTIFS($Y$3:$Y$10,$A24)*COUNTIFS($Y$3:$Y$10,C$17) -> 5 | D24: =COUNTIFS($B$3:$B$10,$A24)*COUNTIFS($B$3:$B$10,D$17) + COUNTIFS($C$3:$C$10,$A24)*COUNTIFS($C$3:$C$10,D$17) + COUNTIFS($D$3:$D$10,$A24)*COUNTIFS($D$3:$D$10,D$17) + COUNTIFS($E$3:$E$10,$A24)*COUNTIFS($E$3:$E$10,D$17) + COUNTIFS($F$3:$F$10,$A24)*COUNTIFS($F$3:$F$10,D$17) + COUNTIFS($G$3:$G$10,$A24)*COUNTIFS($G$3:$G$10,D$17) + COUNTIFS($H$3:$H$10,$A24)*COUNTIFS($H$3:$H$10,D$17) + COUNTIFS($I$3:$I$10,$A24)*COUNTIFS($I$3:$I$10,D$17) + COUNTIFS($J$3:$J$10,$A24)*COUNTIFS($J$3:$J$10,D$17) + COUNTIFS($K$3:$K$10,$A24)*COUNTIFS($K$3:$K$10,D$17) + COUNTIFS($L$3:$L$10,$A24)*COUNTIFS($L$3:$L$10,D$17) + COUNTIFS($M$3:$M$10,$A24)*COUNTIFS($M$3:$M$10,D$17) + COUNTIFS($N$3:$N$10,$A24)*COUNTIFS($N$3:$N$10,D$17) + COUNTIFS($O$3:$O$10,$A24)*COUNTIFS($O$3:$O$10,D$17) + COUNTIFS($P$3:$P$10,$A24)*COUNTIFS($P$3:$P$10,D$17) + COUNTIFS($Q$3:$Q$10,$A24)*COUNTIFS($Q$3:$Q$10,D$17) + COUNTIFS($R$3:$R$10,$A24)*COUNTIFS($R$3:$R$10,D$17) + COUNTIFS($S$3:$S$10,$A24)*COUNTIFS($S$3:$S$10,D$17) + COUNTIFS($T$3:$T$10,$A24)*COUNTIFS($T$3:$T$10,D$17) + COUNTIFS($U$3:$U$10,$A24)*COUNTIFS($U$3:$U$10,D$17) + COUNTIFS($V$3:$V$10,$A24)*COUNTIFS($V$3:$V$10,D$17) + COUNTIFS($W$3:$W$10,$A24)*COUNTIFS($W$3:$W$10,D$17) + COUNTIFS($X$3:$X$10,$A24)*COUNTIFS($X$3:$X$10,D$17) + COUNTIFS($Y$3:$Y$10,$A24)*COUNTIFS($Y$3:$Y$10,D$17) -> 5 | E24: =COUNTIFS($B$3:$B$10,$A24)*COUNTIFS($B$3:$B$10,E$17) + COUNTIFS($C$3:$C$10,$A24)*COUNTIFS($C$3:$C$10,E$17) + COUNTIFS($D$3:$D$10,$A24)*COUNTIFS($D$3:$D$10,E$17) + COUNTIFS($E$3:$E$10,$A24)*COUNTIFS($E$3:$E$10,E$17) + COUNTIFS($F$3:$F$10,$A24)*COUNTIFS($F$3:$F$10,E$17) + COUNTIFS($G$3:$G$10,$A24)*COUNTIFS($G$3:$G$10,E$17) + COUNTIFS($H$3:$H$10,$A24)*COUNTIFS($H$3:$H$10,E$17) + COUNTIFS($I$3:$I$10,$A24)*COUNTIFS($I$3:$I$10,E$17) + COUNTIFS($J$3:$J$10,$A24)*COUNTIFS($J$3:$J$10,E$17) + COUNTIFS($K$3:$K$10,$A24)*COUNTIFS($K$3:$K$10,E$17) + COUNTIFS($L$3:$L$10,$A24)*COUNTIFS($L$3:$L$10,E$17) + COUNTIFS($M$3:$M$10,$A24)*COUNTIFS($M$3:$M$10,E$17) + COUNTIFS($N$3:$N$10,$A24)*COUNTIFS($N$3:$N$10,E$17) + COUNTIFS($O$3:$O$10,$A24)*COUNTIFS($O$3:$O$10,E$17) + COUNTIFS($P$3:$P$10,$A24)*COUNTIFS($P$3:$P$10,E$17) + COUNTIFS($Q$3:$Q$10,$A24)*COUNTIFS($Q$3:$Q$10,E$17) + COUNTIFS($R$3:$R$10,$A24)*COUNTIFS($R$3:$R$10,E$17) + COUNTIFS($S$3:$S$10,$A24)*COUNTIFS($S$3:$S$10,E$17) + COUNTIFS($T$3:$T$10,$A24)*COUNTIFS($T$3:$T$10,E$17) + COUNTIFS($U$3:$U$10,$A24)*COUNTIFS($U$3:$U$10,E$17) + COUNTIFS($V$3:$V$10,$A24)*COUNTIFS($V$3:$V$10,E$17) + COUNTIFS($W$3:$W$10,$A24)*COUNTIFS($W$3:$W$10,E$17) + COUNTIFS($X$3:$X$10,$A24)*COUNTIFS($X$3:$X$10,E$17) + COUNTIFS($Y$3:$Y$10,$A24)*COUNTIFS($Y$3:$Y$10,E$17) -> 3 | F24: =COUNTIFS($B$3:$B$10,$A24)*COUNTIFS($B$3:$B$10,F$17) + COUNTIFS($C$3:$C$10,$A24)*COUNTIFS($C$3:$C$10,F$17) + COUNTIFS($D$3:$D$10,$A24)*COUNTIFS($D$3:$D$10,F$17) + COUNTIFS($E$3:$E$10,$A24)*COUNTIFS($E$3:$E$10,F$17) + COUNTIFS($F$3:$F$10,$A24)*COUNTIFS($F$3:$F$10,F$17) + COUNTIFS($G$3:$G$10,$A24)*COUNTIFS($G$3:$G$10,F$17) + COUNTIFS($H$3:$H$10,$A24)*COUNTIFS($H$3:$H$10,F$17) + COUNTIFS($I$3:$I$10,$A24)*COUNTIFS($I$3:$I$10,F$17) + COUNTIFS($J$3:$J$10,$A24)*COUNTIFS($J$3:$J$10,F$17) + COUNTIFS($K$3:$K$10,$A24)*COUNTIFS($K$3:$K$10,F$17) + COUNTIFS($L$3:$L$10,$A24)*COUNTIFS($L$3:$L$10,F$17) + COUNTIFS($M$3:$M$10,$A24)*COUNTIFS($M$3:$M$10,F$17) + COUNTIFS($N$3:$N$10,$A24)*COUNTIFS($N$3:$N$10,F$17) + COUNTIFS($O$3:$O$10,$A24)*COUNTIFS($O$3:$O$10,F$17) + COUNTIFS($P$3:$P$10,$A24)*COUNTIFS($P$3:$P$10,F$17) + COUNTIFS($Q$3:$Q$10,$A24)*COUNTIFS($Q$3:$Q$10,F$17) + COUNTIFS($R$3:$R$10,$A24)*COUNTIFS($R$3:$R$10,F$17) + COUNTIFS($S$3:$S$10,$A24)*COUNTIFS($S$3:$S$10,F$17) + COUNTIFS($T$3:$T$10,$A24)*COUNTIFS($T$3:$T$10,F$17) + COUNTIFS($U$3:$U$10,$A24)*COUNTIFS($U$3:$U$10,F$17) + COUNTIFS($V$3:$V$10,$A24)*COUNTIFS($V$3:$V$10,F$17) + COUNTIFS($W$3:$W$10,$A24)*COUNTIFS($W$3:$W$10,F$17) + COUNTIFS($X$3:$X$10,$A24)*COUNTIFS($X$3:$X$10,F$17) + COUNTIFS($Y$3:$Y$10,$A24)*COUNTIFS($Y$3:$Y$10,F$17) -> 6 | G24: =COUNTIFS($B$3:$B$10,$A24)*COUNTIFS($B$3:$B$10,G$17) + COUNTIFS($C$3:$C$10,$A24)*COUNTIFS($C$3:$C$10,G$17) + COUNTIFS($D$3:$D$10,$A24)*COUNTIFS($D$3:$D$10,G$17) + COUNTIFS($E$3:$E$10,$A24)*COUNTIFS($E$3:$E$10,G$17) + COUNTIFS($F$3:$F$10,$A24)*COUNTIFS($F$3:$F$10,G$17) + COUNTIFS($G$3:$G$10,$A24)*COUNTIFS($G$3:$G$10,G$17) + COUNTIFS($H$3:$H$10,$A24)*COUNTIFS($H$3:$H$10,G$17) + COUNTIFS($I$3:$I$10,$A24)*COUNTIFS($I$3:$I$10,G$17) + COUNTIFS($J$3:$J$10,$A24)*COUNTIFS($J$3:$J$10,G$17) + COUNTIFS($K$3:$K$10,$A24)*COUNTIFS($K$3:$K$10,G$17) + COUNTIFS($L$3:$L$10,$A24)*COUNTIFS($L$3:$L$10,G$17) + COUNTIFS($M$3:$M$10,$A24)*COUNTIFS($M$3:$M$10,G$17) + COUNTIFS($N$3:$N$10,$A24)*COUNTIFS($N$3:$N$10,G$17) + COUNTIFS($O$3:$O$10,$A24)*COUNTIFS($O$3:$O$10,G$17) + COUNTIFS($P$3:$P$10,$A24)*COUNTIFS($P$3:$P$10,G$17) + COUNTIFS($Q$3:$Q$10,$A24)*COUNTIFS($Q$3:$Q$10,G$17) + COUNTIFS($R$3:$R$10,$A24)*COUNTIFS($R$3:$R$10,G$17) + COUNTIFS($S$3:$S$10,$A24)*COUNTIFS($S$3:$S$10,G$17) + COUNTIFS($T$3:$T$10,$A24)*COUNTIFS($T$3:$T$10,G$17) + COUNTIFS($U$3:$U$10,$A24)*COUNTIFS($U$3:$U$10,G$17) + COUNTIFS($V$3:$V$10,$A24)*COUNTIFS($V$3:$V$10,G$17) + COUNTIFS($W$3:$W$10,$A24)*COUNTIFS($W$3:$W$10,G$17) + COUNTIFS($X$3:$X$10,$A24)*COUNTIFS($X$3:$X$10,G$17) + COUNTIFS($Y$3:$Y$10,$A24)*COUNTIFS($Y$3:$Y$10,G$17) -> 2 | H24: =COUNTIFS($B$3:$B$10,$A24)*COUNTIFS($B$3:$B$10,H$17) + COUNTIFS($C$3:$C$10,$A24)*COUNTIFS($C$3:$C$10,H$17) + COUNTIFS($D$3:$D$10,$A24)*COUNTIFS($D$3:$D$10,H$17) + COUNTIFS($E$3:$E$10,$A24)*COUNTIFS($E$3:$E$10,H$17) + COUNTIFS($F$3:$F$10,$A24)*COUNTIFS($F$3:$F$10,H$17) + COUNTIFS($G$3:$G$10,$A24)*COUNTIFS($G$3:$G$10,H$17) + COUNTIFS($H$3:$H$10,$A24)*COUNTIFS($H$3:$H$10,H$17) + COUNTIFS($I$3:$I$10,$A24)*COUNTIFS($I$3:$I$10,H$17) + COUNTIFS($J$3:$J$10,$A24)*COUNTIFS($J$3:$J$10,H$17) + COUNTIFS($K$3:$K$10,$A24)*COUNTIFS($K$3:$K$10,H$17) + COUNTIFS($L$3:$L$10,$A24)*COUNTIFS($L$3:$L$10,H$17) + COUNTIFS($M$3:$M$10,$A24)*COUNTIFS($M$3:$M$10,H$17) + COUNTIFS($N$3:$N$10,$A24)*COUNTIFS($N$3:$N$10,H$17) + COUNTIFS($O$3:$O$10,$A24)*COUNTIFS($O$3:$O$10,H$17) + COUNTIFS($P$3:$P$10,$A24)*COUNTIFS($P$3:$P$10,H$17) + COUNTIFS($Q$3:$Q$10,$A24)*COUNTIFS($Q$3:$Q$10,H$17) + COUNTIFS($R$3:$R$10,$A24)*COUNTIFS($R$3:$R$10,H$17) + COUNTIFS($S$3:$S$10,$A24)*COUNTIFS($S$3:$S$10,H$17) + COUNTIFS($T$3:$T$10,$A24)*COUNTIFS($T$3:$T$10,H$17) + COUNTIFS($U$3:$U$10,$A24)*COUNTIFS($U$3:$U$10,H$17) + COUNTIFS($V$3:$V$10,$A24)*COUNTIFS($V$3:$V$10,H$17) + COUNTIFS($W$3:$W$10,$A24)*COUNTIFS($W$3:$W$10,H$17) + COUNTIFS($X$3:$X$10,$A24)*COUNTIFS($X$3:$X$10,H$17) + COUNTIFS($Y$3:$Y$10,$A24)*COUNTIFS($Y$3:$Y$10,H$17) -> 8 | I24: =COUNTIFS($B$3:$B$10,$A24)*COUNTIFS($B$3:$B$10,I$17) + COUNTIFS($C$3:$C$10,$A24)*COUNTIFS($C$3:$C$10,I$17) + COUNTIFS($D$3:$D$10,$A24)*COUNTIFS($D$3:$D$10,I$17) + COUNTIFS($E$3:$E$10,$A24)*COUNTIFS($E$3:$E$10,I$17) + COUNTIFS($F$3:$F$10,$A24)*COUNTIFS($F$3:$F$10,I$17) + COUNTIFS($G$3:$G$10,$A24)*COUNTIFS($G$3:$G$10,I$17) + COUNTIFS($H$3:$H$10,$A24)*COUNTIFS($H$3:$H$10,I$17) + COUNTIFS($I$3:$I$10,$A24)*COUNTIFS($I$3:$I$10,I$17) + COUNTIFS($J$3:$J$10,$A24)*COUNTIFS($J$3:$J$10,I$17) + COUNTIFS($K$3:$K$10,$A24)*COUNTIFS($K$3:$K$10,I$17) + COUNTIFS($L$3:$L$10,$A24)*COUNTIFS($L$3:$L$10,I$17) + COUNTIFS($M$3:$M$10,$A24)*COUNTIFS($M$3:$M$10,I$17) + COUNTIFS($N$3:$N$10,$A24)*COUNTIFS($N$3:$N$10,I$17) + COUNTIFS($O$3:$O$10,$A24)*COUNTIFS($O$3:$O$10,I$17) + COUNTIFS($P$3:$P$10,$A24)*COUNTIFS($P$3:$P$10,I$17) + COUNTIFS($Q$3:$Q$10,$A24)*COUNTIFS($Q$3:$Q$10,I$17) + COUNTIFS($R$3:$R$10,$A24)*COUNTIFS($R$3:$R$10,I$17) + COUNTIFS($S$3:$S$10,$A24)*COUNTIFS($S$3:$S$10,I$17) + COUNTIFS($T$3:$T$10,$A24)*COUNTIFS($T$3:$T$10,I$17) + COUNTIFS($U$3:$U$10,$A24)*COUNTIFS($U$3:$U$10,I$17) + COUNTIFS($V$3:$V$10,$A24)*COUNTIFS($V$3:$V$10,I$17) + COUNTIFS($W$3:$W$10,$A24)*COUNTIFS($W$3:$W$10,I$17) + COUNTIFS($X$3:$X$10,$A24)*COUNTIFS($X$3:$X$10,I$17) + COUNTIFS($Y$3:$Y$10,$A24)*COUNTIFS($Y$3:$Y$10,I$17) -> 4 | ... T24: =COUNTIFS($B$3:$B$10,$A24)*COUNTIFS($B$3:$B$10,T$17) + COUNTIFS($C$3:$C$10,$A24)*COUNTIFS($C$3:$C$10,T$17) + COUNTIFS($D$3:$D$10,$A24)*COUNTIFS($D$3:$D$10,T$17) + COUNTIFS($E$3:$E$10,$A24)*COUNTIFS($E$3:$E$10,T$17) + COUNTIFS($F$3:$F$10,$A24)*COUNTIFS($F$3:$F$10,T$17) + COUNTIFS($G$3:$G$10,$A24)*COUNTIFS($G$3:$G$10,T$17) + COUNTIFS($H$3:$H$10,$A24)*COUNTIFS($H$3:$H$10,T$17) + COUNTIFS($I$3:$I$10,$A24)*COUNTIFS($I$3:$I$10,T$17) + COUNTIFS($J$3:$J$10,$A24)*COUNTIFS($J$3:$J$10,T$17) + COUNTIFS($K$3:$K$10,$A24)*COUNTIFS($K$3:$K$10,T$17) + COUNTIFS($L$3:$L$10,$A24)*COUNTIFS($L$3:$L$10,T$17) + COUNTIFS($M$3:$M$10,$A24)*COUNTIFS($M$3:$M$10,T$17) + COUNTIFS($N$3:$N$10,$A24)*COUNTIFS($N$3:$N$10,T$17) + COUNTIFS($O$3:$O$10,$A24)*COUNTIFS($O$3:$O$10,T$17) + COUNTIFS($P$3:$P$10,$A24)*COUNTIFS($P$3:$P$10,T$17) + COUNTIFS($Q$3:$Q$10,$A24)*COUNTIFS($Q$3:$Q$10,T$17) + COUNTIFS($R$3:$R$10,$A24)*COUNTIFS($R$3:$R$10,T$17) + COUNTIFS($S$3:$S$10,$A24)*COUNTIFS($S$3:$S$10,T$17) + COUNTIFS($T$3:$T$10,$A24)*COUNTIFS($T$3:$T$10,T$17) + COUNTIFS($U$3:$U$10,$A24)*COUNTIFS($U$3:$U$10,T$17) + COUNTIFS($V$3:$V$10,$A24)*COUNTIFS($V$3:$V$10,T$17) + COUNTIFS($W$3:$W$10,$A24)*COUNTIFS($W$3:$W$10,T$17) + COUNTIFS($X$3:$X$10,$A24)*COUNTIFS($X$3:$X$10,T$17) + COUNTIFS($Y$3:$Y$10,$A24)*COUNTIFS($Y$3:$Y$10,T$17) -> 0 | W24: 2 | AA24: 2 | AB24: =COUNTIF($B$18:$T$36,AA24)/2 -> 9
A25: 8 | B25: =COUNTIFS($B$3:$B$10,$A25)*COUNTIFS($B$3:$B$10,B$17) + COUNTIFS($C$3:$C$10,$A25)*COUNTIFS($C$3:$C$10,B$17) + COUNTIFS($D$3:$D$10,$A25)*COUNTIFS($D$3:$D$10,B$17) + COUNTIFS($E$3:$E$10,$A25)*COUNTIFS($E$3:$E$10,B$17) + COUNTIFS($F$3:$F$10,$A25)*COUNTIFS($F$3:$F$10,B$17) + COUNTIFS($G$3:$G$10,$A25)*COUNTIFS($G$3:$G$10,B$17) + COUNTIFS($H$3:$H$10,$A25)*COUNTIFS($H$3:$H$10,B$17) + COUNTIFS($I$3:$I$10,$A25)*COUNTIFS($I$3:$I$10,B$17) + COUNTIFS($J$3:$J$10,$A25)*COUNTIFS($J$3:$J$10,B$17) + COUNTIFS($K$3:$K$10,$A25)*COUNTIFS($K$3:$K$10,B$17) + COUNTIFS($L$3:$L$10,$A25)*COUNTIFS($L$3:$L$10,B$17) + COUNTIFS($M$3:$M$10,$A25)*COUNTIFS($M$3:$M$10,B$17) + COUNTIFS($N$3:$N$10,$A25)*COUNTIFS($N$3:$N$10,B$17) + COUNTIFS($O$3:$O$10,$A25)*COUNTIFS($O$3:$O$10,B$17) + COUNTIFS($P$3:$P$10,$A25)*COUNTIFS($P$3:$P$10,B$17) + COUNTIFS($Q$3:$Q$10,$A25)*COUNTIFS($Q$3:$Q$10,B$17) + COUNTIFS($R$3:$R$10,$A25)*COUNTIFS($R$3:$R$10,B$17) + COUNTIFS($S$3:$S$10,$A25)*COUNTIFS($S$3:$S$10,B$17) + COUNTIFS($T$3:$T$10,$A25)*COUNTIFS($T$3:$T$10,B$17) + COUNTIFS($U$3:$U$10,$A25)*COUNTIFS($U$3:$U$10,B$17) + COUNTIFS($V$3:$V$10,$A25)*COUNTIFS($V$3:$V$10,B$17) + COUNTIFS($W$3:$W$10,$A25)*COUNTIFS($W$3:$W$10,B$17) + COUNTIFS($X$3:$X$10,$A25)*COUNTIFS($X$3:$X$10,B$17) + COUNTIFS($Y$3:$Y$10,$A25)*COUNTIFS($Y$3:$Y$10,B$17) -> 5 | C25: =COUNTIFS($B$3:$B$10,$A25)*COUNTIFS($B$3:$B$10,C$17) + COUNTIFS($C$3:$C$10,$A25)*COUNTIFS($C$3:$C$10,C$17) + COUNTIFS($D$3:$D$10,$A25)*COUNTIFS($D$3:$D$10,C$17) + COUNTIFS($E$3:$E$10,$A25)*COUNTIFS($E$3:$E$10,C$17) + COUNTIFS($F$3:$F$10,$A25)*COUNTIFS($F$3:$F$10,C$17) + COUNTIFS($G$3:$G$10,$A25)*COUNTIFS($G$3:$G$10,C$17) + COUNTIFS($H$3:$H$10,$A25)*COUNTIFS($H$3:$H$10,C$17) + COUNTIFS($I$3:$I$10,$A25)*COUNTIFS($I$3:$I$10,C$17) + COUNTIFS($J$3:$J$10,$A25)*COUNTIFS($J$3:$J$10,C$17) + COUNTIFS($K$3:$K$10,$A25)*COUNTIFS($K$3:$K$10,C$17) + COUNTIFS($L$3:$L$10,$A25)*COUNTIFS($L$3:$L$10,C$17) + COUNTIFS($M$3:$M$10,$A25)*COUNTIFS($M$3:$M$10,C$17) + COUNTIFS($N$3:$N$10,$A25)*COUNTIFS($N$3:$N$10,C$17) + COUNTIFS($O$3:$O$10,$A25)*COUNTIFS($O$3:$O$10,C$17) + COUNTIFS($P$3:$P$10,$A25)*COUNTIFS($P$3:$P$10,C$17) + COUNTIFS($Q$3:$Q$10,$A25)*COUNTIFS($Q$3:$Q$10,C$17) + COUNTIFS($R$3:$R$10,$A25)*COUNTIFS($R$3:$R$10,C$17) + COUNTIFS($S$3:$S$10,$A25)*COUNTIFS($S$3:$S$10,C$17) + COUNTIFS($T$3:$T$10,$A25)*COUNTIFS($T$3:$T$10,C$17) + COUNTIFS($U$3:$U$10,$A25)*COUNTIFS($U$3:$U$10,C$17) + COUNTIFS($V$3:$V$10,$A25)*COUNTIFS($V$3:$V$10,C$17) + COUNTIFS($W$3:$W$10,$A25)*COUNTIFS($W$3:$W$10,C$17) + COUNTIFS($X$3:$X$10,$A25)*COUNTIFS($X$3:$X$10,C$17) + COUNTIFS($Y$3:$Y$10,$A25)*COUNTIFS($Y$3:$Y$10,C$17) -> 3 | D25: =COUNTIFS($B$3:$B$10,$A25)*COUNTIFS($B$3:$B$10,D$17) + COUNTIFS($C$3:$C$10,$A25)*COUNTIFS($C$3:$C$10,D$17) + COUNTIFS($D$3:$D$10,$A25)*COUNTIFS($D$3:$D$10,D$17) + COUNTIFS($E$3:$E$10,$A25)*COUNTIFS($E$3:$E$10,D$17) + COUNTIFS($F$3:$F$10,$A25)*COUNTIFS($F$3:$F$10,D$17) + COUNTIFS($G$3:$G$10,$A25)*COUNTIFS($G$3:$G$10,D$17) + COUNTIFS($H$3:$H$10,$A25)*COUNTIFS($H$3:$H$10,D$17) + COUNTIFS($I$3:$I$10,$A25)*COUNTIFS($I$3:$I$10,D$17) + COUNTIFS($J$3:$J$10,$A25)*COUNTIFS($J$3:$J$10,D$17) + COUNTIFS($K$3:$K$10,$A25)*COUNTIFS($K$3:$K$10,D$17) + COUNTIFS($L$3:$L$10,$A25)*COUNTIFS($L$3:$L$10,D$17) + COUNTIFS($M$3:$M$10,$A25)*COUNTIFS($M$3:$M$10,D$17) + COUNTIFS($N$3:$N$10,$A25)*COUNTIFS($N$3:$N$10,D$17) + COUNTIFS($O$3:$O$10,$A25)*COUNTIFS($O$3:$O$10,D$17) + COUNTIFS($P$3:$P$10,$A25)*COUNTIFS($P$3:$P$10,D$17) + COUNTIFS($Q$3:$Q$10,$A25)*COUNTIFS($Q$3:$Q$10,D$17) + COUNTIFS($R$3:$R$10,$A25)*COUNTIFS($R$3:$R$10,D$17) + COUNTIFS($S$3:$S$10,$A25)*COUNTIFS($S$3:$S$10,D$17) + COUNTIFS($T$3:$T$10,$A25)*COUNTIFS($T$3:$T$10,D$17) + COUNTIFS($U$3:$U$10,$A25)*COUNTIFS($U$3:$U$10,D$17) + COUNTIFS($V$3:$V$10,$A25)*COUNTIFS($V$3:$V$10,D$17) + COUNTIFS($W$3:$W$10,$A25)*COUNTIFS($W$3:$W$10,D$17) + COUNTIFS($X$3:$X$10,$A25)*COUNTIFS($X$3:$X$10,D$17) + COUNTIFS($Y$3:$Y$10,$A25)*COUNTIFS($Y$3:$Y$10,D$17) -> 3 | E25: =COUNTIFS($B$3:$B$10,$A25)*COUNTIFS($B$3:$B$10,E$17) + COUNTIFS($C$3:$C$10,$A25)*COUNTIFS($C$3:$C$10,E$17) + COUNTIFS($D$3:$D$10,$A25)*COUNTIFS($D$3:$D$10,E$17) + COUNTIFS($E$3:$E$10,$A25)*COUNTIFS($E$3:$E$10,E$17) + COUNTIFS($F$3:$F$10,$A25)*COUNTIFS($F$3:$F$10,E$17) + COUNTIFS($G$3:$G$10,$A25)*COUNTIFS($G$3:$G$10,E$17) + COUNTIFS($H$3:$H$10,$A25)*COUNTIFS($H$3:$H$10,E$17) + COUNTIFS($I$3:$I$10,$A25)*COUNTIFS($I$3:$I$10,E$17) + COUNTIFS($J$3:$J$10,$A25)*COUNTIFS($J$3:$J$10,E$17) + COUNTIFS($K$3:$K$10,$A25)*COUNTIFS($K$3:$K$10,E$17) + COUNTIFS($L$3:$L$10,$A25)*COUNTIFS($L$3:$L$10,E$17) + COUNTIFS($M$3:$M$10,$A25)*COUNTIFS($M$3:$M$10,E$17) + COUNTIFS($N$3:$N$10,$A25)*COUNTIFS($N$3:$N$10,E$17) + COUNTIFS($O$3:$O$10,$A25)*COUNTIFS($O$3:$O$10,E$17) + COUNTIFS($P$3:$P$10,$A25)*COUNTIFS($P$3:$P$10,E$17) + COUNTIFS($Q$3:$Q$10,$A25)*COUNTIFS($Q$3:$Q$10,E$17) + COUNTIFS($R$3:$R$10,$A25)*COUNTIFS($R$3:$R$10,E$17) + COUNTIFS($S$3:$S$10,$A25)*COUNTIFS($S$3:$S$10,E$17) + COUNTIFS($T$3:$T$10,$A25)*COUNTIFS($T$3:$T$10,E$17) + COUNTIFS($U$3:$U$10,$A25)*COUNTIFS($U$3:$U$10,E$17) + COUNTIFS($V$3:$V$10,$A25)*COUNTIFS($V$3:$V$10,E$17) + COUNTIFS($W$3:$W$10,$A25)*COUNTIFS($W$3:$W$10,E$17) + COUNTIFS($X$3:$X$10,$A25)*COUNTIFS($X$3:$X$10,E$17) + COUNTIFS($Y$3:$Y$10,$A25)*COUNTIFS($Y$3:$Y$10,E$17) -> 5 | F25: =COUNTIFS($B$3:$B$10,$A25)*COUNTIFS($B$3:$B$10,F$17) + COUNTIFS($C$3:$C$10,$A25)*COUNTIFS($C$3:$C$10,F$17) + COUNTIFS($D$3:$D$10,$A25)*COUNTIFS($D$3:$D$10,F$17) + COUNTIFS($E$3:$E$10,$A25)*COUNTIFS($E$3:$E$10,F$17) + COUNTIFS($F$3:$F$10,$A25)*COUNTIFS($F$3:$F$10,F$17) + COUNTIFS($G$3:$G$10,$A25)*COUNTIFS($G$3:$G$10,F$17) + COUNTIFS($H$3:$H$10,$A25)*COUNTIFS($H$3:$H$10,F$17) + COUNTIFS($I$3:$I$10,$A25)*COUNTIFS($I$3:$I$10,F$17) + COUNTIFS($J$3:$J$10,$A25)*COUNTIFS($J$3:$J$10,F$17) + COUNTIFS($K$3:$K$10,$A25)*COUNTIFS($K$3:$K$10,F$17) + COUNTIFS($L$3:$L$10,$A25)*COUNTIFS($L$3:$L$10,F$17) + COUNTIFS($M$3:$M$10,$A25)*COUNTIFS($M$3:$M$10,F$17) + COUNTIFS($N$3:$N$10,$A25)*COUNTIFS($N$3:$N$10,F$17) + COUNTIFS($O$3:$O$10,$A25)*COUNTIFS($O$3:$O$10,F$17) + COUNTIFS($P$3:$P$10,$A25)*COUNTIFS($P$3:$P$10,F$17) + COUNTIFS($Q$3:$Q$10,$A25)*COUNTIFS($Q$3:$Q$10,F$17) + COUNTIFS($R$3:$R$10,$A25)*COUNTIFS($R$3:$R$10,F$17) + COUNTIFS($S$3:$S$10,$A25)*COUNTIFS($S$3:$S$10,F$17) + COUNTIFS($T$3:$T$10,$A25)*COUNTIFS($T$3:$T$10,F$17) + COUNTIFS($U$3:$U$10,$A25)*COUNTIFS($U$3:$U$10,F$17) + COUNTIFS($V$3:$V$10,$A25)*COUNTIFS($V$3:$V$10,F$17) + COUNTIFS($W$3:$W$10,$A25)*COUNTIFS($W$3:$W$10,F$17) + COUNTIFS($X$3:$X$10,$A25)*COUNTIFS($X$3:$X$10,F$17) + COUNTIFS($Y$3:$Y$10,$A25)*COUNTIFS($Y$3:$Y$10,F$17) -> 2 | G25: =COUNTIFS($B$3:$B$10,$A25)*COUNTIFS($B$3:$B$10,G$17) + COUNTIFS($C$3:$C$10,$A25)*COUNTIFS($C$3:$C$10,G$17) + COUNTIFS($D$3:$D$10,$A25)*COUNTIFS($D$3:$D$10,G$17) + COUNTIFS($E$3:$E$10,$A25)*COUNTIFS($E$3:$E$10,G$17) + COUNTIFS($F$3:$F$10,$A25)*COUNTIFS($F$3:$F$10,G$17) + COUNTIFS($G$3:$G$10,$A25)*COUNTIFS($G$3:$G$10,G$17) + COUNTIFS($H$3:$H$10,$A25)*COUNTIFS($H$3:$H$10,G$17) + COUNTIFS($I$3:$I$10,$A25)*COUNTIFS($I$3:$I$10,G$17) + COUNTIFS($J$3:$J$10,$A25)*COUNTIFS($J$3:$J$10,G$17) + COUNTIFS($K$3:$K$10,$A25)*COUNTIFS($K$3:$K$10,G$17) + COUNTIFS($L$3:$L$10,$A25)*COUNTIFS($L$3:$L$10,G$17) + COUNTIFS($M$3:$M$10,$A25)*COUNTIFS($M$3:$M$10,G$17) + COUNTIFS($N$3:$N$10,$A25)*COUNTIFS($N$3:$N$10,G$17) + COUNTIFS($O$3:$O$10,$A25)*COUNTIFS($O$3:$O$10,G$17) + COUNTIFS($P$3:$P$10,$A25)*COUNTIFS($P$3:$P$10,G$17) + COUNTIFS($Q$3:$Q$10,$A25)*COUNTIFS($Q$3:$Q$10,G$17) + COUNTIFS($R$3:$R$10,$A25)*COUNTIFS($R$3:$R$10,G$17) + COUNTIFS($S$3:$S$10,$A25)*COUNTIFS($S$3:$S$10,G$17) + COUNTIFS($T$3:$T$10,$A25)*COUNTIFS($T$3:$T$10,G$17) + COUNTIFS($U$3:$U$10,$A25)*COUNTIFS($U$3:$U$10,G$17) + COUNTIFS($V$3:$V$10,$A25)*COUNTIFS($V$3:$V$10,G$17) + COUNTIFS($W$3:$W$10,$A25)*COUNTIFS($W$3:$W$10,G$17) + COUNTIFS($X$3:$X$10,$A25)*COUNTIFS($X$3:$X$10,G$17) + COUNTIFS($Y$3:$Y$10,$A25)*COUNTIFS($Y$3:$Y$10,G$17) -> 6 | H25: =COUNTIFS($B$3:$B$10,$A25)*COUNTIFS($B$3:$B$10,H$17) + COUNTIFS($C$3:$C$10,$A25)*COUNTIFS($C$3:$C$10,H$17) + COUNTIFS($D$3:$D$10,$A25)*COUNTIFS($D$3:$D$10,H$17) + COUNTIFS($E$3:$E$10,$A25)*COUNTIFS($E$3:$E$10,H$17) + COUNTIFS($F$3:$F$10,$A25)*COUNTIFS($F$3:$F$10,H$17) + COUNTIFS($G$3:$G$10,$A25)*COUNTIFS($G$3:$G$10,H$17) + COUNTIFS($H$3:$H$10,$A25)*COUNTIFS($H$3:$H$10,H$17) + COUNTIFS($I$3:$I$10,$A25)*COUNTIFS($I$3:$I$10,H$17) + COUNTIFS($J$3:$J$10,$A25)*COUNTIFS($J$3:$J$10,H$17) + COUNTIFS($K$3:$K$10,$A25)*COUNTIFS($K$3:$K$10,H$17) + COUNTIFS($L$3:$L$10,$A25)*COUNTIFS($L$3:$L$10,H$17) + COUNTIFS($M$3:$M$10,$A25)*COUNTIFS($M$3:$M$10,H$17) + COUNTIFS($N$3:$N$10,$A25)*COUNTIFS($N$3:$N$10,H$17) + COUNTIFS($O$3:$O$10,$A25)*COUNTIFS($O$3:$O$10,H$17) + COUNTIFS($P$3:$P$10,$A25)*COUNTIFS($P$3:$P$10,H$17) + COUNTIFS($Q$3:$Q$10,$A25)*COUNTIFS($Q$3:$Q$10,H$17) + COUNTIFS($R$3:$R$10,$A25)*COUNTIFS($R$3:$R$10,H$17) + COUNTIFS($S$3:$S$10,$A25)*COUNTIFS($S$3:$S$10,H$17) + COUNTIFS($T$3:$T$10,$A25)*COUNTIFS($T$3:$T$10,H$17) + COUNTIFS($U$3:$U$10,$A25)*COUNTIFS($U$3:$U$10,H$17) + COUNTIFS($V$3:$V$10,$A25)*COUNTIFS($V$3:$V$10,H$17) + COUNTIFS($W$3:$W$10,$A25)*COUNTIFS($W$3:$W$10,H$17) + COUNTIFS($X$3:$X$10,$A25)*COUNTIFS($X$3:$X$10,H$17) + COUNTIFS($Y$3:$Y$10,$A25)*COUNTIFS($Y$3:$Y$10,H$17) -> 4 | I25: =COUNTIFS($B$3:$B$10,$A25)*COUNTIFS($B$3:$B$10,I$17) + COUNTIFS($C$3:$C$10,$A25)*COUNTIFS($C$3:$C$10,I$17) + COUNTIFS($D$3:$D$10,$A25)*COUNTIFS($D$3:$D$10,I$17) + COUNTIFS($E$3:$E$10,$A25)*COUNTIFS($E$3:$E$10,I$17) + COUNTIFS($F$3:$F$10,$A25)*COUNTIFS($F$3:$F$10,I$17) + COUNTIFS($G$3:$G$10,$A25)*COUNTIFS($G$3:$G$10,I$17) + COUNTIFS($H$3:$H$10,$A25)*COUNTIFS($H$3:$H$10,I$17) + COUNTIFS($I$3:$I$10,$A25)*COUNTIFS($I$3:$I$10,I$17) + COUNTIFS($J$3:$J$10,$A25)*COUNTIFS($J$3:$J$10,I$17) + COUNTIFS($K$3:$K$10,$A25)*COUNTIFS($K$3:$K$10,I$17) + COUNTIFS($L$3:$L$10,$A25)*COUNTIFS($L$3:$L$10,I$17) + COUNTIFS($M$3:$M$10,$A25)*COUNTIFS($M$3:$M$10,I$17) + COUNTIFS($N$3:$N$10,$A25)*COUNTIFS($N$3:$N$10,I$17) + COUNTIFS($O$3:$O$10,$A25)*COUNTIFS($O$3:$O$10,I$17) + COUNTIFS($P$3:$P$10,$A25)*COUNTIFS($P$3:$P$10,I$17) + COUNTIFS($Q$3:$Q$10,$A25)*COUNTIFS($Q$3:$Q$10,I$17) + COUNTIFS($R$3:$R$10,$A25)*COUNTIFS($R$3:$R$10,I$17) + COUNTIFS($S$3:$S$10,$A25)*COUNTIFS($S$3:$S$10,I$17) + COUNTIFS($T$3:$T$10,$A25)*COUNTIFS($T$3:$T$10,I$17) + COUNTIFS($U$3:$U$10,$A25)*COUNTIFS($U$3:$U$10,I$17) + COUNTIFS($V$3:$V$10,$A25)*COUNTIFS($V$3:$V$10,I$17) + COUNTIFS($W$3:$W$10,$A25)*COUNTIFS($W$3:$W$10,I$17) + COUNTIFS($X$3:$X$10,$A25)*COUNTIFS($X$3:$X$10,I$17) + COUNTIFS($Y$3:$Y$10,$A25)*COUNTIFS($Y$3:$Y$10,I$17) -> 8 | ... T25: =COUNTIFS($B$3:$B$10,$A25)*COUNTIFS($B$3:$B$10,T$17) + COUNTIFS($C$3:$C$10,$A25)*COUNTIFS($C$3:$C$10,T$17) + COUNTIFS($D$3:$D$10,$A25)*COUNTIFS($D$3:$D$10,T$17) + COUNTIFS($E$3:$E$10,$A25)*COUNTIFS($E$3:$E$10,T$17) + COUNTIFS($F$3:$F$10,$A25)*COUNTIFS($F$3:$F$10,T$17) + COUNTIFS($G$3:$G$10,$A25)*COUNTIFS($G$3:$G$10,T$17) + COUNTIFS($H$3:$H$10,$A25)*COUNTIFS($H$3:$H$10,T$17) + COUNTIFS($I$3:$I$10,$A25)*COUNTIFS($I$3:$I$10,T$17) + COUNTIFS($J$3:$J$10,$A25)*COUNTIFS($J$3:$J$10,T$17) + COUNTIFS($K$3:$K$10,$A25)*COUNTIFS($K$3:$K$10,T$17) + COUNTIFS($L$3:$L$10,$A25)*COUNTIFS($L$3:$L$10,T$17) + COUNTIFS($M$3:$M$10,$A25)*COUNTIFS($M$3:$M$10,T$17) + COUNTIFS($N$3:$N$10,$A25)*COUNTIFS($N$3:$N$10,T$17) + COUNTIFS($O$3:$O$10,$A25)*COUNTIFS($O$3:$O$10,T$17) + COUNTIFS($P$3:$P$10,$A25)*COUNTIFS($P$3:$P$10,T$17) + COUNTIFS($Q$3:$Q$10,$A25)*COUNTIFS($Q$3:$Q$10,T$17) + COUNTIFS($R$3:$R$10,$A25)*COUNTIFS($R$3:$R$10,T$17) + COUNTIFS($S$3:$S$10,$A25)*COUNTIFS($S$3:$S$10,T$17) + COUNTIFS($T$3:$T$10,$A25)*COUNTIFS($T$3:$T$10,T$17) + COUNTIFS($U$3:$U$10,$A25)*COUNTIFS($U$3:$U$10,T$17) + COUNTIFS($V$3:$V$10,$A25)*COUNTIFS($V$3:$V$10,T$17) + COUNTIFS($W$3:$W$10,$A25)*COUNTIFS($W$3:$W$10,T$17) + COUNTIFS($X$3:$X$10,$A25)*COUNTIFS($X$3:$X$10,T$17) + COUNTIFS($Y$3:$Y$10,$A25)*COUNTIFS($Y$3:$Y$10,T$17) -> 0 | W25: 1 | AA25: 1 | AB25: =COUNTIF($B$18:$T$36,AA25)/2 -> 1
A26: 9 | B26: =COUNTIFS($B$3:$B$10,$A26)*COUNTIFS($B$3:$B$10,B$17) + COUNTIFS($C$3:$C$10,$A26)*COUNTIFS($C$3:$C$10,B$17) + COUNTIFS($D$3:$D$10,$A26)*COUNTIFS($D$3:$D$10,B$17) + COUNTIFS($E$3:$E$10,$A26)*COUNTIFS($E$3:$E$10,B$17) + COUNTIFS($F$3:$F$10,$A26)*COUNTIFS($F$3:$F$10,B$17) + COUNTIFS($G$3:$G$10,$A26)*COUNTIFS($G$3:$G$10,B$17) + COUNTIFS($H$3:$H$10,$A26)*COUNTIFS($H$3:$H$10,B$17) + COUNTIFS($I$3:$I$10,$A26)*COUNTIFS($I$3:$I$10,B$17) + COUNTIFS($J$3:$J$10,$A26)*COUNTIFS($J$3:$J$10,B$17) + COUNTIFS($K$3:$K$10,$A26)*COUNTIFS($K$3:$K$10,B$17) + COUNTIFS($L$3:$L$10,$A26)*COUNTIFS($L$3:$L$10,B$17) + COUNTIFS($M$3:$M$10,$A26)*COUNTIFS($M$3:$M$10,B$17) + COUNTIFS($N$3:$N$10,$A26)*COUNTIFS($N$3:$N$10,B$17) + COUNTIFS($O$3:$O$10,$A26)*COUNTIFS($O$3:$O$10,B$17) + COUNTIFS($P$3:$P$10,$A26)*COUNTIFS($P$3:$P$10,B$17) + COUNTIFS($Q$3:$Q$10,$A26)*COUNTIFS($Q$3:$Q$10,B$17) + COUNTIFS($R$3:$R$10,$A26)*COUNTIFS($R$3:$R$10,B$17) + COUNTIFS($S$3:$S$10,$A26)*COUNTIFS($S$3:$S$10,B$17) + COUNTIFS($T$3:$T$10,$A26)*COUNTIFS($T$3:$T$10,B$17) + COUNTIFS($U$3:$U$10,$A26)*COUNTIFS($U$3:$U$10,B$17) + COUNTIFS($V$3:$V$10,$A26)*COUNTIFS($V$3:$V$10,B$17) + COUNTIFS($W$3:$W$10,$A26)*COUNTIFS($W$3:$W$10,B$17) + COUNTIFS($X$3:$X$10,$A26)*COUNTIFS($X$3:$X$10,B$17) + COUNTIFS($Y$3:$Y$10,$A26)*COUNTIFS($Y$3:$Y$10,B$17) -> 5 | C26: =COUNTIFS($B$3:$B$10,$A26)*COUNTIFS($B$3:$B$10,C$17) + COUNTIFS($C$3:$C$10,$A26)*COUNTIFS($C$3:$C$10,C$17) + COUNTIFS($D$3:$D$10,$A26)*COUNTIFS($D$3:$D$10,C$17) + COUNTIFS($E$3:$E$10,$A26)*COUNTIFS($E$3:$E$10,C$17) + COUNTIFS($F$3:$F$10,$A26)*COUNTIFS($F$3:$F$10,C$17) + COUNTIFS($G$3:$G$10,$A26)*COUNTIFS($G$3:$G$10,C$17) + COUNTIFS($H$3:$H$10,$A26)*COUNTIFS($H$3:$H$10,C$17) + COUNTIFS($I$3:$I$10,$A26)*COUNTIFS($I$3:$I$10,C$17) + COUNTIFS($J$3:$J$10,$A26)*COUNTIFS($J$3:$J$10,C$17) + COUNTIFS($K$3:$K$10,$A26)*COUNTIFS($K$3:$K$10,C$17) + COUNTIFS($L$3:$L$10,$A26)*COUNTIFS($L$3:$L$10,C$17) + COUNTIFS($M$3:$M$10,$A26)*COUNTIFS($M$3:$M$10,C$17) + COUNTIFS($N$3:$N$10,$A26)*COUNTIFS($N$3:$N$10,C$17) + COUNTIFS($O$3:$O$10,$A26)*COUNTIFS($O$3:$O$10,C$17) + COUNTIFS($P$3:$P$10,$A26)*COUNTIFS($P$3:$P$10,C$17) + COUNTIFS($Q$3:$Q$10,$A26)*COUNTIFS($Q$3:$Q$10,C$17) + COUNTIFS($R$3:$R$10,$A26)*COUNTIFS($R$3:$R$10,C$17) + COUNTIFS($S$3:$S$10,$A26)*COUNTIFS($S$3:$S$10,C$17) + COUNTIFS($T$3:$T$10,$A26)*COUNTIFS($T$3:$T$10,C$17) + COUNTIFS($U$3:$U$10,$A26)*COUNTIFS($U$3:$U$10,C$17) + COUNTIFS($V$3:$V$10,$A26)*COUNTIFS($V$3:$V$10,C$17) + COUNTIFS($W$3:$W$10,$A26)*COUNTIFS($W$3:$W$10,C$17) + COUNTIFS($X$3:$X$10,$A26)*COUNTIFS($X$3:$X$10,C$17) + COUNTIFS($Y$3:$Y$10,$A26)*COUNTIFS($Y$3:$Y$10,C$17) -> 3 | D26: =COUNTIFS($B$3:$B$10,$A26)*COUNTIFS($B$3:$B$10,D$17) + COUNTIFS($C$3:$C$10,$A26)*COUNTIFS($C$3:$C$10,D$17) + COUNTIFS($D$3:$D$10,$A26)*COUNTIFS($D$3:$D$10,D$17) + COUNTIFS($E$3:$E$10,$A26)*COUNTIFS($E$3:$E$10,D$17) + COUNTIFS($F$3:$F$10,$A26)*COUNTIFS($F$3:$F$10,D$17) + COUNTIFS($G$3:$G$10,$A26)*COUNTIFS($G$3:$G$10,D$17) + COUNTIFS($H$3:$H$10,$A26)*COUNTIFS($H$3:$H$10,D$17) + COUNTIFS($I$3:$I$10,$A26)*COUNTIFS($I$3:$I$10,D$17) + COUNTIFS($J$3:$J$10,$A26)*COUNTIFS($J$3:$J$10,D$17) + COUNTIFS($K$3:$K$10,$A26)*COUNTIFS($K$3:$K$10,D$17) + COUNTIFS($L$3:$L$10,$A26)*COUNTIFS($L$3:$L$10,D$17) + COUNTIFS($M$3:$M$10,$A26)*COUNTIFS($M$3:$M$10,D$17) + COUNTIFS($N$3:$N$10,$A26)*COUNTIFS($N$3:$N$10,D$17) + COUNTIFS($O$3:$O$10,$A26)*COUNTIFS($O$3:$O$10,D$17) + COUNTIFS($P$3:$P$10,$A26)*COUNTIFS($P$3:$P$10,D$17) + COUNTIFS($Q$3:$Q$10,$A26)*COUNTIFS($Q$3:$Q$10,D$17) + COUNTIFS($R$3:$R$10,$A26)*COUNTIFS($R$3:$R$10,D$17) + COUNTIFS($S$3:$S$10,$A26)*COUNTIFS($S$3:$S$10,D$17) + COUNTIFS($T$3:$T$10,$A26)*COUNTIFS($T$3:$T$10,D$17) + COUNTIFS($U$3:$U$10,$A26)*COUNTIFS($U$3:$U$10,D$17) + COUNTIFS($V$3:$V$10,$A26)*COUNTIFS($V$3:$V$10,D$17) + COUNTIFS($W$3:$W$10,$A26)*COUNTIFS($W$3:$W$10,D$17) + COUNTIFS($X$3:$X$10,$A26)*COUNTIFS($X$3:$X$10,D$17) + COUNTIFS($Y$3:$Y$10,$A26)*COUNTIFS($Y$3:$Y$10,D$17) -> 3 | E26: =COUNTIFS($B$3:$B$10,$A26)*COUNTIFS($B$3:$B$10,E$17) + COUNTIFS($C$3:$C$10,$A26)*COUNTIFS($C$3:$C$10,E$17) + COUNTIFS($D$3:$D$10,$A26)*COUNTIFS($D$3:$D$10,E$17) + COUNTIFS($E$3:$E$10,$A26)*COUNTIFS($E$3:$E$10,E$17) + COUNTIFS($F$3:$F$10,$A26)*COUNTIFS($F$3:$F$10,E$17) + COUNTIFS($G$3:$G$10,$A26)*COUNTIFS($G$3:$G$10,E$17) + COUNTIFS($H$3:$H$10,$A26)*COUNTIFS($H$3:$H$10,E$17) + COUNTIFS($I$3:$I$10,$A26)*COUNTIFS($I$3:$I$10,E$17) + COUNTIFS($J$3:$J$10,$A26)*COUNTIFS($J$3:$J$10,E$17) + COUNTIFS($K$3:$K$10,$A26)*COUNTIFS($K$3:$K$10,E$17) + COUNTIFS($L$3:$L$10,$A26)*COUNTIFS($L$3:$L$10,E$17) + COUNTIFS($M$3:$M$10,$A26)*COUNTIFS($M$3:$M$10,E$17) + COUNTIFS($N$3:$N$10,$A26)*COUNTIFS($N$3:$N$10,E$17) + COUNTIFS($O$3:$O$10,$A26)*COUNTIFS($O$3:$O$10,E$17) + COUNTIFS($P$3:$P$10,$A26)*COUNTIFS($P$3:$P$10,E$17) + COUNTIFS($Q$3:$Q$10,$A26)*COUNTIFS($Q$3:$Q$10,E$17) + COUNTIFS($R$3:$R$10,$A26)*COUNTIFS($R$3:$R$10,E$17) + COUNTIFS($S$3:$S$10,$A26)*COUNTIFS($S$3:$S$10,E$17) + COUNTIFS($T$3:$T$10,$A26)*COUNTIFS($T$3:$T$10,E$17) + COUNTIFS($U$3:$U$10,$A26)*COUNTIFS($U$3:$U$10,E$17) + COUNTIFS($V$3:$V$10,$A26)*COUNTIFS($V$3:$V$10,E$17) + COUNTIFS($W$3:$W$10,$A26)*COUNTIFS($W$3:$W$10,E$17) + COUNTIFS($X$3:$X$10,$A26)*COUNTIFS($X$3:$X$10,E$17) + COUNTIFS($Y$3:$Y$10,$A26)*COUNTIFS($Y$3:$Y$10,E$17) -> 5 | F26: =COUNTIFS($B$3:$B$10,$A26)*COUNTIFS($B$3:$B$10,F$17) + COUNTIFS($C$3:$C$10,$A26)*COUNTIFS($C$3:$C$10,F$17) + COUNTIFS($D$3:$D$10,$A26)*COUNTIFS($D$3:$D$10,F$17) + COUNTIFS($E$3:$E$10,$A26)*COUNTIFS($E$3:$E$10,F$17) + COUNTIFS($F$3:$F$10,$A26)*COUNTIFS($F$3:$F$10,F$17) + COUNTIFS($G$3:$G$10,$A26)*COUNTIFS($G$3:$G$10,F$17) + COUNTIFS($H$3:$H$10,$A26)*COUNTIFS($H$3:$H$10,F$17) + COUNTIFS($I$3:$I$10,$A26)*COUNTIFS($I$3:$I$10,F$17) + COUNTIFS($J$3:$J$10,$A26)*COUNTIFS($J$3:$J$10,F$17) + COUNTIFS($K$3:$K$10,$A26)*COUNTIFS($K$3:$K$10,F$17) + COUNTIFS($L$3:$L$10,$A26)*COUNTIFS($L$3:$L$10,F$17) + COUNTIFS($M$3:$M$10,$A26)*COUNTIFS($M$3:$M$10,F$17) + COUNTIFS($N$3:$N$10,$A26)*COUNTIFS($N$3:$N$10,F$17) + COUNTIFS($O$3:$O$10,$A26)*COUNTIFS($O$3:$O$10,F$17) + COUNTIFS($P$3:$P$10,$A26)*COUNTIFS($P$3:$P$10,F$17) + COUNTIFS($Q$3:$Q$10,$A26)*COUNTIFS($Q$3:$Q$10,F$17) + COUNTIFS($R$3:$R$10,$A26)*COUNTIFS($R$3:$R$10,F$17) + COUNTIFS($S$3:$S$10,$A26)*COUNTIFS($S$3:$S$10,F$17) + COUNTIFS($T$3:$T$10,$A26)*COUNTIFS($T$3:$T$10,F$17) + COUNTIFS($U$3:$U$10,$A26)*COUNTIFS($U$3:$U$10,F$17) + COUNTIFS($V$3:$V$10,$A26)*COUNTIFS($V$3:$V$10,F$17) + COUNTIFS($W$3:$W$10,$A26)*COUNTIFS($W$3:$W$10,F$17) + COUNTIFS($X$3:$X$10,$A26)*COUNTIFS($X$3:$X$10,F$17) + COUNTIFS($Y$3:$Y$10,$A26)*COUNTIFS($Y$3:$Y$10,F$17) -> 4 | G26: =COUNTIFS($B$3:$B$10,$A26)*COUNTIFS($B$3:$B$10,G$17) + COUNTIFS($C$3:$C$10,$A26)*COUNTIFS($C$3:$C$10,G$17) + COUNTIFS($D$3:$D$10,$A26)*COUNTIFS($D$3:$D$10,G$17) + COUNTIFS($E$3:$E$10,$A26)*COUNTIFS($E$3:$E$10,G$17) + COUNTIFS($F$3:$F$10,$A26)*COUNTIFS($F$3:$F$10,G$17) + COUNTIFS($G$3:$G$10,$A26)*COUNTIFS($G$3:$G$10,G$17) + COUNTIFS($H$3:$H$10,$A26)*COUNTIFS($H$3:$H$10,G$17) + COUNTIFS($I$3:$I$10,$A26)*COUNTIFS($I$3:$I$10,G$17) + COUNTIFS($J$3:$J$10,$A26)*COUNTIFS($J$3:$J$10,G$17) + COUNTIFS($K$3:$K$10,$A26)*COUNTIFS($K$3:$K$10,G$17) + COUNTIFS($L$3:$L$10,$A26)*COUNTIFS($L$3:$L$10,G$17) + COUNTIFS($M$3:$M$10,$A26)*COUNTIFS($M$3:$M$10,G$17) + COUNTIFS($N$3:$N$10,$A26)*COUNTIFS($N$3:$N$10,G$17) + COUNTIFS($O$3:$O$10,$A26)*COUNTIFS($O$3:$O$10,G$17) + COUNTIFS($P$3:$P$10,$A26)*COUNTIFS($P$3:$P$10,G$17) + COUNTIFS($Q$3:$Q$10,$A26)*COUNTIFS($Q$3:$Q$10,G$17) + COUNTIFS($R$3:$R$10,$A26)*COUNTIFS($R$3:$R$10,G$17) + COUNTIFS($S$3:$S$10,$A26)*COUNTIFS($S$3:$S$10,G$17) + COUNTIFS($T$3:$T$10,$A26)*COUNTIFS($T$3:$T$10,G$17) + COUNTIFS($U$3:$U$10,$A26)*COUNTIFS($U$3:$U$10,G$17) + COUNTIFS($V$3:$V$10,$A26)*COUNTIFS($V$3:$V$10,G$17) + COUNTIFS($W$3:$W$10,$A26)*COUNTIFS($W$3:$W$10,G$17) + COUNTIFS($X$3:$X$10,$A26)*COUNTIFS($X$3:$X$10,G$17) + COUNTIFS($Y$3:$Y$10,$A26)*COUNTIFS($Y$3:$Y$10,G$17) -> 4 | H26: =COUNTIFS($B$3:$B$10,$A26)*COUNTIFS($B$3:$B$10,H$17) + COUNTIFS($C$3:$C$10,$A26)*COUNTIFS($C$3:$C$10,H$17) + COUNTIFS($D$3:$D$10,$A26)*COUNTIFS($D$3:$D$10,H$17) + COUNTIFS($E$3:$E$10,$A26)*COUNTIFS($E$3:$E$10,H$17) + COUNTIFS($F$3:$F$10,$A26)*COUNTIFS($F$3:$F$10,H$17) + COUNTIFS($G$3:$G$10,$A26)*COUNTIFS($G$3:$G$10,H$17) + COUNTIFS($H$3:$H$10,$A26)*COUNTIFS($H$3:$H$10,H$17) + COUNTIFS($I$3:$I$10,$A26)*COUNTIFS($I$3:$I$10,H$17) + COUNTIFS($J$3:$J$10,$A26)*COUNTIFS($J$3:$J$10,H$17) + COUNTIFS($K$3:$K$10,$A26)*COUNTIFS($K$3:$K$10,H$17) + COUNTIFS($L$3:$L$10,$A26)*COUNTIFS($L$3:$L$10,H$17) + COUNTIFS($M$3:$M$10,$A26)*COUNTIFS($M$3:$M$10,H$17) + COUNTIFS($N$3:$N$10,$A26)*COUNTIFS($N$3:$N$10,H$17) + COUNTIFS($O$3:$O$10,$A26)*COUNTIFS($O$3:$O$10,H$17) + COUNTIFS($P$3:$P$10,$A26)*COUNTIFS($P$3:$P$10,H$17) + COUNTIFS($Q$3:$Q$10,$A26)*COUNTIFS($Q$3:$Q$10,H$17) + COUNTIFS($R$3:$R$10,$A26)*COUNTIFS($R$3:$R$10,H$17) + COUNTIFS($S$3:$S$10,$A26)*COUNTIFS($S$3:$S$10,H$17) + COUNTIFS($T$3:$T$10,$A26)*COUNTIFS($T$3:$T$10,H$17) + COUNTIFS($U$3:$U$10,$A26)*COUNTIFS($U$3:$U$10,H$17) + COUNTIFS($V$3:$V$10,$A26)*COUNTIFS($V$3:$V$10,H$17) + COUNTIFS($W$3:$W$10,$A26)*COUNTIFS($W$3:$W$10,H$17) + COUNTIFS($X$3:$X$10,$A26)*COUNTIFS($X$3:$X$10,H$17) + COUNTIFS($Y$3:$Y$10,$A26)*COUNTIFS($Y$3:$Y$10,H$17) -> 2 | I26: =COUNTIFS($B$3:$B$10,$A26)*COUNTIFS($B$3:$B$10,I$17) + COUNTIFS($C$3:$C$10,$A26)*COUNTIFS($C$3:$C$10,I$17) + COUNTIFS($D$3:$D$10,$A26)*COUNTIFS($D$3:$D$10,I$17) + COUNTIFS($E$3:$E$10,$A26)*COUNTIFS($E$3:$E$10,I$17) + COUNTIFS($F$3:$F$10,$A26)*COUNTIFS($F$3:$F$10,I$17) + COUNTIFS($G$3:$G$10,$A26)*COUNTIFS($G$3:$G$10,I$17) + COUNTIFS($H$3:$H$10,$A26)*COUNTIFS($H$3:$H$10,I$17) + COUNTIFS($I$3:$I$10,$A26)*COUNTIFS($I$3:$I$10,I$17) + COUNTIFS($J$3:$J$10,$A26)*COUNTIFS($J$3:$J$10,I$17) + COUNTIFS($K$3:$K$10,$A26)*COUNTIFS($K$3:$K$10,I$17) + COUNTIFS($L$3:$L$10,$A26)*COUNTIFS($L$3:$L$10,I$17) + COUNTIFS($M$3:$M$10,$A26)*COUNTIFS($M$3:$M$10,I$17) + COUNTIFS($N$3:$N$10,$A26)*COUNTIFS($N$3:$N$10,I$17) + COUNTIFS($O$3:$O$10,$A26)*COUNTIFS($O$3:$O$10,I$17) + COUNTIFS($P$3:$P$10,$A26)*COUNTIFS($P$3:$P$10,I$17) + COUNTIFS($Q$3:$Q$10,$A26)*COUNTIFS($Q$3:$Q$10,I$17) + COUNTIFS($R$3:$R$10,$A26)*COUNTIFS($R$3:$R$10,I$17) + COUNTIFS($S$3:$S$10,$A26)*COUNTIFS($S$3:$S$10,I$17) + COUNTIFS($T$3:$T$10,$A26)*COUNTIFS($T$3:$T$10,I$17) + COUNTIFS($U$3:$U$10,$A26)*COUNTIFS($U$3:$U$10,I$17) + COUNTIFS($V$3:$V$10,$A26)*COUNTIFS($V$3:$V$10,I$17) + COUNTIFS($W$3:$W$10,$A26)*COUNTIFS($W$3:$W$10,I$17) + COUNTIFS($X$3:$X$10,$A26)*COUNTIFS($X$3:$X$10,I$17) + COUNTIFS($Y$3:$Y$10,$A26)*COUNTIFS($Y$3:$Y$10,I$17) -> 2 | ... T26: =COUNTIFS($B$3:$B$10,$A26)*COUNTIFS($B$3:$B$10,T$17) + COUNTIFS($C$3:$C$10,$A26)*COUNTIFS($C$3:$C$10,T$17) + COUNTIFS($D$3:$D$10,$A26)*COUNTIFS($D$3:$D$10,T$17) + COUNTIFS($E$3:$E$10,$A26)*COUNTIFS($E$3:$E$10,T$17) + COUNTIFS($F$3:$F$10,$A26)*COUNTIFS($F$3:$F$10,T$17) + COUNTIFS($G$3:$G$10,$A26)*COUNTIFS($G$3:$G$10,T$17) + COUNTIFS($H$3:$H$10,$A26)*COUNTIFS($H$3:$H$10,T$17) + COUNTIFS($I$3:$I$10,$A26)*COUNTIFS($I$3:$I$10,T$17) + COUNTIFS($J$3:$J$10,$A26)*COUNTIFS($J$3:$J$10,T$17) + COUNTIFS($K$3:$K$10,$A26)*COUNTIFS($K$3:$K$10,T$17) + COUNTIFS($L$3:$L$10,$A26)*COUNTIFS($L$3:$L$10,T$17) + COUNTIFS($M$3:$M$10,$A26)*COUNTIFS($M$3:$M$10,T$17) + COUNTIFS($N$3:$N$10,$A26)*COUNTIFS($N$3:$N$10,T$17) + COUNTIFS($O$3:$O$10,$A26)*COUNTIFS($O$3:$O$10,T$17) + COUNTIFS($P$3:$P$10,$A26)*COUNTIFS($P$3:$P$10,T$17) + COUNTIFS($Q$3:$Q$10,$A26)*COUNTIFS($Q$3:$Q$10,T$17) + COUNTIFS($R$3:$R$10,$A26)*COUNTIFS($R$3:$R$10,T$17) + COUNTIFS($S$3:$S$10,$A26)*COUNTIFS($S$3:$S$10,T$17) + COUNTIFS($T$3:$T$10,$A26)*COUNTIFS($T$3:$T$10,T$17) + COUNTIFS($U$3:$U$10,$A26)*COUNTIFS($U$3:$U$10,T$17) + COUNTIFS($V$3:$V$10,$A26)*COUNTIFS($V$3:$V$10,T$17) + COUNTIFS($W$3:$W$10,$A26)*COUNTIFS($W$3:$W$10,T$17) + COUNTIFS($X$3:$X$10,$A26)*COUNTIFS($X$3:$X$10,T$17) + COUNTIFS($Y$3:$Y$10,$A26)*COUNTIFS($Y$3:$Y$10,T$17) -> 0 | W26: 0
A27: 10 | B27: =COUNTIFS($B$3:$B$10,$A27)*COUNTIFS($B$3:$B$10,B$17) + COUNTIFS($C$3:$C$10,$A27)*COUNTIFS($C$3:$C$10,B$17) + COUNTIFS($D$3:$D$10,$A27)*COUNTIFS($D$3:$D$10,B$17) + COUNTIFS($E$3:$E$10,$A27)*COUNTIFS($E$3:$E$10,B$17) + COUNTIFS($F$3:$F$10,$A27)*COUNTIFS($F$3:$F$10,B$17) + COUNTIFS($G$3:$G$10,$A27)*COUNTIFS($G$3:$G$10,B$17) + COUNTIFS($H$3:$H$10,$A27)*COUNTIFS($H$3:$H$10,B$17) + COUNTIFS($I$3:$I$10,$A27)*COUNTIFS($I$3:$I$10,B$17) + COUNTIFS($J$3:$J$10,$A27)*COUNTIFS($J$3:$J$10,B$17) + COUNTIFS($K$3:$K$10,$A27)*COUNTIFS($K$3:$K$10,B$17) + COUNTIFS($L$3:$L$10,$A27)*COUNTIFS($L$3:$L$10,B$17) + COUNTIFS($M$3:$M$10,$A27)*COUNTIFS($M$3:$M$10,B$17) + COUNTIFS($N$3:$N$10,$A27)*COUNTIFS($N$3:$N$10,B$17) + COUNTIFS($O$3:$O$10,$A27)*COUNTIFS($O$3:$O$10,B$17) + COUNTIFS($P$3:$P$10,$A27)*COUNTIFS($P$3:$P$10,B$17) + COUNTIFS($Q$3:$Q$10,$A27)*COUNTIFS($Q$3:$Q$10,B$17) + COUNTIFS($R$3:$R$10,$A27)*COUNTIFS($R$3:$R$10,B$17) + COUNTIFS($S$3:$S$10,$A27)*COUNTIFS($S$3:$S$10,B$17) + COUNTIFS($T$3:$T$10,$A27)*COUNTIFS($T$3:$T$10,B$17) + COUNTIFS($U$3:$U$10,$A27)*COUNTIFS($U$3:$U$10,B$17) + COUNTIFS($V$3:$V$10,$A27)*COUNTIFS($V$3:$V$10,B$17) + COUNTIFS($W$3:$W$10,$A27)*COUNTIFS($W$3:$W$10,B$17) + COUNTIFS($X$3:$X$10,$A27)*COUNTIFS($X$3:$X$10,B$17) + COUNTIFS($Y$3:$Y$10,$A27)*COUNTIFS($Y$3:$Y$10,B$17) -> 3 | C27: =COUNTIFS($B$3:$B$10,$A27)*COUNTIFS($B$3:$B$10,C$17) + COUNTIFS($C$3:$C$10,$A27)*COUNTIFS($C$3:$C$10,C$17) + COUNTIFS($D$3:$D$10,$A27)*COUNTIFS($D$3:$D$10,C$17) + COUNTIFS($E$3:$E$10,$A27)*COUNTIFS($E$3:$E$10,C$17) + COUNTIFS($F$3:$F$10,$A27)*COUNTIFS($F$3:$F$10,C$17) + COUNTIFS($G$3:$G$10,$A27)*COUNTIFS($G$3:$G$10,C$17) + COUNTIFS($H$3:$H$10,$A27)*COUNTIFS($H$3:$H$10,C$17) + COUNTIFS($I$3:$I$10,$A27)*COUNTIFS($I$3:$I$10,C$17) + COUNTIFS($J$3:$J$10,$A27)*COUNTIFS($J$3:$J$10,C$17) + COUNTIFS($K$3:$K$10,$A27)*COUNTIFS($K$3:$K$10,C$17) + COUNTIFS($L$3:$L$10,$A27)*COUNTIFS($L$3:$L$10,C$17) + COUNTIFS($M$3:$M$10,$A27)*COUNTIFS($M$3:$M$10,C$17) + COUNTIFS($N$3:$N$10,$A27)*COUNTIFS($N$3:$N$10,C$17) + COUNTIFS($O$3:$O$10,$A27)*COUNTIFS($O$3:$O$10,C$17) + COUNTIFS($P$3:$P$10,$A27)*COUNTIFS($P$3:$P$10,C$17) + COUNTIFS($Q$3:$Q$10,$A27)*COUNTIFS($Q$3:$Q$10,C$17) + COUNTIFS($R$3:$R$10,$A27)*COUNTIFS($R$3:$R$10,C$17) + COUNTIFS($S$3:$S$10,$A27)*COUNTIFS($S$3:$S$10,C$17) + COUNTIFS($T$3:$T$10,$A27)*COUNTIFS($T$3:$T$10,C$17) + COUNTIFS($U$3:$U$10,$A27)*COUNTIFS($U$3:$U$10,C$17) + COUNTIFS($V$3:$V$10,$A27)*COUNTIFS($V$3:$V$10,C$17) + COUNTIFS($W$3:$W$10,$A27)*COUNTIFS($W$3:$W$10,C$17) + COUNTIFS($X$3:$X$10,$A27)*COUNTIFS($X$3:$X$10,C$17) + COUNTIFS($Y$3:$Y$10,$A27)*COUNTIFS($Y$3:$Y$10,C$17) -> 5 | D27: =COUNTIFS($B$3:$B$10,$A27)*COUNTIFS($B$3:$B$10,D$17) + COUNTIFS($C$3:$C$10,$A27)*COUNTIFS($C$3:$C$10,D$17) + COUNTIFS($D$3:$D$10,$A27)*COUNTIFS($D$3:$D$10,D$17) + COUNTIFS($E$3:$E$10,$A27)*COUNTIFS($E$3:$E$10,D$17) + COUNTIFS($F$3:$F$10,$A27)*COUNTIFS($F$3:$F$10,D$17) + COUNTIFS($G$3:$G$10,$A27)*COUNTIFS($G$3:$G$10,D$17) + COUNTIFS($H$3:$H$10,$A27)*COUNTIFS($H$3:$H$10,D$17) + COUNTIFS($I$3:$I$10,$A27)*COUNTIFS($I$3:$I$10,D$17) + COUNTIFS($J$3:$J$10,$A27)*COUNTIFS($J$3:$J$10,D$17) + COUNTIFS($K$3:$K$10,$A27)*COUNTIFS($K$3:$K$10,D$17) + COUNTIFS($L$3:$L$10,$A27)*COUNTIFS($L$3:$L$10,D$17) + COUNTIFS($M$3:$M$10,$A27)*COUNTIFS($M$3:$M$10,D$17) + COUNTIFS($N$3:$N$10,$A27)*COUNTIFS($N$3:$N$10,D$17) + COUNTIFS($O$3:$O$10,$A27)*COUNTIFS($O$3:$O$10,D$17) + COUNTIFS($P$3:$P$10,$A27)*COUNTIFS($P$3:$P$10,D$17) + COUNTIFS($Q$3:$Q$10,$A27)*COUNTIFS($Q$3:$Q$10,D$17) + COUNTIFS($R$3:$R$10,$A27)*COUNTIFS($R$3:$R$10,D$17) + COUNTIFS($S$3:$S$10,$A27)*COUNTIFS($S$3:$S$10,D$17) + COUNTIFS($T$3:$T$10,$A27)*COUNTIFS($T$3:$T$10,D$17) + COUNTIFS($U$3:$U$10,$A27)*COUNTIFS($U$3:$U$10,D$17) + COUNTIFS($V$3:$V$10,$A27)*COUNTIFS($V$3:$V$10,D$17) + COUNTIFS($W$3:$W$10,$A27)*COUNTIFS($W$3:$W$10,D$17) + COUNTIFS($X$3:$X$10,$A27)*COUNTIFS($X$3:$X$10,D$17) + COUNTIFS($Y$3:$Y$10,$A27)*COUNTIFS($Y$3:$Y$10,D$17) -> 5 | E27: =COUNTIFS($B$3:$B$10,$A27)*COUNTIFS($B$3:$B$10,E$17) + COUNTIFS($C$3:$C$10,$A27)*COUNTIFS($C$3:$C$10,E$17) + COUNTIFS($D$3:$D$10,$A27)*COUNTIFS($D$3:$D$10,E$17) + COUNTIFS($E$3:$E$10,$A27)*COUNTIFS($E$3:$E$10,E$17) + COUNTIFS($F$3:$F$10,$A27)*COUNTIFS($F$3:$F$10,E$17) + COUNTIFS($G$3:$G$10,$A27)*COUNTIFS($G$3:$G$10,E$17) + COUNTIFS($H$3:$H$10,$A27)*COUNTIFS($H$3:$H$10,E$17) + COUNTIFS($I$3:$I$10,$A27)*COUNTIFS($I$3:$I$10,E$17) + COUNTIFS($J$3:$J$10,$A27)*COUNTIFS($J$3:$J$10,E$17) + COUNTIFS($K$3:$K$10,$A27)*COUNTIFS($K$3:$K$10,E$17) + COUNTIFS($L$3:$L$10,$A27)*COUNTIFS($L$3:$L$10,E$17) + COUNTIFS($M$3:$M$10,$A27)*COUNTIFS($M$3:$M$10,E$17) + COUNTIFS($N$3:$N$10,$A27)*COUNTIFS($N$3:$N$10,E$17) + COUNTIFS($O$3:$O$10,$A27)*COUNTIFS($O$3:$O$10,E$17) + COUNTIFS($P$3:$P$10,$A27)*COUNTIFS($P$3:$P$10,E$17) + COUNTIFS($Q$3:$Q$10,$A27)*COUNTIFS($Q$3:$Q$10,E$17) + COUNTIFS($R$3:$R$10,$A27)*COUNTIFS($R$3:$R$10,E$17) + COUNTIFS($S$3:$S$10,$A27)*COUNTIFS($S$3:$S$10,E$17) + COUNTIFS($T$3:$T$10,$A27)*COUNTIFS($T$3:$T$10,E$17) + COUNTIFS($U$3:$U$10,$A27)*COUNTIFS($U$3:$U$10,E$17) + COUNTIFS($V$3:$V$10,$A27)*COUNTIFS($V$3:$V$10,E$17) + COUNTIFS($W$3:$W$10,$A27)*COUNTIFS($W$3:$W$10,E$17) + COUNTIFS($X$3:$X$10,$A27)*COUNTIFS($X$3:$X$10,E$17) + COUNTIFS($Y$3:$Y$10,$A27)*COUNTIFS($Y$3:$Y$10,E$17) -> 3 | F27: =COUNTIFS($B$3:$B$10,$A27)*COUNTIFS($B$3:$B$10,F$17) + COUNTIFS($C$3:$C$10,$A27)*COUNTIFS($C$3:$C$10,F$17) + COUNTIFS($D$3:$D$10,$A27)*COUNTIFS($D$3:$D$10,F$17) + COUNTIFS($E$3:$E$10,$A27)*COUNTIFS($E$3:$E$10,F$17) + COUNTIFS($F$3:$F$10,$A27)*COUNTIFS($F$3:$F$10,F$17) + COUNTIFS($G$3:$G$10,$A27)*COUNTIFS($G$3:$G$10,F$17) + COUNTIFS($H$3:$H$10,$A27)*COUNTIFS($H$3:$H$10,F$17) + COUNTIFS($I$3:$I$10,$A27)*COUNTIFS($I$3:$I$10,F$17) + COUNTIFS($J$3:$J$10,$A27)*COUNTIFS($J$3:$J$10,F$17) + COUNTIFS($K$3:$K$10,$A27)*COUNTIFS($K$3:$K$10,F$17) + COUNTIFS($L$3:$L$10,$A27)*COUNTIFS($L$3:$L$10,F$17) + COUNTIFS($M$3:$M$10,$A27)*COUNTIFS($M$3:$M$10,F$17) + COUNTIFS($N$3:$N$10,$A27)*COUNTIFS($N$3:$N$10,F$17) + COUNTIFS($O$3:$O$10,$A27)*COUNTIFS($O$3:$O$10,F$17) + COUNTIFS($P$3:$P$10,$A27)*COUNTIFS($P$3:$P$10,F$17) + COUNTIFS($Q$3:$Q$10,$A27)*COUNTIFS($Q$3:$Q$10,F$17) + COUNTIFS($R$3:$R$10,$A27)*COUNTIFS($R$3:$R$10,F$17) + COUNTIFS($S$3:$S$10,$A27)*COUNTIFS($S$3:$S$10,F$17) + COUNTIFS($T$3:$T$10,$A27)*COUNTIFS($T$3:$T$10,F$17) + COUNTIFS($U$3:$U$10,$A27)*COUNTIFS($U$3:$U$10,F$17) + COUNTIFS($V$3:$V$10,$A27)*COUNTIFS($V$3:$V$10,F$17) + COUNTIFS($W$3:$W$10,$A27)*COUNTIFS($W$3:$W$10,F$17) + COUNTIFS($X$3:$X$10,$A27)*COUNTIFS($X$3:$X$10,F$17) + COUNTIFS($Y$3:$Y$10,$A27)*COUNTIFS($Y$3:$Y$10,F$17) -> 4 | G27: =COUNTIFS($B$3:$B$10,$A27)*COUNTIFS($B$3:$B$10,G$17) + COUNTIFS($C$3:$C$10,$A27)*COUNTIFS($C$3:$C$10,G$17) + COUNTIFS($D$3:$D$10,$A27)*COUNTIFS($D$3:$D$10,G$17) + COUNTIFS($E$3:$E$10,$A27)*COUNTIFS($E$3:$E$10,G$17) + COUNTIFS($F$3:$F$10,$A27)*COUNTIFS($F$3:$F$10,G$17) + COUNTIFS($G$3:$G$10,$A27)*COUNTIFS($G$3:$G$10,G$17) + COUNTIFS($H$3:$H$10,$A27)*COUNTIFS($H$3:$H$10,G$17) + COUNTIFS($I$3:$I$10,$A27)*COUNTIFS($I$3:$I$10,G$17) + COUNTIFS($J$3:$J$10,$A27)*COUNTIFS($J$3:$J$10,G$17) + COUNTIFS($K$3:$K$10,$A27)*COUNTIFS($K$3:$K$10,G$17) + COUNTIFS($L$3:$L$10,$A27)*COUNTIFS($L$3:$L$10,G$17) + COUNTIFS($M$3:$M$10,$A27)*COUNTIFS($M$3:$M$10,G$17) + COUNTIFS($N$3:$N$10,$A27)*COUNTIFS($N$3:$N$10,G$17) + COUNTIFS($O$3:$O$10,$A27)*COUNTIFS($O$3:$O$10,G$17) + COUNTIFS($P$3:$P$10,$A27)*COUNTIFS($P$3:$P$10,G$17) + COUNTIFS($Q$3:$Q$10,$A27)*COUNTIFS($Q$3:$Q$10,G$17) + COUNTIFS($R$3:$R$10,$A27)*COUNTIFS($R$3:$R$10,G$17) + COUNTIFS($S$3:$S$10,$A27)*COUNTIFS($S$3:$S$10,G$17) + COUNTIFS($T$3:$T$10,$A27)*COUNTIFS($T$3:$T$10,G$17) + COUNTIFS($U$3:$U$10,$A27)*COUNTIFS($U$3:$U$10,G$17) + COUNTIFS($V$3:$V$10,$A27)*COUNTIFS($V$3:$V$10,G$17) + COUNTIFS($W$3:$W$10,$A27)*COUNTIFS($W$3:$W$10,G$17) + COUNTIFS($X$3:$X$10,$A27)*COUNTIFS($X$3:$X$10,G$17) + COUNTIFS($Y$3:$Y$10,$A27)*COUNTIFS($Y$3:$Y$10,G$17) -> 4 | H27: =COUNTIFS($B$3:$B$10,$A27)*COUNTIFS($B$3:$B$10,H$17) + COUNTIFS($C$3:$C$10,$A27)*COUNTIFS($C$3:$C$10,H$17) + COUNTIFS($D$3:$D$10,$A27)*COUNTIFS($D$3:$D$10,H$17) + COUNTIFS($E$3:$E$10,$A27)*COUNTIFS($E$3:$E$10,H$17) + COUNTIFS($F$3:$F$10,$A27)*COUNTIFS($F$3:$F$10,H$17) + COUNTIFS($G$3:$G$10,$A27)*COUNTIFS($G$3:$G$10,H$17) + COUNTIFS($H$3:$H$10,$A27)*COUNTIFS($H$3:$H$10,H$17) + COUNTIFS($I$3:$I$10,$A27)*COUNTIFS($I$3:$I$10,H$17) + COUNTIFS($J$3:$J$10,$A27)*COUNTIFS($J$3:$J$10,H$17) + COUNTIFS($K$3:$K$10,$A27)*COUNTIFS($K$3:$K$10,H$17) + COUNTIFS($L$3:$L$10,$A27)*COUNTIFS($L$3:$L$10,H$17) + COUNTIFS($M$3:$M$10,$A27)*COUNTIFS($M$3:$M$10,H$17) + COUNTIFS($N$3:$N$10,$A27)*COUNTIFS($N$3:$N$10,H$17) + COUNTIFS($O$3:$O$10,$A27)*COUNTIFS($O$3:$O$10,H$17) + COUNTIFS($P$3:$P$10,$A27)*COUNTIFS($P$3:$P$10,H$17) + COUNTIFS($Q$3:$Q$10,$A27)*COUNTIFS($Q$3:$Q$10,H$17) + COUNTIFS($R$3:$R$10,$A27)*COUNTIFS($R$3:$R$10,H$17) + COUNTIFS($S$3:$S$10,$A27)*COUNTIFS($S$3:$S$10,H$17) + COUNTIFS($T$3:$T$10,$A27)*COUNTIFS($T$3:$T$10,H$17) + COUNTIFS($U$3:$U$10,$A27)*COUNTIFS($U$3:$U$10,H$17) + COUNTIFS($V$3:$V$10,$A27)*COUNTIFS($V$3:$V$10,H$17) + COUNTIFS($W$3:$W$10,$A27)*COUNTIFS($W$3:$W$10,H$17) + COUNTIFS($X$3:$X$10,$A27)*COUNTIFS($X$3:$X$10,H$17) + COUNTIFS($Y$3:$Y$10,$A27)*COUNTIFS($Y$3:$Y$10,H$17) -> 2 | I27: =COUNTIFS($B$3:$B$10,$A27)*COUNTIFS($B$3:$B$10,I$17) + COUNTIFS($C$3:$C$10,$A27)*COUNTIFS($C$3:$C$10,I$17) + COUNTIFS($D$3:$D$10,$A27)*COUNTIFS($D$3:$D$10,I$17) + COUNTIFS($E$3:$E$10,$A27)*COUNTIFS($E$3:$E$10,I$17) + COUNTIFS($F$3:$F$10,$A27)*COUNTIFS($F$3:$F$10,I$17) + COUNTIFS($G$3:$G$10,$A27)*COUNTIFS($G$3:$G$10,I$17) + COUNTIFS($H$3:$H$10,$A27)*COUNTIFS($H$3:$H$10,I$17) + COUNTIFS($I$3:$I$10,$A27)*COUNTIFS($I$3:$I$10,I$17) + COUNTIFS($J$3:$J$10,$A27)*COUNTIFS($J$3:$J$10,I$17) + COUNTIFS($K$3:$K$10,$A27)*COUNTIFS($K$3:$K$10,I$17) + COUNTIFS($L$3:$L$10,$A27)*COUNTIFS($L$3:$L$10,I$17) + COUNTIFS($M$3:$M$10,$A27)*COUNTIFS($M$3:$M$10,I$17) + COUNTIFS($N$3:$N$10,$A27)*COUNTIFS($N$3:$N$10,I$17) + COUNTIFS($O$3:$O$10,$A27)*COUNTIFS($O$3:$O$10,I$17) + COUNTIFS($P$3:$P$10,$A27)*COUNTIFS($P$3:$P$10,I$17) + COUNTIFS($Q$3:$Q$10,$A27)*COUNTIFS($Q$3:$Q$10,I$17) + COUNTIFS($R$3:$R$10,$A27)*COUNTIFS($R$3:$R$10,I$17) + COUNTIFS($S$3:$S$10,$A27)*COUNTIFS($S$3:$S$10,I$17) + COUNTIFS($T$3:$T$10,$A27)*COUNTIFS($T$3:$T$10,I$17) + COUNTIFS($U$3:$U$10,$A27)*COUNTIFS($U$3:$U$10,I$17) + COUNTIFS($V$3:$V$10,$A27)*COUNTIFS($V$3:$V$10,I$17) + COUNTIFS($W$3:$W$10,$A27)*COUNTIFS($W$3:$W$10,I$17) + COUNTIFS($X$3:$X$10,$A27)*COUNTIFS($X$3:$X$10,I$17) + COUNTIFS($Y$3:$Y$10,$A27)*COUNTIFS($Y$3:$Y$10,I$17) -> 2 | ... T27: =COUNTIFS($B$3:$B$10,$A27)*COUNTIFS($B$3:$B$10,T$17) + COUNTIFS($C$3:$C$10,$A27)*COUNTIFS($C$3:$C$10,T$17) + COUNTIFS($D$3:$D$10,$A27)*COUNTIFS($D$3:$D$10,T$17) + COUNTIFS($E$3:$E$10,$A27)*COUNTIFS($E$3:$E$10,T$17) + COUNTIFS($F$3:$F$10,$A27)*COUNTIFS($F$3:$F$10,T$17) + COUNTIFS($G$3:$G$10,$A27)*COUNTIFS($G$3:$G$10,T$17) + COUNTIFS($H$3:$H$10,$A27)*COUNTIFS($H$3:$H$10,T$17) + COUNTIFS($I$3:$I$10,$A27)*COUNTIFS($I$3:$I$10,T$17) + COUNTIFS($J$3:$J$10,$A27)*COUNTIFS($J$3:$J$10,T$17) + COUNTIFS($K$3:$K$10,$A27)*COUNTIFS($K$3:$K$10,T$17) + COUNTIFS($L$3:$L$10,$A27)*COUNTIFS($L$3:$L$10,T$17) + COUNTIFS($M$3:$M$10,$A27)*COUNTIFS($M$3:$M$10,T$17) + COUNTIFS($N$3:$N$10,$A27)*COUNTIFS($N$3:$N$10,T$17) + COUNTIFS($O$3:$O$10,$A27)*COUNTIFS($O$3:$O$10,T$17) + COUNTIFS($P$3:$P$10,$A27)*COUNTIFS($P$3:$P$10,T$17) + COUNTIFS($Q$3:$Q$10,$A27)*COUNTIFS($Q$3:$Q$10,T$17) + COUNTIFS($R$3:$R$10,$A27)*COUNTIFS($R$3:$R$10,T$17) + COUNTIFS($S$3:$S$10,$A27)*COUNTIFS($S$3:$S$10,T$17) + COUNTIFS($T$3:$T$10,$A27)*COUNTIFS($T$3:$T$10,T$17) + COUNTIFS($U$3:$U$10,$A27)*COUNTIFS($U$3:$U$10,T$17) + COUNTIFS($V$3:$V$10,$A27)*COUNTIFS($V$3:$V$10,T$17) + COUNTIFS($W$3:$W$10,$A27)*COUNTIFS($W$3:$W$10,T$17) + COUNTIFS($X$3:$X$10,$A27)*COUNTIFS($X$3:$X$10,T$17) + COUNTIFS($Y$3:$Y$10,$A27)*COUNTIFS($Y$3:$Y$10,T$17) -> 0
A28: 11 | B28: =COUNTIFS($B$3:$B$10,$A28)*COUNTIFS($B$3:$B$10,B$17) + COUNTIFS($C$3:$C$10,$A28)*COUNTIFS($C$3:$C$10,B$17) + COUNTIFS($D$3:$D$10,$A28)*COUNTIFS($D$3:$D$10,B$17) + COUNTIFS($E$3:$E$10,$A28)*COUNTIFS($E$3:$E$10,B$17) + COUNTIFS($F$3:$F$10,$A28)*COUNTIFS($F$3:$F$10,B$17) + COUNTIFS($G$3:$G$10,$A28)*COUNTIFS($G$3:$G$10,B$17) + COUNTIFS($H$3:$H$10,$A28)*COUNTIFS($H$3:$H$10,B$17) + COUNTIFS($I$3:$I$10,$A28)*COUNTIFS($I$3:$I$10,B$17) + COUNTIFS($J$3:$J$10,$A28)*COUNTIFS($J$3:$J$10,B$17) + COUNTIFS($K$3:$K$10,$A28)*COUNTIFS($K$3:$K$10,B$17) + COUNTIFS($L$3:$L$10,$A28)*COUNTIFS($L$3:$L$10,B$17) + COUNTIFS($M$3:$M$10,$A28)*COUNTIFS($M$3:$M$10,B$17) + COUNTIFS($N$3:$N$10,$A28)*COUNTIFS($N$3:$N$10,B$17) + COUNTIFS($O$3:$O$10,$A28)*COUNTIFS($O$3:$O$10,B$17) + COUNTIFS($P$3:$P$10,$A28)*COUNTIFS($P$3:$P$10,B$17) + COUNTIFS($Q$3:$Q$10,$A28)*COUNTIFS($Q$3:$Q$10,B$17) + COUNTIFS($R$3:$R$10,$A28)*COUNTIFS($R$3:$R$10,B$17) + COUNTIFS($S$3:$S$10,$A28)*COUNTIFS($S$3:$S$10,B$17) + COUNTIFS($T$3:$T$10,$A28)*COUNTIFS($T$3:$T$10,B$17) + COUNTIFS($U$3:$U$10,$A28)*COUNTIFS($U$3:$U$10,B$17) + COUNTIFS($V$3:$V$10,$A28)*COUNTIFS($V$3:$V$10,B$17) + COUNTIFS($W$3:$W$10,$A28)*COUNTIFS($W$3:$W$10,B$17) + COUNTIFS($X$3:$X$10,$A28)*COUNTIFS($X$3:$X$10,B$17) + COUNTIFS($Y$3:$Y$10,$A28)*COUNTIFS($Y$3:$Y$10,B$17) -> 3 | C28: =COUNTIFS($B$3:$B$10,$A28)*COUNTIFS($B$3:$B$10,C$17) + COUNTIFS($C$3:$C$10,$A28)*COUNTIFS($C$3:$C$10,C$17) + COUNTIFS($D$3:$D$10,$A28)*COUNTIFS($D$3:$D$10,C$17) + COUNTIFS($E$3:$E$10,$A28)*COUNTIFS($E$3:$E$10,C$17) + COUNTIFS($F$3:$F$10,$A28)*COUNTIFS($F$3:$F$10,C$17) + COUNTIFS($G$3:$G$10,$A28)*COUNTIFS($G$3:$G$10,C$17) + COUNTIFS($H$3:$H$10,$A28)*COUNTIFS($H$3:$H$10,C$17) + COUNTIFS($I$3:$I$10,$A28)*COUNTIFS($I$3:$I$10,C$17) + COUNTIFS($J$3:$J$10,$A28)*COUNTIFS($J$3:$J$10,C$17) + COUNTIFS($K$3:$K$10,$A28)*COUNTIFS($K$3:$K$10,C$17) + COUNTIFS($L$3:$L$10,$A28)*COUNTIFS($L$3:$L$10,C$17) + COUNTIFS($M$3:$M$10,$A28)*COUNTIFS($M$3:$M$10,C$17) + COUNTIFS($N$3:$N$10,$A28)*COUNTIFS($N$3:$N$10,C$17) + COUNTIFS($O$3:$O$10,$A28)*COUNTIFS($O$3:$O$10,C$17) + COUNTIFS($P$3:$P$10,$A28)*COUNTIFS($P$3:$P$10,C$17) + COUNTIFS($Q$3:$Q$10,$A28)*COUNTIFS($Q$3:$Q$10,C$17) + COUNTIFS($R$3:$R$10,$A28)*COUNTIFS($R$3:$R$10,C$17) + COUNTIFS($S$3:$S$10,$A28)*COUNTIFS($S$3:$S$10,C$17) + COUNTIFS($T$3:$T$10,$A28)*COUNTIFS($T$3:$T$10,C$17) + COUNTIFS($U$3:$U$10,$A28)*COUNTIFS($U$3:$U$10,C$17) + COUNTIFS($V$3:$V$10,$A28)*COUNTIFS($V$3:$V$10,C$17) + COUNTIFS($W$3:$W$10,$A28)*COUNTIFS($W$3:$W$10,C$17) + COUNTIFS($X$3:$X$10,$A28)*COUNTIFS($X$3:$X$10,C$17) + COUNTIFS($Y$3:$Y$10,$A28)*COUNTIFS($Y$3:$Y$10,C$17) -> 5 | D28: =COUNTIFS($B$3:$B$10,$A28)*COUNTIFS($B$3:$B$10,D$17) + COUNTIFS($C$3:$C$10,$A28)*COUNTIFS($C$3:$C$10,D$17) + COUNTIFS($D$3:$D$10,$A28)*COUNTIFS($D$3:$D$10,D$17) + COUNTIFS($E$3:$E$10,$A28)*COUNTIFS($E$3:$E$10,D$17) + COUNTIFS($F$3:$F$10,$A28)*COUNTIFS($F$3:$F$10,D$17) + COUNTIFS($G$3:$G$10,$A28)*COUNTIFS($G$3:$G$10,D$17) + COUNTIFS($H$3:$H$10,$A28)*COUNTIFS($H$3:$H$10,D$17) + COUNTIFS($I$3:$I$10,$A28)*COUNTIFS($I$3:$I$10,D$17) + COUNTIFS($J$3:$J$10,$A28)*COUNTIFS($J$3:$J$10,D$17) + COUNTIFS($K$3:$K$10,$A28)*COUNTIFS($K$3:$K$10,D$17) + COUNTIFS($L$3:$L$10,$A28)*COUNTIFS($L$3:$L$10,D$17) + COUNTIFS($M$3:$M$10,$A28)*COUNTIFS($M$3:$M$10,D$17) + COUNTIFS($N$3:$N$10,$A28)*COUNTIFS($N$3:$N$10,D$17) + COUNTIFS($O$3:$O$10,$A28)*COUNTIFS($O$3:$O$10,D$17) + COUNTIFS($P$3:$P$10,$A28)*COUNTIFS($P$3:$P$10,D$17) + COUNTIFS($Q$3:$Q$10,$A28)*COUNTIFS($Q$3:$Q$10,D$17) + COUNTIFS($R$3:$R$10,$A28)*COUNTIFS($R$3:$R$10,D$17) + COUNTIFS($S$3:$S$10,$A28)*COUNTIFS($S$3:$S$10,D$17) + COUNTIFS($T$3:$T$10,$A28)*COUNTIFS($T$3:$T$10,D$17) + COUNTIFS($U$3:$U$10,$A28)*COUNTIFS($U$3:$U$10,D$17) + COUNTIFS($V$3:$V$10,$A28)*COUNTIFS($V$3:$V$10,D$17) + COUNTIFS($W$3:$W$10,$A28)*COUNTIFS($W$3:$W$10,D$17) + COUNTIFS($X$3:$X$10,$A28)*COUNTIFS($X$3:$X$10,D$17) + COUNTIFS($Y$3:$Y$10,$A28)*COUNTIFS($Y$3:$Y$10,D$17) -> 3 | E28: =COUNTIFS($B$3:$B$10,$A28)*COUNTIFS($B$3:$B$10,E$17) + COUNTIFS($C$3:$C$10,$A28)*COUNTIFS($C$3:$C$10,E$17) + COUNTIFS($D$3:$D$10,$A28)*COUNTIFS($D$3:$D$10,E$17) + COUNTIFS($E$3:$E$10,$A28)*COUNTIFS($E$3:$E$10,E$17) + COUNTIFS($F$3:$F$10,$A28)*COUNTIFS($F$3:$F$10,E$17) + COUNTIFS($G$3:$G$10,$A28)*COUNTIFS($G$3:$G$10,E$17) + COUNTIFS($H$3:$H$10,$A28)*COUNTIFS($H$3:$H$10,E$17) + COUNTIFS($I$3:$I$10,$A28)*COUNTIFS($I$3:$I$10,E$17) + COUNTIFS($J$3:$J$10,$A28)*COUNTIFS($J$3:$J$10,E$17) + COUNTIFS($K$3:$K$10,$A28)*COUNTIFS($K$3:$K$10,E$17) + COUNTIFS($L$3:$L$10,$A28)*COUNTIFS($L$3:$L$10,E$17) + COUNTIFS($M$3:$M$10,$A28)*COUNTIFS($M$3:$M$10,E$17) + COUNTIFS($N$3:$N$10,$A28)*COUNTIFS($N$3:$N$10,E$17) + COUNTIFS($O$3:$O$10,$A28)*COUNTIFS($O$3:$O$10,E$17) + COUNTIFS($P$3:$P$10,$A28)*COUNTIFS($P$3:$P$10,E$17) + COUNTIFS($Q$3:$Q$10,$A28)*COUNTIFS($Q$3:$Q$10,E$17) + COUNTIFS($R$3:$R$10,$A28)*COUNTIFS($R$3:$R$10,E$17) + COUNTIFS($S$3:$S$10,$A28)*COUNTIFS($S$3:$S$10,E$17) + COUNTIFS($T$3:$T$10,$A28)*COUNTIFS($T$3:$T$10,E$17) + COUNTIFS($U$3:$U$10,$A28)*COUNTIFS($U$3:$U$10,E$17) + COUNTIFS($V$3:$V$10,$A28)*COUNTIFS($V$3:$V$10,E$17) + COUNTIFS($W$3:$W$10,$A28)*COUNTIFS($W$3:$W$10,E$17) + COUNTIFS($X$3:$X$10,$A28)*COUNTIFS($X$3:$X$10,E$17) + COUNTIFS($Y$3:$Y$10,$A28)*COUNTIFS($Y$3:$Y$10,E$17) -> 5 | F28: =COUNTIFS($B$3:$B$10,$A28)*COUNTIFS($B$3:$B$10,F$17) + COUNTIFS($C$3:$C$10,$A28)*COUNTIFS($C$3:$C$10,F$17) + COUNTIFS($D$3:$D$10,$A28)*COUNTIFS($D$3:$D$10,F$17) + COUNTIFS($E$3:$E$10,$A28)*COUNTIFS($E$3:$E$10,F$17) + COUNTIFS($F$3:$F$10,$A28)*COUNTIFS($F$3:$F$10,F$17) + COUNTIFS($G$3:$G$10,$A28)*COUNTIFS($G$3:$G$10,F$17) + COUNTIFS($H$3:$H$10,$A28)*COUNTIFS($H$3:$H$10,F$17) + COUNTIFS($I$3:$I$10,$A28)*COUNTIFS($I$3:$I$10,F$17) + COUNTIFS($J$3:$J$10,$A28)*COUNTIFS($J$3:$J$10,F$17) + COUNTIFS($K$3:$K$10,$A28)*COUNTIFS($K$3:$K$10,F$17) + COUNTIFS($L$3:$L$10,$A28)*COUNTIFS($L$3:$L$10,F$17) + COUNTIFS($M$3:$M$10,$A28)*COUNTIFS($M$3:$M$10,F$17) + COUNTIFS($N$3:$N$10,$A28)*COUNTIFS($N$3:$N$10,F$17) + COUNTIFS($O$3:$O$10,$A28)*COUNTIFS($O$3:$O$10,F$17) + COUNTIFS($P$3:$P$10,$A28)*COUNTIFS($P$3:$P$10,F$17) + COUNTIFS($Q$3:$Q$10,$A28)*COUNTIFS($Q$3:$Q$10,F$17) + COUNTIFS($R$3:$R$10,$A28)*COUNTIFS($R$3:$R$10,F$17) + COUNTIFS($S$3:$S$10,$A28)*COUNTIFS($S$3:$S$10,F$17) + COUNTIFS($T$3:$T$10,$A28)*COUNTIFS($T$3:$T$10,F$17) + COUNTIFS($U$3:$U$10,$A28)*COUNTIFS($U$3:$U$10,F$17) + COUNTIFS($V$3:$V$10,$A28)*COUNTIFS($V$3:$V$10,F$17) + COUNTIFS($W$3:$W$10,$A28)*COUNTIFS($W$3:$W$10,F$17) + COUNTIFS($X$3:$X$10,$A28)*COUNTIFS($X$3:$X$10,F$17) + COUNTIFS($Y$3:$Y$10,$A28)*COUNTIFS($Y$3:$Y$10,F$17) -> 2 | G28: =COUNTIFS($B$3:$B$10,$A28)*COUNTIFS($B$3:$B$10,G$17) + COUNTIFS($C$3:$C$10,$A28)*COUNTIFS($C$3:$C$10,G$17) + COUNTIFS($D$3:$D$10,$A28)*COUNTIFS($D$3:$D$10,G$17) + COUNTIFS($E$3:$E$10,$A28)*COUNTIFS($E$3:$E$10,G$17) + COUNTIFS($F$3:$F$10,$A28)*COUNTIFS($F$3:$F$10,G$17) + COUNTIFS($G$3:$G$10,$A28)*COUNTIFS($G$3:$G$10,G$17) + COUNTIFS($H$3:$H$10,$A28)*COUNTIFS($H$3:$H$10,G$17) + COUNTIFS($I$3:$I$10,$A28)*COUNTIFS($I$3:$I$10,G$17) + COUNTIFS($J$3:$J$10,$A28)*COUNTIFS($J$3:$J$10,G$17) + COUNTIFS($K$3:$K$10,$A28)*COUNTIFS($K$3:$K$10,G$17) + COUNTIFS($L$3:$L$10,$A28)*COUNTIFS($L$3:$L$10,G$17) + COUNTIFS($M$3:$M$10,$A28)*COUNTIFS($M$3:$M$10,G$17) + COUNTIFS($N$3:$N$10,$A28)*COUNTIFS($N$3:$N$10,G$17) + COUNTIFS($O$3:$O$10,$A28)*COUNTIFS($O$3:$O$10,G$17) + COUNTIFS($P$3:$P$10,$A28)*COUNTIFS($P$3:$P$10,G$17) + COUNTIFS($Q$3:$Q$10,$A28)*COUNTIFS($Q$3:$Q$10,G$17) + COUNTIFS($R$3:$R$10,$A28)*COUNTIFS($R$3:$R$10,G$17) + COUNTIFS($S$3:$S$10,$A28)*COUNTIFS($S$3:$S$10,G$17) + COUNTIFS($T$3:$T$10,$A28)*COUNTIFS($T$3:$T$10,G$17) + COUNTIFS($U$3:$U$10,$A28)*COUNTIFS($U$3:$U$10,G$17) + COUNTIFS($V$3:$V$10,$A28)*COUNTIFS($V$3:$V$10,G$17) + COUNTIFS($W$3:$W$10,$A28)*COUNTIFS($W$3:$W$10,G$17) + COUNTIFS($X$3:$X$10,$A28)*COUNTIFS($X$3:$X$10,G$17) + COUNTIFS($Y$3:$Y$10,$A28)*COUNTIFS($Y$3:$Y$10,G$17) -> 2 | H28: =COUNTIFS($B$3:$B$10,$A28)*COUNTIFS($B$3:$B$10,H$17) + COUNTIFS($C$3:$C$10,$A28)*COUNTIFS($C$3:$C$10,H$17) + COUNTIFS($D$3:$D$10,$A28)*COUNTIFS($D$3:$D$10,H$17) + COUNTIFS($E$3:$E$10,$A28)*COUNTIFS($E$3:$E$10,H$17) + COUNTIFS($F$3:$F$10,$A28)*COUNTIFS($F$3:$F$10,H$17) + COUNTIFS($G$3:$G$10,$A28)*COUNTIFS($G$3:$G$10,H$17) + COUNTIFS($H$3:$H$10,$A28)*COUNTIFS($H$3:$H$10,H$17) + COUNTIFS($I$3:$I$10,$A28)*COUNTIFS($I$3:$I$10,H$17) + COUNTIFS($J$3:$J$10,$A28)*COUNTIFS($J$3:$J$10,H$17) + COUNTIFS($K$3:$K$10,$A28)*COUNTIFS($K$3:$K$10,H$17) + COUNTIFS($L$3:$L$10,$A28)*COUNTIFS($L$3:$L$10,H$17) + COUNTIFS($M$3:$M$10,$A28)*COUNTIFS($M$3:$M$10,H$17) + COUNTIFS($N$3:$N$10,$A28)*COUNTIFS($N$3:$N$10,H$17) + COUNTIFS($O$3:$O$10,$A28)*COUNTIFS($O$3:$O$10,H$17) + COUNTIFS($P$3:$P$10,$A28)*COUNTIFS($P$3:$P$10,H$17) + COUNTIFS($Q$3:$Q$10,$A28)*COUNTIFS($Q$3:$Q$10,H$17) + COUNTIFS($R$3:$R$10,$A28)*COUNTIFS($R$3:$R$10,H$17) + COUNTIFS($S$3:$S$10,$A28)*COUNTIFS($S$3:$S$10,H$17) + COUNTIFS($T$3:$T$10,$A28)*COUNTIFS($T$3:$T$10,H$17) + COUNTIFS($U$3:$U$10,$A28)*COUNTIFS($U$3:$U$10,H$17) + COUNTIFS($V$3:$V$10,$A28)*COUNTIFS($V$3:$V$10,H$17) + COUNTIFS($W$3:$W$10,$A28)*COUNTIFS($W$3:$W$10,H$17) + COUNTIFS($X$3:$X$10,$A28)*COUNTIFS($X$3:$X$10,H$17) + COUNTIFS($Y$3:$Y$10,$A28)*COUNTIFS($Y$3:$Y$10,H$17) -> 4 | I28: =COUNTIFS($B$3:$B$10,$A28)*COUNTIFS($B$3:$B$10,I$17) + COUNTIFS($C$3:$C$10,$A28)*COUNTIFS($C$3:$C$10,I$17) + COUNTIFS($D$3:$D$10,$A28)*COUNTIFS($D$3:$D$10,I$17) + COUNTIFS($E$3:$E$10,$A28)*COUNTIFS($E$3:$E$10,I$17) + COUNTIFS($F$3:$F$10,$A28)*COUNTIFS($F$3:$F$10,I$17) + COUNTIFS($G$3:$G$10,$A28)*COUNTIFS($G$3:$G$10,I$17) + COUNTIFS($H$3:$H$10,$A28)*COUNTIFS($H$3:$H$10,I$17) + COUNTIFS($I$3:$I$10,$A28)*COUNTIFS($I$3:$I$10,I$17) + COUNTIFS($J$3:$J$10,$A28)*COUNTIFS($J$3:$J$10,I$17) + COUNTIFS($K$3:$K$10,$A28)*COUNTIFS($K$3:$K$10,I$17) + COUNTIFS($L$3:$L$10,$A28)*COUNTIFS($L$3:$L$10,I$17) + COUNTIFS($M$3:$M$10,$A28)*COUNTIFS($M$3:$M$10,I$17) + COUNTIFS($N$3:$N$10,$A28)*COUNTIFS($N$3:$N$10,I$17) + COUNTIFS($O$3:$O$10,$A28)*COUNTIFS($O$3:$O$10,I$17) + COUNTIFS($P$3:$P$10,$A28)*COUNTIFS($P$3:$P$10,I$17) + COUNTIFS($Q$3:$Q$10,$A28)*COUNTIFS($Q$3:$Q$10,I$17) + COUNTIFS($R$3:$R$10,$A28)*COUNTIFS($R$3:$R$10,I$17) + COUNTIFS($S$3:$S$10,$A28)*COUNTIFS($S$3:$S$10,I$17) + COUNTIFS($T$3:$T$10,$A28)*COUNTIFS($T$3:$T$10,I$17) + COUNTIFS($U$3:$U$10,$A28)*COUNTIFS($U$3:$U$10,I$17) + COUNTIFS($V$3:$V$10,$A28)*COUNTIFS($V$3:$V$10,I$17) + COUNTIFS($W$3:$W$10,$A28)*COUNTIFS($W$3:$W$10,I$17) + COUNTIFS($X$3:$X$10,$A28)*COUNTIFS($X$3:$X$10,I$17) + COUNTIFS($Y$3:$Y$10,$A28)*COUNTIFS($Y$3:$Y$10,I$17) -> 4 | ... T28: =COUNTIFS($B$3:$B$10,$A28)*COUNTIFS($B$3:$B$10,T$17) + COUNTIFS($C$3:$C$10,$A28)*COUNTIFS($C$3:$C$10,T$17) + COUNTIFS($D$3:$D$10,$A28)*COUNTIFS($D$3:$D$10,T$17) + COUNTIFS($E$3:$E$10,$A28)*COUNTIFS($E$3:$E$10,T$17) + COUNTIFS($F$3:$F$10,$A28)*COUNTIFS($F$3:$F$10,T$17) + COUNTIFS($G$3:$G$10,$A28)*COUNTIFS($G$3:$G$10,T$17) + COUNTIFS($H$3:$H$10,$A28)*COUNTIFS($H$3:$H$10,T$17) + COUNTIFS($I$3:$I$10,$A28)*COUNTIFS($I$3:$I$10,T$17) + COUNTIFS($J$3:$J$10,$A28)*COUNTIFS($J$3:$J$10,T$17) + COUNTIFS($K$3:$K$10,$A28)*COUNTIFS($K$3:$K$10,T$17) + COUNTIFS($L$3:$L$10,$A28)*COUNTIFS($L$3:$L$10,T$17) + COUNTIFS($M$3:$M$10,$A28)*COUNTIFS($M$3:$M$10,T$17) + COUNTIFS($N$3:$N$10,$A28)*COUNTIFS($N$3:$N$10,T$17) + COUNTIFS($O$3:$O$10,$A28)*COUNTIFS($O$3:$O$10,T$17) + COUNTIFS($P$3:$P$10,$A28)*COUNTIFS($P$3:$P$10,T$17) + COUNTIFS($Q$3:$Q$10,$A28)*COUNTIFS($Q$3:$Q$10,T$17) + COUNTIFS($R$3:$R$10,$A28)*COUNTIFS($R$3:$R$10,T$17) + COUNTIFS($S$3:$S$10,$A28)*COUNTIFS($S$3:$S$10,T$17) + COUNTIFS($T$3:$T$10,$A28)*COUNTIFS($T$3:$T$10,T$17) + COUNTIFS($U$3:$U$10,$A28)*COUNTIFS($U$3:$U$10,T$17) + COUNTIFS($V$3:$V$10,$A28)*COUNTIFS($V$3:$V$10,T$17) + COUNTIFS($W$3:$W$10,$A28)*COUNTIFS($W$3:$W$10,T$17) + COUNTIFS($X$3:$X$10,$A28)*COUNTIFS($X$3:$X$10,T$17) + COUNTIFS($Y$3:$Y$10,$A28)*COUNTIFS($Y$3:$Y$10,T$17) -> 0
A29: 12 | B29: =COUNTIFS($B$3:$B$10,$A29)*COUNTIFS($B$3:$B$10,B$17) + COUNTIFS($C$3:$C$10,$A29)*COUNTIFS($C$3:$C$10,B$17) + COUNTIFS($D$3:$D$10,$A29)*COUNTIFS($D$3:$D$10,B$17) + COUNTIFS($E$3:$E$10,$A29)*COUNTIFS($E$3:$E$10,B$17) + COUNTIFS($F$3:$F$10,$A29)*COUNTIFS($F$3:$F$10,B$17) + COUNTIFS($G$3:$G$10,$A29)*COUNTIFS($G$3:$G$10,B$17) + COUNTIFS($H$3:$H$10,$A29)*COUNTIFS($H$3:$H$10,B$17) + COUNTIFS($I$3:$I$10,$A29)*COUNTIFS($I$3:$I$10,B$17) + COUNTIFS($J$3:$J$10,$A29)*COUNTIFS($J$3:$J$10,B$17) + COUNTIFS($K$3:$K$10,$A29)*COUNTIFS($K$3:$K$10,B$17) + COUNTIFS($L$3:$L$10,$A29)*COUNTIFS($L$3:$L$10,B$17) + COUNTIFS($M$3:$M$10,$A29)*COUNTIFS($M$3:$M$10,B$17) + COUNTIFS($N$3:$N$10,$A29)*COUNTIFS($N$3:$N$10,B$17) + COUNTIFS($O$3:$O$10,$A29)*COUNTIFS($O$3:$O$10,B$17) + COUNTIFS($P$3:$P$10,$A29)*COUNTIFS($P$3:$P$10,B$17) + COUNTIFS($Q$3:$Q$10,$A29)*COUNTIFS($Q$3:$Q$10,B$17) + COUNTIFS($R$3:$R$10,$A29)*COUNTIFS($R$3:$R$10,B$17) + COUNTIFS($S$3:$S$10,$A29)*COUNTIFS($S$3:$S$10,B$17) + COUNTIFS($T$3:$T$10,$A29)*COUNTIFS($T$3:$T$10,B$17) + COUNTIFS($U$3:$U$10,$A29)*COUNTIFS($U$3:$U$10,B$17) + COUNTIFS($V$3:$V$10,$A29)*COUNTIFS($V$3:$V$10,B$17) + COUNTIFS($W$3:$W$10,$A29)*COUNTIFS($W$3:$W$10,B$17) + COUNTIFS($X$3:$X$10,$A29)*COUNTIFS($X$3:$X$10,B$17) + COUNTIFS($Y$3:$Y$10,$A29)*COUNTIFS($Y$3:$Y$10,B$17) -> 0 | C29: =COUNTIFS($B$3:$B$10,$A29)*COUNTIFS($B$3:$B$10,C$17) + COUNTIFS($C$3:$C$10,$A29)*COUNTIFS($C$3:$C$10,C$17) + COUNTIFS($D$3:$D$10,$A29)*COUNTIFS($D$3:$D$10,C$17) + COUNTIFS($E$3:$E$10,$A29)*COUNTIFS($E$3:$E$10,C$17) + COUNTIFS($F$3:$F$10,$A29)*COUNTIFS($F$3:$F$10,C$17) + COUNTIFS($G$3:$G$10,$A29)*COUNTIFS($G$3:$G$10,C$17) + COUNTIFS($H$3:$H$10,$A29)*COUNTIFS($H$3:$H$10,C$17) + COUNTIFS($I$3:$I$10,$A29)*COUNTIFS($I$3:$I$10,C$17) + COUNTIFS($J$3:$J$10,$A29)*COUNTIFS($J$3:$J$10,C$17) + COUNTIFS($K$3:$K$10,$A29)*COUNTIFS($K$3:$K$10,C$17) + COUNTIFS($L$3:$L$10,$A29)*COUNTIFS($L$3:$L$10,C$17) + COUNTIFS($M$3:$M$10,$A29)*COUNTIFS($M$3:$M$10,C$17) + COUNTIFS($N$3:$N$10,$A29)*COUNTIFS($N$3:$N$10,C$17) + COUNTIFS($O$3:$O$10,$A29)*COUNTIFS($O$3:$O$10,C$17) + COUNTIFS($P$3:$P$10,$A29)*COUNTIFS($P$3:$P$10,C$17) + COUNTIFS($Q$3:$Q$10,$A29)*COUNTIFS($Q$3:$Q$10,C$17) + COUNTIFS($R$3:$R$10,$A29)*COUNTIFS($R$3:$R$10,C$17) + COUNTIFS($S$3:$S$10,$A29)*COUNTIFS($S$3:$S$10,C$17) + COUNTIFS($T$3:$T$10,$A29)*COUNTIFS($T$3:$T$10,C$17) + COUNTIFS($U$3:$U$10,$A29)*COUNTIFS($U$3:$U$10,C$17) + COUNTIFS($V$3:$V$10,$A29)*COUNTIFS($V$3:$V$10,C$17) + COUNTIFS($W$3:$W$10,$A29)*COUNTIFS($W$3:$W$10,C$17) + COUNTIFS($X$3:$X$10,$A29)*COUNTIFS($X$3:$X$10,C$17) + COUNTIFS($Y$3:$Y$10,$A29)*COUNTIFS($Y$3:$Y$10,C$17) -> 0 | D29: =COUNTIFS($B$3:$B$10,$A29)*COUNTIFS($B$3:$B$10,D$17) + COUNTIFS($C$3:$C$10,$A29)*COUNTIFS($C$3:$C$10,D$17) + COUNTIFS($D$3:$D$10,$A29)*COUNTIFS($D$3:$D$10,D$17) + COUNTIFS($E$3:$E$10,$A29)*COUNTIFS($E$3:$E$10,D$17) + COUNTIFS($F$3:$F$10,$A29)*COUNTIFS($F$3:$F$10,D$17) + COUNTIFS($G$3:$G$10,$A29)*COUNTIFS($G$3:$G$10,D$17) + COUNTIFS($H$3:$H$10,$A29)*COUNTIFS($H$3:$H$10,D$17) + COUNTIFS($I$3:$I$10,$A29)*COUNTIFS($I$3:$I$10,D$17) + COUNTIFS($J$3:$J$10,$A29)*COUNTIFS($J$3:$J$10,D$17) + COUNTIFS($K$3:$K$10,$A29)*COUNTIFS($K$3:$K$10,D$17) + COUNTIFS($L$3:$L$10,$A29)*COUNTIFS($L$3:$L$10,D$17) + COUNTIFS($M$3:$M$10,$A29)*COUNTIFS($M$3:$M$10,D$17) + COUNTIFS($N$3:$N$10,$A29)*COUNTIFS($N$3:$N$10,D$17) + COUNTIFS($O$3:$O$10,$A29)*COUNTIFS($O$3:$O$10,D$17) + COUNTIFS($P$3:$P$10,$A29)*COUNTIFS($P$3:$P$10,D$17) + COUNTIFS($Q$3:$Q$10,$A29)*COUNTIFS($Q$3:$Q$10,D$17) + COUNTIFS($R$3:$R$10,$A29)*COUNTIFS($R$3:$R$10,D$17) + COUNTIFS($S$3:$S$10,$A29)*COUNTIFS($S$3:$S$10,D$17) + COUNTIFS($T$3:$T$10,$A29)*COUNTIFS($T$3:$T$10,D$17) + COUNTIFS($U$3:$U$10,$A29)*COUNTIFS($U$3:$U$10,D$17) + COUNTIFS($V$3:$V$10,$A29)*COUNTIFS($V$3:$V$10,D$17) + COUNTIFS($W$3:$W$10,$A29)*COUNTIFS($W$3:$W$10,D$17) + COUNTIFS($X$3:$X$10,$A29)*COUNTIFS($X$3:$X$10,D$17) + COUNTIFS($Y$3:$Y$10,$A29)*COUNTIFS($Y$3:$Y$10,D$17) -> 0 | E29: =COUNTIFS($B$3:$B$10,$A29)*COUNTIFS($B$3:$B$10,E$17) + COUNTIFS($C$3:$C$10,$A29)*COUNTIFS($C$3:$C$10,E$17) + COUNTIFS($D$3:$D$10,$A29)*COUNTIFS($D$3:$D$10,E$17) + COUNTIFS($E$3:$E$10,$A29)*COUNTIFS($E$3:$E$10,E$17) + COUNTIFS($F$3:$F$10,$A29)*COUNTIFS($F$3:$F$10,E$17) + COUNTIFS($G$3:$G$10,$A29)*COUNTIFS($G$3:$G$10,E$17) + COUNTIFS($H$3:$H$10,$A29)*COUNTIFS($H$3:$H$10,E$17) + COUNTIFS($I$3:$I$10,$A29)*COUNTIFS($I$3:$I$10,E$17) + COUNTIFS($J$3:$J$10,$A29)*COUNTIFS($J$3:$J$10,E$17) + COUNTIFS($K$3:$K$10,$A29)*COUNTIFS($K$3:$K$10,E$17) + COUNTIFS($L$3:$L$10,$A29)*COUNTIFS($L$3:$L$10,E$17) + COUNTIFS($M$3:$M$10,$A29)*COUNTIFS($M$3:$M$10,E$17) + COUNTIFS($N$3:$N$10,$A29)*COUNTIFS($N$3:$N$10,E$17) + COUNTIFS($O$3:$O$10,$A29)*COUNTIFS($O$3:$O$10,E$17) + COUNTIFS($P$3:$P$10,$A29)*COUNTIFS($P$3:$P$10,E$17) + COUNTIFS($Q$3:$Q$10,$A29)*COUNTIFS($Q$3:$Q$10,E$17) + COUNTIFS($R$3:$R$10,$A29)*COUNTIFS($R$3:$R$10,E$17) + COUNTIFS($S$3:$S$10,$A29)*COUNTIFS($S$3:$S$10,E$17) + COUNTIFS($T$3:$T$10,$A29)*COUNTIFS($T$3:$T$10,E$17) + COUNTIFS($U$3:$U$10,$A29)*COUNTIFS($U$3:$U$10,E$17) + COUNTIFS($V$3:$V$10,$A29)*COUNTIFS($V$3:$V$10,E$17) + COUNTIFS($W$3:$W$10,$A29)*COUNTIFS($W$3:$W$10,E$17) + COUNTIFS($X$3:$X$10,$A29)*COUNTIFS($X$3:$X$10,E$17) + COUNTIFS($Y$3:$Y$10,$A29)*COUNTIFS($Y$3:$Y$10,E$17) -> 0 | F29: =COUNTIFS($B$3:$B$10,$A29)*COUNTIFS($B$3:$B$10,F$17) + COUNTIFS($C$3:$C$10,$A29)*COUNTIFS($C$3:$C$10,F$17) + COUNTIFS($D$3:$D$10,$A29)*COUNTIFS($D$3:$D$10,F$17) + COUNTIFS($E$3:$E$10,$A29)*COUNTIFS($E$3:$E$10,F$17) + COUNTIFS($F$3:$F$10,$A29)*COUNTIFS($F$3:$F$10,F$17) + COUNTIFS($G$3:$G$10,$A29)*COUNTIFS($G$3:$G$10,F$17) + COUNTIFS($H$3:$H$10,$A29)*COUNTIFS($H$3:$H$10,F$17) + COUNTIFS($I$3:$I$10,$A29)*COUNTIFS($I$3:$I$10,F$17) + COUNTIFS($J$3:$J$10,$A29)*COUNTIFS($J$3:$J$10,F$17) + COUNTIFS($K$3:$K$10,$A29)*COUNTIFS($K$3:$K$10,F$17) + COUNTIFS($L$3:$L$10,$A29)*COUNTIFS($L$3:$L$10,F$17) + COUNTIFS($M$3:$M$10,$A29)*COUNTIFS($M$3:$M$10,F$17) + COUNTIFS($N$3:$N$10,$A29)*COUNTIFS($N$3:$N$10,F$17) + COUNTIFS($O$3:$O$10,$A29)*COUNTIFS($O$3:$O$10,F$17) + COUNTIFS($P$3:$P$10,$A29)*COUNTIFS($P$3:$P$10,F$17) + COUNTIFS($Q$3:$Q$10,$A29)*COUNTIFS($Q$3:$Q$10,F$17) + COUNTIFS($R$3:$R$10,$A29)*COUNTIFS($R$3:$R$10,F$17) + COUNTIFS($S$3:$S$10,$A29)*COUNTIFS($S$3:$S$10,F$17) + COUNTIFS($T$3:$T$10,$A29)*COUNTIFS($T$3:$T$10,F$17) + COUNTIFS($U$3:$U$10,$A29)*COUNTIFS($U$3:$U$10,F$17) + COUNTIFS($V$3:$V$10,$A29)*COUNTIFS($V$3:$V$10,F$17) + COUNTIFS($W$3:$W$10,$A29)*COUNTIFS($W$3:$W$10,F$17) + COUNTIFS($X$3:$X$10,$A29)*COUNTIFS($X$3:$X$10,F$17) + COUNTIFS($Y$3:$Y$10,$A29)*COUNTIFS($Y$3:$Y$10,F$17) -> 0 | G29: =COUNTIFS($B$3:$B$10,$A29)*COUNTIFS($B$3:$B$10,G$17) + COUNTIFS($C$3:$C$10,$A29)*COUNTIFS($C$3:$C$10,G$17) + COUNTIFS($D$3:$D$10,$A29)*COUNTIFS($D$3:$D$10,G$17) + COUNTIFS($E$3:$E$10,$A29)*COUNTIFS($E$3:$E$10,G$17) + COUNTIFS($F$3:$F$10,$A29)*COUNTIFS($F$3:$F$10,G$17) + COUNTIFS($G$3:$G$10,$A29)*COUNTIFS($G$3:$G$10,G$17) + COUNTIFS($H$3:$H$10,$A29)*COUNTIFS($H$3:$H$10,G$17) + COUNTIFS($I$3:$I$10,$A29)*COUNTIFS($I$3:$I$10,G$17) + COUNTIFS($J$3:$J$10,$A29)*COUNTIFS($J$3:$J$10,G$17) + COUNTIFS($K$3:$K$10,$A29)*COUNTIFS($K$3:$K$10,G$17) + COUNTIFS($L$3:$L$10,$A29)*COUNTIFS($L$3:$L$10,G$17) + COUNTIFS($M$3:$M$10,$A29)*COUNTIFS($M$3:$M$10,G$17) + COUNTIFS($N$3:$N$10,$A29)*COUNTIFS($N$3:$N$10,G$17) + COUNTIFS($O$3:$O$10,$A29)*COUNTIFS($O$3:$O$10,G$17) + COUNTIFS($P$3:$P$10,$A29)*COUNTIFS($P$3:$P$10,G$17) + COUNTIFS($Q$3:$Q$10,$A29)*COUNTIFS($Q$3:$Q$10,G$17) + COUNTIFS($R$3:$R$10,$A29)*COUNTIFS($R$3:$R$10,G$17) + COUNTIFS($S$3:$S$10,$A29)*COUNTIFS($S$3:$S$10,G$17) + COUNTIFS($T$3:$T$10,$A29)*COUNTIFS($T$3:$T$10,G$17) + COUNTIFS($U$3:$U$10,$A29)*COUNTIFS($U$3:$U$10,G$17) + COUNTIFS($V$3:$V$10,$A29)*COUNTIFS($V$3:$V$10,G$17) + COUNTIFS($W$3:$W$10,$A29)*COUNTIFS($W$3:$W$10,G$17) + COUNTIFS($X$3:$X$10,$A29)*COUNTIFS($X$3:$X$10,G$17) + COUNTIFS($Y$3:$Y$10,$A29)*COUNTIFS($Y$3:$Y$10,G$17) -> 0 | H29: =COUNTIFS($B$3:$B$10,$A29)*COUNTIFS($B$3:$B$10,H$17) + COUNTIFS($C$3:$C$10,$A29)*COUNTIFS($C$3:$C$10,H$17) + COUNTIFS($D$3:$D$10,$A29)*COUNTIFS($D$3:$D$10,H$17) + COUNTIFS($E$3:$E$10,$A29)*COUNTIFS($E$3:$E$10,H$17) + COUNTIFS($F$3:$F$10,$A29)*COUNTIFS($F$3:$F$10,H$17) + COUNTIFS($G$3:$G$10,$A29)*COUNTIFS($G$3:$G$10,H$17) + COUNTIFS($H$3:$H$10,$A29)*COUNTIFS($H$3:$H$10,H$17) + COUNTIFS($I$3:$I$10,$A29)*COUNTIFS($I$3:$I$10,H$17) + COUNTIFS($J$3:$J$10,$A29)*COUNTIFS($J$3:$J$10,H$17) + COUNTIFS($K$3:$K$10,$A29)*COUNTIFS($K$3:$K$10,H$17) + COUNTIFS($L$3:$L$10,$A29)*COUNTIFS($L$3:$L$10,H$17) + COUNTIFS($M$3:$M$10,$A29)*COUNTIFS($M$3:$M$10,H$17) + COUNTIFS($N$3:$N$10,$A29)*COUNTIFS($N$3:$N$10,H$17) + COUNTIFS($O$3:$O$10,$A29)*COUNTIFS($O$3:$O$10,H$17) + COUNTIFS($P$3:$P$10,$A29)*COUNTIFS($P$3:$P$10,H$17) + COUNTIFS($Q$3:$Q$10,$A29)*COUNTIFS($Q$3:$Q$10,H$17) + COUNTIFS($R$3:$R$10,$A29)*COUNTIFS($R$3:$R$10,H$17) + COUNTIFS($S$3:$S$10,$A29)*COUNTIFS($S$3:$S$10,H$17) + COUNTIFS($T$3:$T$10,$A29)*COUNTIFS($T$3:$T$10,H$17) + COUNTIFS($U$3:$U$10,$A29)*COUNTIFS($U$3:$U$10,H$17) + COUNTIFS($V$3:$V$10,$A29)*COUNTIFS($V$3:$V$10,H$17) + COUNTIFS($W$3:$W$10,$A29)*COUNTIFS($W$3:$W$10,H$17) + COUNTIFS($X$3:$X$10,$A29)*COUNTIFS($X$3:$X$10,H$17) + COUNTIFS($Y$3:$Y$10,$A29)*COUNTIFS($Y$3:$Y$10,H$17) -> 0 | I29: =COUNTIFS($B$3:$B$10,$A29)*COUNTIFS($B$3:$B$10,I$17) + COUNTIFS($C$3:$C$10,$A29)*COUNTIFS($C$3:$C$10,I$17) + COUNTIFS($D$3:$D$10,$A29)*COUNTIFS($D$3:$D$10,I$17) + COUNTIFS($E$3:$E$10,$A29)*COUNTIFS($E$3:$E$10,I$17) + COUNTIFS($F$3:$F$10,$A29)*COUNTIFS($F$3:$F$10,I$17) + COUNTIFS($G$3:$G$10,$A29)*COUNTIFS($G$3:$G$10,I$17) + COUNTIFS($H$3:$H$10,$A29)*COUNTIFS($H$3:$H$10,I$17) + COUNTIFS($I$3:$I$10,$A29)*COUNTIFS($I$3:$I$10,I$17) + COUNTIFS($J$3:$J$10,$A29)*COUNTIFS($J$3:$J$10,I$17) + COUNTIFS($K$3:$K$10,$A29)*COUNTIFS($K$3:$K$10,I$17) + COUNTIFS($L$3:$L$10,$A29)*COUNTIFS($L$3:$L$10,I$17) + COUNTIFS($M$3:$M$10,$A29)*COUNTIFS($M$3:$M$10,I$17) + COUNTIFS($N$3:$N$10,$A29)*COUNTIFS($N$3:$N$10,I$17) + COUNTIFS($O$3:$O$10,$A29)*COUNTIFS($O$3:$O$10,I$17) + COUNTIFS($P$3:$P$10,$A29)*COUNTIFS($P$3:$P$10,I$17) + COUNTIFS($Q$3:$Q$10,$A29)*COUNTIFS($Q$3:$Q$10,I$17) + COUNTIFS($R$3:$R$10,$A29)*COUNTIFS($R$3:$R$10,I$17) + COUNTIFS($S$3:$S$10,$A29)*COUNTIFS($S$3:$S$10,I$17) + COUNTIFS($T$3:$T$10,$A29)*COUNTIFS($T$3:$T$10,I$17) + COUNTIFS($U$3:$U$10,$A29)*COUNTIFS($U$3:$U$10,I$17) + COUNTIFS($V$3:$V$10,$A29)*COUNTIFS($V$3:$V$10,I$17) + COUNTIFS($W$3:$W$10,$A29)*COUNTIFS($W$3:$W$10,I$17) + COUNTIFS($X$3:$X$10,$A29)*COUNTIFS($X$3:$X$10,I$17) + COUNTIFS($Y$3:$Y$10,$A29)*COUNTIFS($Y$3:$Y$10,I$17) -> 0 | ... T29: =COUNTIFS($B$3:$B$10,$A29)*COUNTIFS($B$3:$B$10,T$17) + COUNTIFS($C$3:$C$10,$A29)*COUNTIFS($C$3:$C$10,T$17) + COUNTIFS($D$3:$D$10,$A29)*COUNTIFS($D$3:$D$10,T$17) + COUNTIFS($E$3:$E$10,$A29)*COUNTIFS($E$3:$E$10,T$17) + COUNTIFS($F$3:$F$10,$A29)*COUNTIFS($F$3:$F$10,T$17) + COUNTIFS($G$3:$G$10,$A29)*COUNTIFS($G$3:$G$10,T$17) + COUNTIFS($H$3:$H$10,$A29)*COUNTIFS($H$3:$H$10,T$17) + COUNTIFS($I$3:$I$10,$A29)*COUNTIFS($I$3:$I$10,T$17) + COUNTIFS($J$3:$J$10,$A29)*COUNTIFS($J$3:$J$10,T$17) + COUNTIFS($K$3:$K$10,$A29)*COUNTIFS($K$3:$K$10,T$17) + COUNTIFS($L$3:$L$10,$A29)*COUNTIFS($L$3:$L$10,T$17) + COUNTIFS($M$3:$M$10,$A29)*COUNTIFS($M$3:$M$10,T$17) + COUNTIFS($N$3:$N$10,$A29)*COUNTIFS($N$3:$N$10,T$17) + COUNTIFS($O$3:$O$10,$A29)*COUNTIFS($O$3:$O$10,T$17) + COUNTIFS($P$3:$P$10,$A29)*COUNTIFS($P$3:$P$10,T$17) + COUNTIFS($Q$3:$Q$10,$A29)*COUNTIFS($Q$3:$Q$10,T$17) + COUNTIFS($R$3:$R$10,$A29)*COUNTIFS($R$3:$R$10,T$17) + COUNTIFS($S$3:$S$10,$A29)*COUNTIFS($S$3:$S$10,T$17) + COUNTIFS($T$3:$T$10,$A29)*COUNTIFS($T$3:$T$10,T$17) + COUNTIFS($U$3:$U$10,$A29)*COUNTIFS($U$3:$U$10,T$17) + COUNTIFS($V$3:$V$10,$A29)*COUNTIFS($V$3:$V$10,T$17) + COUNTIFS($W$3:$W$10,$A29)*COUNTIFS($W$3:$W$10,T$17) + COUNTIFS($X$3:$X$10,$A29)*COUNTIFS($X$3:$X$10,T$17) + COUNTIFS($Y$3:$Y$10,$A29)*COUNTIFS($Y$3:$Y$10,T$17) -> 0
A30: 13 | B30: =COUNTIFS($B$3:$B$10,$A30)*COUNTIFS($B$3:$B$10,B$17) + COUNTIFS($C$3:$C$10,$A30)*COUNTIFS($C$3:$C$10,B$17) + COUNTIFS($D$3:$D$10,$A30)*COUNTIFS($D$3:$D$10,B$17) + COUNTIFS($E$3:$E$10,$A30)*COUNTIFS($E$3:$E$10,B$17) + COUNTIFS($F$3:$F$10,$A30)*COUNTIFS($F$3:$F$10,B$17) + COUNTIFS($G$3:$G$10,$A30)*COUNTIFS($G$3:$G$10,B$17) + COUNTIFS($H$3:$H$10,$A30)*COUNTIFS($H$3:$H$10,B$17) + COUNTIFS($I$3:$I$10,$A30)*COUNTIFS($I$3:$I$10,B$17) + COUNTIFS($J$3:$J$10,$A30)*COUNTIFS($J$3:$J$10,B$17) + COUNTIFS($K$3:$K$10,$A30)*COUNTIFS($K$3:$K$10,B$17) + COUNTIFS($L$3:$L$10,$A30)*COUNTIFS($L$3:$L$10,B$17) + COUNTIFS($M$3:$M$10,$A30)*COUNTIFS($M$3:$M$10,B$17) + COUNTIFS($N$3:$N$10,$A30)*COUNTIFS($N$3:$N$10,B$17) + COUNTIFS($O$3:$O$10,$A30)*COUNTIFS($O$3:$O$10,B$17) + COUNTIFS($P$3:$P$10,$A30)*COUNTIFS($P$3:$P$10,B$17) + COUNTIFS($Q$3:$Q$10,$A30)*COUNTIFS($Q$3:$Q$10,B$17) + COUNTIFS($R$3:$R$10,$A30)*COUNTIFS($R$3:$R$10,B$17) + COUNTIFS($S$3:$S$10,$A30)*COUNTIFS($S$3:$S$10,B$17) + COUNTIFS($T$3:$T$10,$A30)*COUNTIFS($T$3:$T$10,B$17) + COUNTIFS($U$3:$U$10,$A30)*COUNTIFS($U$3:$U$10,B$17) + COUNTIFS($V$3:$V$10,$A30)*COUNTIFS($V$3:$V$10,B$17) + COUNTIFS($W$3:$W$10,$A30)*COUNTIFS($W$3:$W$10,B$17) + COUNTIFS($X$3:$X$10,$A30)*COUNTIFS($X$3:$X$10,B$17) + COUNTIFS($Y$3:$Y$10,$A30)*COUNTIFS($Y$3:$Y$10,B$17) -> 0 | C30: =COUNTIFS($B$3:$B$10,$A30)*COUNTIFS($B$3:$B$10,C$17) + COUNTIFS($C$3:$C$10,$A30)*COUNTIFS($C$3:$C$10,C$17) + COUNTIFS($D$3:$D$10,$A30)*COUNTIFS($D$3:$D$10,C$17) + COUNTIFS($E$3:$E$10,$A30)*COUNTIFS($E$3:$E$10,C$17) + COUNTIFS($F$3:$F$10,$A30)*COUNTIFS($F$3:$F$10,C$17) + COUNTIFS($G$3:$G$10,$A30)*COUNTIFS($G$3:$G$10,C$17) + COUNTIFS($H$3:$H$10,$A30)*COUNTIFS($H$3:$H$10,C$17) + COUNTIFS($I$3:$I$10,$A30)*COUNTIFS($I$3:$I$10,C$17) + COUNTIFS($J$3:$J$10,$A30)*COUNTIFS($J$3:$J$10,C$17) + COUNTIFS($K$3:$K$10,$A30)*COUNTIFS($K$3:$K$10,C$17) + COUNTIFS($L$3:$L$10,$A30)*COUNTIFS($L$3:$L$10,C$17) + COUNTIFS($M$3:$M$10,$A30)*COUNTIFS($M$3:$M$10,C$17) + COUNTIFS($N$3:$N$10,$A30)*COUNTIFS($N$3:$N$10,C$17) + COUNTIFS($O$3:$O$10,$A30)*COUNTIFS($O$3:$O$10,C$17) + COUNTIFS($P$3:$P$10,$A30)*COUNTIFS($P$3:$P$10,C$17) + COUNTIFS($Q$3:$Q$10,$A30)*COUNTIFS($Q$3:$Q$10,C$17) + COUNTIFS($R$3:$R$10,$A30)*COUNTIFS($R$3:$R$10,C$17) + COUNTIFS($S$3:$S$10,$A30)*COUNTIFS($S$3:$S$10,C$17) + COUNTIFS($T$3:$T$10,$A30)*COUNTIFS($T$3:$T$10,C$17) + COUNTIFS($U$3:$U$10,$A30)*COUNTIFS($U$3:$U$10,C$17) + COUNTIFS($V$3:$V$10,$A30)*COUNTIFS($V$3:$V$10,C$17) + COUNTIFS($W$3:$W$10,$A30)*COUNTIFS($W$3:$W$10,C$17) + COUNTIFS($X$3:$X$10,$A30)*COUNTIFS($X$3:$X$10,C$17) + COUNTIFS($Y$3:$Y$10,$A30)*COUNTIFS($Y$3:$Y$10,C$17) -> 0 | D30: =COUNTIFS($B$3:$B$10,$A30)*COUNTIFS($B$3:$B$10,D$17) + COUNTIFS($C$3:$C$10,$A30)*COUNTIFS($C$3:$C$10,D$17) + COUNTIFS($D$3:$D$10,$A30)*COUNTIFS($D$3:$D$10,D$17) + COUNTIFS($E$3:$E$10,$A30)*COUNTIFS($E$3:$E$10,D$17) + COUNTIFS($F$3:$F$10,$A30)*COUNTIFS($F$3:$F$10,D$17) + COUNTIFS($G$3:$G$10,$A30)*COUNTIFS($G$3:$G$10,D$17) + COUNTIFS($H$3:$H$10,$A30)*COUNTIFS($H$3:$H$10,D$17) + COUNTIFS($I$3:$I$10,$A30)*COUNTIFS($I$3:$I$10,D$17) + COUNTIFS($J$3:$J$10,$A30)*COUNTIFS($J$3:$J$10,D$17) + COUNTIFS($K$3:$K$10,$A30)*COUNTIFS($K$3:$K$10,D$17) + COUNTIFS($L$3:$L$10,$A30)*COUNTIFS($L$3:$L$10,D$17) + COUNTIFS($M$3:$M$10,$A30)*COUNTIFS($M$3:$M$10,D$17) + COUNTIFS($N$3:$N$10,$A30)*COUNTIFS($N$3:$N$10,D$17) + COUNTIFS($O$3:$O$10,$A30)*COUNTIFS($O$3:$O$10,D$17) + COUNTIFS($P$3:$P$10,$A30)*COUNTIFS($P$3:$P$10,D$17) + COUNTIFS($Q$3:$Q$10,$A30)*COUNTIFS($Q$3:$Q$10,D$17) + COUNTIFS($R$3:$R$10,$A30)*COUNTIFS($R$3:$R$10,D$17) + COUNTIFS($S$3:$S$10,$A30)*COUNTIFS($S$3:$S$10,D$17) + COUNTIFS($T$3:$T$10,$A30)*COUNTIFS($T$3:$T$10,D$17) + COUNTIFS($U$3:$U$10,$A30)*COUNTIFS($U$3:$U$10,D$17) + COUNTIFS($V$3:$V$10,$A30)*COUNTIFS($V$3:$V$10,D$17) + COUNTIFS($W$3:$W$10,$A30)*COUNTIFS($W$3:$W$10,D$17) + COUNTIFS($X$3:$X$10,$A30)*COUNTIFS($X$3:$X$10,D$17) + COUNTIFS($Y$3:$Y$10,$A30)*COUNTIFS($Y$3:$Y$10,D$17) -> 0 | E30: =COUNTIFS($B$3:$B$10,$A30)*COUNTIFS($B$3:$B$10,E$17) + COUNTIFS($C$3:$C$10,$A30)*COUNTIFS($C$3:$C$10,E$17) + COUNTIFS($D$3:$D$10,$A30)*COUNTIFS($D$3:$D$10,E$17) + COUNTIFS($E$3:$E$10,$A30)*COUNTIFS($E$3:$E$10,E$17) + COUNTIFS($F$3:$F$10,$A30)*COUNTIFS($F$3:$F$10,E$17) + COUNTIFS($G$3:$G$10,$A30)*COUNTIFS($G$3:$G$10,E$17) + COUNTIFS($H$3:$H$10,$A30)*COUNTIFS($H$3:$H$10,E$17) + COUNTIFS($I$3:$I$10,$A30)*COUNTIFS($I$3:$I$10,E$17) + COUNTIFS($J$3:$J$10,$A30)*COUNTIFS($J$3:$J$10,E$17) + COUNTIFS($K$3:$K$10,$A30)*COUNTIFS($K$3:$K$10,E$17) + COUNTIFS($L$3:$L$10,$A30)*COUNTIFS($L$3:$L$10,E$17) + COUNTIFS($M$3:$M$10,$A30)*COUNTIFS($M$3:$M$10,E$17) + COUNTIFS($N$3:$N$10,$A30)*COUNTIFS($N$3:$N$10,E$17) + COUNTIFS($O$3:$O$10,$A30)*COUNTIFS($O$3:$O$10,E$17) + COUNTIFS($P$3:$P$10,$A30)*COUNTIFS($P$3:$P$10,E$17) + COUNTIFS($Q$3:$Q$10,$A30)*COUNTIFS($Q$3:$Q$10,E$17) + COUNTIFS($R$3:$R$10,$A30)*COUNTIFS($R$3:$R$10,E$17) + COUNTIFS($S$3:$S$10,$A30)*COUNTIFS($S$3:$S$10,E$17) + COUNTIFS($T$3:$T$10,$A30)*COUNTIFS($T$3:$T$10,E$17) + COUNTIFS($U$3:$U$10,$A30)*COUNTIFS($U$3:$U$10,E$17) + COUNTIFS($V$3:$V$10,$A30)*COUNTIFS($V$3:$V$10,E$17) + COUNTIFS($W$3:$W$10,$A30)*COUNTIFS($W$3:$W$10,E$17) + COUNTIFS($X$3:$X$10,$A30)*COUNTIFS($X$3:$X$10,E$17) + COUNTIFS($Y$3:$Y$10,$A30)*COUNTIFS($Y$3:$Y$10,E$17) -> 0 | F30: =COUNTIFS($B$3:$B$10,$A30)*COUNTIFS($B$3:$B$10,F$17) + COUNTIFS($C$3:$C$10,$A30)*COUNTIFS($C$3:$C$10,F$17) + COUNTIFS($D$3:$D$10,$A30)*COUNTIFS($D$3:$D$10,F$17) + COUNTIFS($E$3:$E$10,$A30)*COUNTIFS($E$3:$E$10,F$17) + COUNTIFS($F$3:$F$10,$A30)*COUNTIFS($F$3:$F$10,F$17) + COUNTIFS($G$3:$G$10,$A30)*COUNTIFS($G$3:$G$10,F$17) + COUNTIFS($H$3:$H$10,$A30)*COUNTIFS($H$3:$H$10,F$17) + COUNTIFS($I$3:$I$10,$A30)*COUNTIFS($I$3:$I$10,F$17) + COUNTIFS($J$3:$J$10,$A30)*COUNTIFS($J$3:$J$10,F$17) + COUNTIFS($K$3:$K$10,$A30)*COUNTIFS($K$3:$K$10,F$17) + COUNTIFS($L$3:$L$10,$A30)*COUNTIFS($L$3:$L$10,F$17) + COUNTIFS($M$3:$M$10,$A30)*COUNTIFS($M$3:$M$10,F$17) + COUNTIFS($N$3:$N$10,$A30)*COUNTIFS($N$3:$N$10,F$17) + COUNTIFS($O$3:$O$10,$A30)*COUNTIFS($O$3:$O$10,F$17) + COUNTIFS($P$3:$P$10,$A30)*COUNTIFS($P$3:$P$10,F$17) + COUNTIFS($Q$3:$Q$10,$A30)*COUNTIFS($Q$3:$Q$10,F$17) + COUNTIFS($R$3:$R$10,$A30)*COUNTIFS($R$3:$R$10,F$17) + COUNTIFS($S$3:$S$10,$A30)*COUNTIFS($S$3:$S$10,F$17) + COUNTIFS($T$3:$T$10,$A30)*COUNTIFS($T$3:$T$10,F$17) + COUNTIFS($U$3:$U$10,$A30)*COUNTIFS($U$3:$U$10,F$17) + COUNTIFS($V$3:$V$10,$A30)*COUNTIFS($V$3:$V$10,F$17) + COUNTIFS($W$3:$W$10,$A30)*COUNTIFS($W$3:$W$10,F$17) + COUNTIFS($X$3:$X$10,$A30)*COUNTIFS($X$3:$X$10,F$17) + COUNTIFS($Y$3:$Y$10,$A30)*COUNTIFS($Y$3:$Y$10,F$17) -> 0 | G30: =COUNTIFS($B$3:$B$10,$A30)*COUNTIFS($B$3:$B$10,G$17) + COUNTIFS($C$3:$C$10,$A30)*COUNTIFS($C$3:$C$10,G$17) + COUNTIFS($D$3:$D$10,$A30)*COUNTIFS($D$3:$D$10,G$17) + COUNTIFS($E$3:$E$10,$A30)*COUNTIFS($E$3:$E$10,G$17) + COUNTIFS($F$3:$F$10,$A30)*COUNTIFS($F$3:$F$10,G$17) + COUNTIFS($G$3:$G$10,$A30)*COUNTIFS($G$3:$G$10,G$17) + COUNTIFS($H$3:$H$10,$A30)*COUNTIFS($H$3:$H$10,G$17) + COUNTIFS($I$3:$I$10,$A30)*COUNTIFS($I$3:$I$10,G$17) + COUNTIFS($J$3:$J$10,$A30)*COUNTIFS($J$3:$J$10,G$17) + COUNTIFS($K$3:$K$10,$A30)*COUNTIFS($K$3:$K$10,G$17) + COUNTIFS($L$3:$L$10,$A30)*COUNTIFS($L$3:$L$10,G$17) + COUNTIFS($M$3:$M$10,$A30)*COUNTIFS($M$3:$M$10,G$17) + COUNTIFS($N$3:$N$10,$A30)*COUNTIFS($N$3:$N$10,G$17) + COUNTIFS($O$3:$O$10,$A30)*COUNTIFS($O$3:$O$10,G$17) + COUNTIFS($P$3:$P$10,$A30)*COUNTIFS($P$3:$P$10,G$17) + COUNTIFS($Q$3:$Q$10,$A30)*COUNTIFS($Q$3:$Q$10,G$17) + COUNTIFS($R$3:$R$10,$A30)*COUNTIFS($R$3:$R$10,G$17) + COUNTIFS($S$3:$S$10,$A30)*COUNTIFS($S$3:$S$10,G$17) + COUNTIFS($T$3:$T$10,$A30)*COUNTIFS($T$3:$T$10,G$17) + COUNTIFS($U$3:$U$10,$A30)*COUNTIFS($U$3:$U$10,G$17) + COUNTIFS($V$3:$V$10,$A30)*COUNTIFS($V$3:$V$10,G$17) + COUNTIFS($W$3:$W$10,$A30)*COUNTIFS($W$3:$W$10,G$17) + COUNTIFS($X$3:$X$10,$A30)*COUNTIFS($X$3:$X$10,G$17) + COUNTIFS($Y$3:$Y$10,$A30)*COUNTIFS($Y$3:$Y$10,G$17) -> 0 | H30: =COUNTIFS($B$3:$B$10,$A30)*COUNTIFS($B$3:$B$10,H$17) + COUNTIFS($C$3:$C$10,$A30)*COUNTIFS($C$3:$C$10,H$17) + COUNTIFS($D$3:$D$10,$A30)*COUNTIFS($D$3:$D$10,H$17) + COUNTIFS($E$3:$E$10,$A30)*COUNTIFS($E$3:$E$10,H$17) + COUNTIFS($F$3:$F$10,$A30)*COUNTIFS($F$3:$F$10,H$17) + COUNTIFS($G$3:$G$10,$A30)*COUNTIFS($G$3:$G$10,H$17) + COUNTIFS($H$3:$H$10,$A30)*COUNTIFS($H$3:$H$10,H$17) + COUNTIFS($I$3:$I$10,$A30)*COUNTIFS($I$3:$I$10,H$17) + COUNTIFS($J$3:$J$10,$A30)*COUNTIFS($J$3:$J$10,H$17) + COUNTIFS($K$3:$K$10,$A30)*COUNTIFS($K$3:$K$10,H$17) + COUNTIFS($L$3:$L$10,$A30)*COUNTIFS($L$3:$L$10,H$17) + COUNTIFS($M$3:$M$10,$A30)*COUNTIFS($M$3:$M$10,H$17) + COUNTIFS($N$3:$N$10,$A30)*COUNTIFS($N$3:$N$10,H$17) + COUNTIFS($O$3:$O$10,$A30)*COUNTIFS($O$3:$O$10,H$17) + COUNTIFS($P$3:$P$10,$A30)*COUNTIFS($P$3:$P$10,H$17) + COUNTIFS($Q$3:$Q$10,$A30)*COUNTIFS($Q$3:$Q$10,H$17) + COUNTIFS($R$3:$R$10,$A30)*COUNTIFS($R$3:$R$10,H$17) + COUNTIFS($S$3:$S$10,$A30)*COUNTIFS($S$3:$S$10,H$17) + COUNTIFS($T$3:$T$10,$A30)*COUNTIFS($T$3:$T$10,H$17) + COUNTIFS($U$3:$U$10,$A30)*COUNTIFS($U$3:$U$10,H$17) + COUNTIFS($V$3:$V$10,$A30)*COUNTIFS($V$3:$V$10,H$17) + COUNTIFS($W$3:$W$10,$A30)*COUNTIFS($W$3:$W$10,H$17) + COUNTIFS($X$3:$X$10,$A30)*COUNTIFS($X$3:$X$10,H$17) + COUNTIFS($Y$3:$Y$10,$A30)*COUNTIFS($Y$3:$Y$10,H$17) -> 0 | I30: =COUNTIFS($B$3:$B$10,$A30)*COUNTIFS($B$3:$B$10,I$17) + COUNTIFS($C$3:$C$10,$A30)*COUNTIFS($C$3:$C$10,I$17) + COUNTIFS($D$3:$D$10,$A30)*COUNTIFS($D$3:$D$10,I$17) + COUNTIFS($E$3:$E$10,$A30)*COUNTIFS($E$3:$E$10,I$17) + COUNTIFS($F$3:$F$10,$A30)*COUNTIFS($F$3:$F$10,I$17) + COUNTIFS($G$3:$G$10,$A30)*COUNTIFS($G$3:$G$10,I$17) + COUNTIFS($H$3:$H$10,$A30)*COUNTIFS($H$3:$H$10,I$17) + COUNTIFS($I$3:$I$10,$A30)*COUNTIFS($I$3:$I$10,I$17) + COUNTIFS($J$3:$J$10,$A30)*COUNTIFS($J$3:$J$10,I$17) + COUNTIFS($K$3:$K$10,$A30)*COUNTIFS($K$3:$K$10,I$17) + COUNTIFS($L$3:$L$10,$A30)*COUNTIFS($L$3:$L$10,I$17) + COUNTIFS($M$3:$M$10,$A30)*COUNTIFS($M$3:$M$10,I$17) + COUNTIFS($N$3:$N$10,$A30)*COUNTIFS($N$3:$N$10,I$17) + COUNTIFS($O$3:$O$10,$A30)*COUNTIFS($O$3:$O$10,I$17) + COUNTIFS($P$3:$P$10,$A30)*COUNTIFS($P$3:$P$10,I$17) + COUNTIFS($Q$3:$Q$10,$A30)*COUNTIFS($Q$3:$Q$10,I$17) + COUNTIFS($R$3:$R$10,$A30)*COUNTIFS($R$3:$R$10,I$17) + COUNTIFS($S$3:$S$10,$A30)*COUNTIFS($S$3:$S$10,I$17) + COUNTIFS($T$3:$T$10,$A30)*COUNTIFS($T$3:$T$10,I$17) + COUNTIFS($U$3:$U$10,$A30)*COUNTIFS($U$3:$U$10,I$17) + COUNTIFS($V$3:$V$10,$A30)*COUNTIFS($V$3:$V$10,I$17) + COUNTIFS($W$3:$W$10,$A30)*COUNTIFS($W$3:$W$10,I$17) + COUNTIFS($X$3:$X$10,$A30)*COUNTIFS($X$3:$X$10,I$17) + COUNTIFS($Y$3:$Y$10,$A30)*COUNTIFS($Y$3:$Y$10,I$17) -> 0 | ... T30: =COUNTIFS($B$3:$B$10,$A30)*COUNTIFS($B$3:$B$10,T$17) + COUNTIFS($C$3:$C$10,$A30)*COUNTIFS($C$3:$C$10,T$17) + COUNTIFS($D$3:$D$10,$A30)*COUNTIFS($D$3:$D$10,T$17) + COUNTIFS($E$3:$E$10,$A30)*COUNTIFS($E$3:$E$10,T$17) + COUNTIFS($F$3:$F$10,$A30)*COUNTIFS($F$3:$F$10,T$17) + COUNTIFS($G$3:$G$10,$A30)*COUNTIFS($G$3:$G$10,T$17) + COUNTIFS($H$3:$H$10,$A30)*COUNTIFS($H$3:$H$10,T$17) + COUNTIFS($I$3:$I$10,$A30)*COUNTIFS($I$3:$I$10,T$17) + COUNTIFS($J$3:$J$10,$A30)*COUNTIFS($J$3:$J$10,T$17) + COUNTIFS($K$3:$K$10,$A30)*COUNTIFS($K$3:$K$10,T$17) + COUNTIFS($L$3:$L$10,$A30)*COUNTIFS($L$3:$L$10,T$17) + COUNTIFS($M$3:$M$10,$A30)*COUNTIFS($M$3:$M$10,T$17) + COUNTIFS($N$3:$N$10,$A30)*COUNTIFS($N$3:$N$10,T$17) + COUNTIFS($O$3:$O$10,$A30)*COUNTIFS($O$3:$O$10,T$17) + COUNTIFS($P$3:$P$10,$A30)*COUNTIFS($P$3:$P$10,T$17) + COUNTIFS($Q$3:$Q$10,$A30)*COUNTIFS($Q$3:$Q$10,T$17) + COUNTIFS($R$3:$R$10,$A30)*COUNTIFS($R$3:$R$10,T$17) + COUNTIFS($S$3:$S$10,$A30)*COUNTIFS($S$3:$S$10,T$17) + COUNTIFS($T$3:$T$10,$A30)*COUNTIFS($T$3:$T$10,T$17) + COUNTIFS($U$3:$U$10,$A30)*COUNTIFS($U$3:$U$10,T$17) + COUNTIFS($V$3:$V$10,$A30)*COUNTIFS($V$3:$V$10,T$17) + COUNTIFS($W$3:$W$10,$A30)*COUNTIFS($W$3:$W$10,T$17) + COUNTIFS($X$3:$X$10,$A30)*COUNTIFS($X$3:$X$10,T$17) + COUNTIFS($Y$3:$Y$10,$A30)*COUNTIFS($Y$3:$Y$10,T$17) -> 0
A31: 14 | B31: =COUNTIFS($B$3:$B$10,$A31)*COUNTIFS($B$3:$B$10,B$17) + COUNTIFS($C$3:$C$10,$A31)*COUNTIFS($C$3:$C$10,B$17) + COUNTIFS($D$3:$D$10,$A31)*COUNTIFS($D$3:$D$10,B$17) + COUNTIFS($E$3:$E$10,$A31)*COUNTIFS($E$3:$E$10,B$17) + COUNTIFS($F$3:$F$10,$A31)*COUNTIFS($F$3:$F$10,B$17) + COUNTIFS($G$3:$G$10,$A31)*COUNTIFS($G$3:$G$10,B$17) + COUNTIFS($H$3:$H$10,$A31)*COUNTIFS($H$3:$H$10,B$17) + COUNTIFS($I$3:$I$10,$A31)*COUNTIFS($I$3:$I$10,B$17) + COUNTIFS($J$3:$J$10,$A31)*COUNTIFS($J$3:$J$10,B$17) + COUNTIFS($K$3:$K$10,$A31)*COUNTIFS($K$3:$K$10,B$17) + COUNTIFS($L$3:$L$10,$A31)*COUNTIFS($L$3:$L$10,B$17) + COUNTIFS($M$3:$M$10,$A31)*COUNTIFS($M$3:$M$10,B$17) + COUNTIFS($N$3:$N$10,$A31)*COUNTIFS($N$3:$N$10,B$17) + COUNTIFS($O$3:$O$10,$A31)*COUNTIFS($O$3:$O$10,B$17) + COUNTIFS($P$3:$P$10,$A31)*COUNTIFS($P$3:$P$10,B$17) + COUNTIFS($Q$3:$Q$10,$A31)*COUNTIFS($Q$3:$Q$10,B$17) + COUNTIFS($R$3:$R$10,$A31)*COUNTIFS($R$3:$R$10,B$17) + COUNTIFS($S$3:$S$10,$A31)*COUNTIFS($S$3:$S$10,B$17) + COUNTIFS($T$3:$T$10,$A31)*COUNTIFS($T$3:$T$10,B$17) + COUNTIFS($U$3:$U$10,$A31)*COUNTIFS($U$3:$U$10,B$17) + COUNTIFS($V$3:$V$10,$A31)*COUNTIFS($V$3:$V$10,B$17) + COUNTIFS($W$3:$W$10,$A31)*COUNTIFS($W$3:$W$10,B$17) + COUNTIFS($X$3:$X$10,$A31)*COUNTIFS($X$3:$X$10,B$17) + COUNTIFS($Y$3:$Y$10,$A31)*COUNTIFS($Y$3:$Y$10,B$17) -> 0 | C31: =COUNTIFS($B$3:$B$10,$A31)*COUNTIFS($B$3:$B$10,C$17) + COUNTIFS($C$3:$C$10,$A31)*COUNTIFS($C$3:$C$10,C$17) + COUNTIFS($D$3:$D$10,$A31)*COUNTIFS($D$3:$D$10,C$17) + COUNTIFS($E$3:$E$10,$A31)*COUNTIFS($E$3:$E$10,C$17) + COUNTIFS($F$3:$F$10,$A31)*COUNTIFS($F$3:$F$10,C$17) + COUNTIFS($G$3:$G$10,$A31)*COUNTIFS($G$3:$G$10,C$17) + COUNTIFS($H$3:$H$10,$A31)*COUNTIFS($H$3:$H$10,C$17) + COUNTIFS($I$3:$I$10,$A31)*COUNTIFS($I$3:$I$10,C$17) + COUNTIFS($J$3:$J$10,$A31)*COUNTIFS($J$3:$J$10,C$17) + COUNTIFS($K$3:$K$10,$A31)*COUNTIFS($K$3:$K$10,C$17) + COUNTIFS($L$3:$L$10,$A31)*COUNTIFS($L$3:$L$10,C$17) + COUNTIFS($M$3:$M$10,$A31)*COUNTIFS($M$3:$M$10,C$17) + COUNTIFS($N$3:$N$10,$A31)*COUNTIFS($N$3:$N$10,C$17) + COUNTIFS($O$3:$O$10,$A31)*COUNTIFS($O$3:$O$10,C$17) + COUNTIFS($P$3:$P$10,$A31)*COUNTIFS($P$3:$P$10,C$17) + COUNTIFS($Q$3:$Q$10,$A31)*COUNTIFS($Q$3:$Q$10,C$17) + COUNTIFS($R$3:$R$10,$A31)*COUNTIFS($R$3:$R$10,C$17) + COUNTIFS($S$3:$S$10,$A31)*COUNTIFS($S$3:$S$10,C$17) + COUNTIFS($T$3:$T$10,$A31)*COUNTIFS($T$3:$T$10,C$17) + COUNTIFS($U$3:$U$10,$A31)*COUNTIFS($U$3:$U$10,C$17) + COUNTIFS($V$3:$V$10,$A31)*COUNTIFS($V$3:$V$10,C$17) + COUNTIFS($W$3:$W$10,$A31)*COUNTIFS($W$3:$W$10,C$17) + COUNTIFS($X$3:$X$10,$A31)*COUNTIFS($X$3:$X$10,C$17) + COUNTIFS($Y$3:$Y$10,$A31)*COUNTIFS($Y$3:$Y$10,C$17) -> 0 | D31: =COUNTIFS($B$3:$B$10,$A31)*COUNTIFS($B$3:$B$10,D$17) + COUNTIFS($C$3:$C$10,$A31)*COUNTIFS($C$3:$C$10,D$17) + COUNTIFS($D$3:$D$10,$A31)*COUNTIFS($D$3:$D$10,D$17) + COUNTIFS($E$3:$E$10,$A31)*COUNTIFS($E$3:$E$10,D$17) + COUNTIFS($F$3:$F$10,$A31)*COUNTIFS($F$3:$F$10,D$17) + COUNTIFS($G$3:$G$10,$A31)*COUNTIFS($G$3:$G$10,D$17) + COUNTIFS($H$3:$H$10,$A31)*COUNTIFS($H$3:$H$10,D$17) + COUNTIFS($I$3:$I$10,$A31)*COUNTIFS($I$3:$I$10,D$17) + COUNTIFS($J$3:$J$10,$A31)*COUNTIFS($J$3:$J$10,D$17) + COUNTIFS($K$3:$K$10,$A31)*COUNTIFS($K$3:$K$10,D$17) + COUNTIFS($L$3:$L$10,$A31)*COUNTIFS($L$3:$L$10,D$17) + COUNTIFS($M$3:$M$10,$A31)*COUNTIFS($M$3:$M$10,D$17) + COUNTIFS($N$3:$N$10,$A31)*COUNTIFS($N$3:$N$10,D$17) + COUNTIFS($O$3:$O$10,$A31)*COUNTIFS($O$3:$O$10,D$17) + COUNTIFS($P$3:$P$10,$A31)*COUNTIFS($P$3:$P$10,D$17) + COUNTIFS($Q$3:$Q$10,$A31)*COUNTIFS($Q$3:$Q$10,D$17) + COUNTIFS($R$3:$R$10,$A31)*COUNTIFS($R$3:$R$10,D$17) + COUNTIFS($S$3:$S$10,$A31)*COUNTIFS($S$3:$S$10,D$17) + COUNTIFS($T$3:$T$10,$A31)*COUNTIFS($T$3:$T$10,D$17) + COUNTIFS($U$3:$U$10,$A31)*COUNTIFS($U$3:$U$10,D$17) + COUNTIFS($V$3:$V$10,$A31)*COUNTIFS($V$3:$V$10,D$17) + COUNTIFS($W$3:$W$10,$A31)*COUNTIFS($W$3:$W$10,D$17) + COUNTIFS($X$3:$X$10,$A31)*COUNTIFS($X$3:$X$10,D$17) + COUNTIFS($Y$3:$Y$10,$A31)*COUNTIFS($Y$3:$Y$10,D$17) -> 0 | E31: =COUNTIFS($B$3:$B$10,$A31)*COUNTIFS($B$3:$B$10,E$17) + COUNTIFS($C$3:$C$10,$A31)*COUNTIFS($C$3:$C$10,E$17) + COUNTIFS($D$3:$D$10,$A31)*COUNTIFS($D$3:$D$10,E$17) + COUNTIFS($E$3:$E$10,$A31)*COUNTIFS($E$3:$E$10,E$17) + COUNTIFS($F$3:$F$10,$A31)*COUNTIFS($F$3:$F$10,E$17) + COUNTIFS($G$3:$G$10,$A31)*COUNTIFS($G$3:$G$10,E$17) + COUNTIFS($H$3:$H$10,$A31)*COUNTIFS($H$3:$H$10,E$17) + COUNTIFS($I$3:$I$10,$A31)*COUNTIFS($I$3:$I$10,E$17) + COUNTIFS($J$3:$J$10,$A31)*COUNTIFS($J$3:$J$10,E$17) + COUNTIFS($K$3:$K$10,$A31)*COUNTIFS($K$3:$K$10,E$17) + COUNTIFS($L$3:$L$10,$A31)*COUNTIFS($L$3:$L$10,E$17) + COUNTIFS($M$3:$M$10,$A31)*COUNTIFS($M$3:$M$10,E$17) + COUNTIFS($N$3:$N$10,$A31)*COUNTIFS($N$3:$N$10,E$17) + COUNTIFS($O$3:$O$10,$A31)*COUNTIFS($O$3:$O$10,E$17) + COUNTIFS($P$3:$P$10,$A31)*COUNTIFS($P$3:$P$10,E$17) + COUNTIFS($Q$3:$Q$10,$A31)*COUNTIFS($Q$3:$Q$10,E$17) + COUNTIFS($R$3:$R$10,$A31)*COUNTIFS($R$3:$R$10,E$17) + COUNTIFS($S$3:$S$10,$A31)*COUNTIFS($S$3:$S$10,E$17) + COUNTIFS($T$3:$T$10,$A31)*COUNTIFS($T$3:$T$10,E$17) + COUNTIFS($U$3:$U$10,$A31)*COUNTIFS($U$3:$U$10,E$17) + COUNTIFS($V$3:$V$10,$A31)*COUNTIFS($V$3:$V$10,E$17) + COUNTIFS($W$3:$W$10,$A31)*COUNTIFS($W$3:$W$10,E$17) + COUNTIFS($X$3:$X$10,$A31)*COUNTIFS($X$3:$X$10,E$17) + COUNTIFS($Y$3:$Y$10,$A31)*COUNTIFS($Y$3:$Y$10,E$17) -> 0 | F31: =COUNTIFS($B$3:$B$10,$A31)*COUNTIFS($B$3:$B$10,F$17) + COUNTIFS($C$3:$C$10,$A31)*COUNTIFS($C$3:$C$10,F$17) + COUNTIFS($D$3:$D$10,$A31)*COUNTIFS($D$3:$D$10,F$17) + COUNTIFS($E$3:$E$10,$A31)*COUNTIFS($E$3:$E$10,F$17) + COUNTIFS($F$3:$F$10,$A31)*COUNTIFS($F$3:$F$10,F$17) + COUNTIFS($G$3:$G$10,$A31)*COUNTIFS($G$3:$G$10,F$17) + COUNTIFS($H$3:$H$10,$A31)*COUNTIFS($H$3:$H$10,F$17) + COUNTIFS($I$3:$I$10,$A31)*COUNTIFS($I$3:$I$10,F$17) + COUNTIFS($J$3:$J$10,$A31)*COUNTIFS($J$3:$J$10,F$17) + COUNTIFS($K$3:$K$10,$A31)*COUNTIFS($K$3:$K$10,F$17) + COUNTIFS($L$3:$L$10,$A31)*COUNTIFS($L$3:$L$10,F$17) + COUNTIFS($M$3:$M$10,$A31)*COUNTIFS($M$3:$M$10,F$17) + COUNTIFS($N$3:$N$10,$A31)*COUNTIFS($N$3:$N$10,F$17) + COUNTIFS($O$3:$O$10,$A31)*COUNTIFS($O$3:$O$10,F$17) + COUNTIFS($P$3:$P$10,$A31)*COUNTIFS($P$3:$P$10,F$17) + COUNTIFS($Q$3:$Q$10,$A31)*COUNTIFS($Q$3:$Q$10,F$17) + COUNTIFS($R$3:$R$10,$A31)*COUNTIFS($R$3:$R$10,F$17) + COUNTIFS($S$3:$S$10,$A31)*COUNTIFS($S$3:$S$10,F$17) + COUNTIFS($T$3:$T$10,$A31)*COUNTIFS($T$3:$T$10,F$17) + COUNTIFS($U$3:$U$10,$A31)*COUNTIFS($U$3:$U$10,F$17) + COUNTIFS($V$3:$V$10,$A31)*COUNTIFS($V$3:$V$10,F$17) + COUNTIFS($W$3:$W$10,$A31)*COUNTIFS($W$3:$W$10,F$17) + COUNTIFS($X$3:$X$10,$A31)*COUNTIFS($X$3:$X$10,F$17) + COUNTIFS($Y$3:$Y$10,$A31)*COUNTIFS($Y$3:$Y$10,F$17) -> 0 | G31: =COUNTIFS($B$3:$B$10,$A31)*COUNTIFS($B$3:$B$10,G$17) + COUNTIFS($C$3:$C$10,$A31)*COUNTIFS($C$3:$C$10,G$17) + COUNTIFS($D$3:$D$10,$A31)*COUNTIFS($D$3:$D$10,G$17) + COUNTIFS($E$3:$E$10,$A31)*COUNTIFS($E$3:$E$10,G$17) + COUNTIFS($F$3:$F$10,$A31)*COUNTIFS($F$3:$F$10,G$17) + COUNTIFS($G$3:$G$10,$A31)*COUNTIFS($G$3:$G$10,G$17) + COUNTIFS($H$3:$H$10,$A31)*COUNTIFS($H$3:$H$10,G$17) + COUNTIFS($I$3:$I$10,$A31)*COUNTIFS($I$3:$I$10,G$17) + COUNTIFS($J$3:$J$10,$A31)*COUNTIFS($J$3:$J$10,G$17) + COUNTIFS($K$3:$K$10,$A31)*COUNTIFS($K$3:$K$10,G$17) + COUNTIFS($L$3:$L$10,$A31)*COUNTIFS($L$3:$L$10,G$17) + COUNTIFS($M$3:$M$10,$A31)*COUNTIFS($M$3:$M$10,G$17) + COUNTIFS($N$3:$N$10,$A31)*COUNTIFS($N$3:$N$10,G$17) + COUNTIFS($O$3:$O$10,$A31)*COUNTIFS($O$3:$O$10,G$17) + COUNTIFS($P$3:$P$10,$A31)*COUNTIFS($P$3:$P$10,G$17) + COUNTIFS($Q$3:$Q$10,$A31)*COUNTIFS($Q$3:$Q$10,G$17) + COUNTIFS($R$3:$R$10,$A31)*COUNTIFS($R$3:$R$10,G$17) + COUNTIFS($S$3:$S$10,$A31)*COUNTIFS($S$3:$S$10,G$17) + COUNTIFS($T$3:$T$10,$A31)*COUNTIFS($T$3:$T$10,G$17) + COUNTIFS($U$3:$U$10,$A31)*COUNTIFS($U$3:$U$10,G$17) + COUNTIFS($V$3:$V$10,$A31)*COUNTIFS($V$3:$V$10,G$17) + COUNTIFS($W$3:$W$10,$A31)*COUNTIFS($W$3:$W$10,G$17) + COUNTIFS($X$3:$X$10,$A31)*COUNTIFS($X$3:$X$10,G$17) + COUNTIFS($Y$3:$Y$10,$A31)*COUNTIFS($Y$3:$Y$10,G$17) -> 0 | H31: =COUNTIFS($B$3:$B$10,$A31)*COUNTIFS($B$3:$B$10,H$17) + COUNTIFS($C$3:$C$10,$A31)*COUNTIFS($C$3:$C$10,H$17) + COUNTIFS($D$3:$D$10,$A31)*COUNTIFS($D$3:$D$10,H$17) + COUNTIFS($E$3:$E$10,$A31)*COUNTIFS($E$3:$E$10,H$17) + COUNTIFS($F$3:$F$10,$A31)*COUNTIFS($F$3:$F$10,H$17) + COUNTIFS($G$3:$G$10,$A31)*COUNTIFS($G$3:$G$10,H$17) + COUNTIFS($H$3:$H$10,$A31)*COUNTIFS($H$3:$H$10,H$17) + COUNTIFS($I$3:$I$10,$A31)*COUNTIFS($I$3:$I$10,H$17) + COUNTIFS($J$3:$J$10,$A31)*COUNTIFS($J$3:$J$10,H$17) + COUNTIFS($K$3:$K$10,$A31)*COUNTIFS($K$3:$K$10,H$17) + COUNTIFS($L$3:$L$10,$A31)*COUNTIFS($L$3:$L$10,H$17) + COUNTIFS($M$3:$M$10,$A31)*COUNTIFS($M$3:$M$10,H$17) + COUNTIFS($N$3:$N$10,$A31)*COUNTIFS($N$3:$N$10,H$17) + COUNTIFS($O$3:$O$10,$A31)*COUNTIFS($O$3:$O$10,H$17) + COUNTIFS($P$3:$P$10,$A31)*COUNTIFS($P$3:$P$10,H$17) + COUNTIFS($Q$3:$Q$10,$A31)*COUNTIFS($Q$3:$Q$10,H$17) + COUNTIFS($R$3:$R$10,$A31)*COUNTIFS($R$3:$R$10,H$17) + COUNTIFS($S$3:$S$10,$A31)*COUNTIFS($S$3:$S$10,H$17) + COUNTIFS($T$3:$T$10,$A31)*COUNTIFS($T$3:$T$10,H$17) + COUNTIFS($U$3:$U$10,$A31)*COUNTIFS($U$3:$U$10,H$17) + COUNTIFS($V$3:$V$10,$A31)*COUNTIFS($V$3:$V$10,H$17) + COUNTIFS($W$3:$W$10,$A31)*COUNTIFS($W$3:$W$10,H$17) + COUNTIFS($X$3:$X$10,$A31)*COUNTIFS($X$3:$X$10,H$17) + COUNTIFS($Y$3:$Y$10,$A31)*COUNTIFS($Y$3:$Y$10,H$17) -> 0 | I31: =COUNTIFS($B$3:$B$10,$A31)*COUNTIFS($B$3:$B$10,I$17) + COUNTIFS($C$3:$C$10,$A31)*COUNTIFS($C$3:$C$10,I$17) + COUNTIFS($D$3:$D$10,$A31)*COUNTIFS($D$3:$D$10,I$17) + COUNTIFS($E$3:$E$10,$A31)*COUNTIFS($E$3:$E$10,I$17) + COUNTIFS($F$3:$F$10,$A31)*COUNTIFS($F$3:$F$10,I$17) + COUNTIFS($G$3:$G$10,$A31)*COUNTIFS($G$3:$G$10,I$17) + COUNTIFS($H$3:$H$10,$A31)*COUNTIFS($H$3:$H$10,I$17) + COUNTIFS($I$3:$I$10,$A31)*COUNTIFS($I$3:$I$10,I$17) + COUNTIFS($J$3:$J$10,$A31)*COUNTIFS($J$3:$J$10,I$17) + COUNTIFS($K$3:$K$10,$A31)*COUNTIFS($K$3:$K$10,I$17) + COUNTIFS($L$3:$L$10,$A31)*COUNTIFS($L$3:$L$10,I$17) + COUNTIFS($M$3:$M$10,$A31)*COUNTIFS($M$3:$M$10,I$17) + COUNTIFS($N$3:$N$10,$A31)*COUNTIFS($N$3:$N$10,I$17) + COUNTIFS($O$3:$O$10,$A31)*COUNTIFS($O$3:$O$10,I$17) + COUNTIFS($P$3:$P$10,$A31)*COUNTIFS($P$3:$P$10,I$17) + COUNTIFS($Q$3:$Q$10,$A31)*COUNTIFS($Q$3:$Q$10,I$17) + COUNTIFS($R$3:$R$10,$A31)*COUNTIFS($R$3:$R$10,I$17) + COUNTIFS($S$3:$S$10,$A31)*COUNTIFS($S$3:$S$10,I$17) + COUNTIFS($T$3:$T$10,$A31)*COUNTIFS($T$3:$T$10,I$17) + COUNTIFS($U$3:$U$10,$A31)*COUNTIFS($U$3:$U$10,I$17) + COUNTIFS($V$3:$V$10,$A31)*COUNTIFS($V$3:$V$10,I$17) + COUNTIFS($W$3:$W$10,$A31)*COUNTIFS($W$3:$W$10,I$17) + COUNTIFS($X$3:$X$10,$A31)*COUNTIFS($X$3:$X$10,I$17) + COUNTIFS($Y$3:$Y$10,$A31)*COUNTIFS($Y$3:$Y$10,I$17) -> 0 | ... T31: =COUNTIFS($B$3:$B$10,$A31)*COUNTIFS($B$3:$B$10,T$17) + COUNTIFS($C$3:$C$10,$A31)*COUNTIFS($C$3:$C$10,T$17) + COUNTIFS($D$3:$D$10,$A31)*COUNTIFS($D$3:$D$10,T$17) + COUNTIFS($E$3:$E$10,$A31)*COUNTIFS($E$3:$E$10,T$17) + COUNTIFS($F$3:$F$10,$A31)*COUNTIFS($F$3:$F$10,T$17) + COUNTIFS($G$3:$G$10,$A31)*COUNTIFS($G$3:$G$10,T$17) + COUNTIFS($H$3:$H$10,$A31)*COUNTIFS($H$3:$H$10,T$17) + COUNTIFS($I$3:$I$10,$A31)*COUNTIFS($I$3:$I$10,T$17) + COUNTIFS($J$3:$J$10,$A31)*COUNTIFS($J$3:$J$10,T$17) + COUNTIFS($K$3:$K$10,$A31)*COUNTIFS($K$3:$K$10,T$17) + COUNTIFS($L$3:$L$10,$A31)*COUNTIFS($L$3:$L$10,T$17) + COUNTIFS($M$3:$M$10,$A31)*COUNTIFS($M$3:$M$10,T$17) + COUNTIFS($N$3:$N$10,$A31)*COUNTIFS($N$3:$N$10,T$17) + COUNTIFS($O$3:$O$10,$A31)*COUNTIFS($O$3:$O$10,T$17) + COUNTIFS($P$3:$P$10,$A31)*COUNTIFS($P$3:$P$10,T$17) + COUNTIFS($Q$3:$Q$10,$A31)*COUNTIFS($Q$3:$Q$10,T$17) + COUNTIFS($R$3:$R$10,$A31)*COUNTIFS($R$3:$R$10,T$17) + COUNTIFS($S$3:$S$10,$A31)*COUNTIFS($S$3:$S$10,T$17) + COUNTIFS($T$3:$T$10,$A31)*COUNTIFS($T$3:$T$10,T$17) + COUNTIFS($U$3:$U$10,$A31)*COUNTIFS($U$3:$U$10,T$17) + COUNTIFS($V$3:$V$10,$A31)*COUNTIFS($V$3:$V$10,T$17) + COUNTIFS($W$3:$W$10,$A31)*COUNTIFS($W$3:$W$10,T$17) + COUNTIFS($X$3:$X$10,$A31)*COUNTIFS($X$3:$X$10,T$17) + COUNTIFS($Y$3:$Y$10,$A31)*COUNTIFS($Y$3:$Y$10,T$17) -> 0
A32: 15 | B32: =COUNTIFS($B$3:$B$10,$A32)*COUNTIFS($B$3:$B$10,B$17) + COUNTIFS($C$3:$C$10,$A32)*COUNTIFS($C$3:$C$10,B$17) + COUNTIFS($D$3:$D$10,$A32)*COUNTIFS($D$3:$D$10,B$17) + COUNTIFS($E$3:$E$10,$A32)*COUNTIFS($E$3:$E$10,B$17) + COUNTIFS($F$3:$F$10,$A32)*COUNTIFS($F$3:$F$10,B$17) + COUNTIFS($G$3:$G$10,$A32)*COUNTIFS($G$3:$G$10,B$17) + COUNTIFS($H$3:$H$10,$A32)*COUNTIFS($H$3:$H$10,B$17) + COUNTIFS($I$3:$I$10,$A32)*COUNTIFS($I$3:$I$10,B$17) + COUNTIFS($J$3:$J$10,$A32)*COUNTIFS($J$3:$J$10,B$17) + COUNTIFS($K$3:$K$10,$A32)*COUNTIFS($K$3:$K$10,B$17) + COUNTIFS($L$3:$L$10,$A32)*COUNTIFS($L$3:$L$10,B$17) + COUNTIFS($M$3:$M$10,$A32)*COUNTIFS($M$3:$M$10,B$17) + COUNTIFS($N$3:$N$10,$A32)*COUNTIFS($N$3:$N$10,B$17) + COUNTIFS($O$3:$O$10,$A32)*COUNTIFS($O$3:$O$10,B$17) + COUNTIFS($P$3:$P$10,$A32)*COUNTIFS($P$3:$P$10,B$17) + COUNTIFS($Q$3:$Q$10,$A32)*COUNTIFS($Q$3:$Q$10,B$17) + COUNTIFS($R$3:$R$10,$A32)*COUNTIFS($R$3:$R$10,B$17) + COUNTIFS($S$3:$S$10,$A32)*COUNTIFS($S$3:$S$10,B$17) + COUNTIFS($T$3:$T$10,$A32)*COUNTIFS($T$3:$T$10,B$17) + COUNTIFS($U$3:$U$10,$A32)*COUNTIFS($U$3:$U$10,B$17) + COUNTIFS($V$3:$V$10,$A32)*COUNTIFS($V$3:$V$10,B$17) + COUNTIFS($W$3:$W$10,$A32)*COUNTIFS($W$3:$W$10,B$17) + COUNTIFS($X$3:$X$10,$A32)*COUNTIFS($X$3:$X$10,B$17) + COUNTIFS($Y$3:$Y$10,$A32)*COUNTIFS($Y$3:$Y$10,B$17) -> 0 | C32: =COUNTIFS($B$3:$B$10,$A32)*COUNTIFS($B$3:$B$10,C$17) + COUNTIFS($C$3:$C$10,$A32)*COUNTIFS($C$3:$C$10,C$17) + COUNTIFS($D$3:$D$10,$A32)*COUNTIFS($D$3:$D$10,C$17) + COUNTIFS($E$3:$E$10,$A32)*COUNTIFS($E$3:$E$10,C$17) + COUNTIFS($F$3:$F$10,$A32)*COUNTIFS($F$3:$F$10,C$17) + COUNTIFS($G$3:$G$10,$A32)*COUNTIFS($G$3:$G$10,C$17) + COUNTIFS($H$3:$H$10,$A32)*COUNTIFS($H$3:$H$10,C$17) + COUNTIFS($I$3:$I$10,$A32)*COUNTIFS($I$3:$I$10,C$17) + COUNTIFS($J$3:$J$10,$A32)*COUNTIFS($J$3:$J$10,C$17) + COUNTIFS($K$3:$K$10,$A32)*COUNTIFS($K$3:$K$10,C$17) + COUNTIFS($L$3:$L$10,$A32)*COUNTIFS($L$3:$L$10,C$17) + COUNTIFS($M$3:$M$10,$A32)*COUNTIFS($M$3:$M$10,C$17) + COUNTIFS($N$3:$N$10,$A32)*COUNTIFS($N$3:$N$10,C$17) + COUNTIFS($O$3:$O$10,$A32)*COUNTIFS($O$3:$O$10,C$17) + COUNTIFS($P$3:$P$10,$A32)*COUNTIFS($P$3:$P$10,C$17) + COUNTIFS($Q$3:$Q$10,$A32)*COUNTIFS($Q$3:$Q$10,C$17) + COUNTIFS($R$3:$R$10,$A32)*COUNTIFS($R$3:$R$10,C$17) + COUNTIFS($S$3:$S$10,$A32)*COUNTIFS($S$3:$S$10,C$17) + COUNTIFS($T$3:$T$10,$A32)*COUNTIFS($T$3:$T$10,C$17) + COUNTIFS($U$3:$U$10,$A32)*COUNTIFS($U$3:$U$10,C$17) + COUNTIFS($V$3:$V$10,$A32)*COUNTIFS($V$3:$V$10,C$17) + COUNTIFS($W$3:$W$10,$A32)*COUNTIFS($W$3:$W$10,C$17) + COUNTIFS($X$3:$X$10,$A32)*COUNTIFS($X$3:$X$10,C$17) + COUNTIFS($Y$3:$Y$10,$A32)*COUNTIFS($Y$3:$Y$10,C$17) -> 0 | D32: =COUNTIFS($B$3:$B$10,$A32)*COUNTIFS($B$3:$B$10,D$17) + COUNTIFS($C$3:$C$10,$A32)*COUNTIFS($C$3:$C$10,D$17) + COUNTIFS($D$3:$D$10,$A32)*COUNTIFS($D$3:$D$10,D$17) + COUNTIFS($E$3:$E$10,$A32)*COUNTIFS($E$3:$E$10,D$17) + COUNTIFS($F$3:$F$10,$A32)*COUNTIFS($F$3:$F$10,D$17) + COUNTIFS($G$3:$G$10,$A32)*COUNTIFS($G$3:$G$10,D$17) + COUNTIFS($H$3:$H$10,$A32)*COUNTIFS($H$3:$H$10,D$17) + COUNTIFS($I$3:$I$10,$A32)*COUNTIFS($I$3:$I$10,D$17) + COUNTIFS($J$3:$J$10,$A32)*COUNTIFS($J$3:$J$10,D$17) + COUNTIFS($K$3:$K$10,$A32)*COUNTIFS($K$3:$K$10,D$17) + COUNTIFS($L$3:$L$10,$A32)*COUNTIFS($L$3:$L$10,D$17) + COUNTIFS($M$3:$M$10,$A32)*COUNTIFS($M$3:$M$10,D$17) + COUNTIFS($N$3:$N$10,$A32)*COUNTIFS($N$3:$N$10,D$17) + COUNTIFS($O$3:$O$10,$A32)*COUNTIFS($O$3:$O$10,D$17) + COUNTIFS($P$3:$P$10,$A32)*COUNTIFS($P$3:$P$10,D$17) + COUNTIFS($Q$3:$Q$10,$A32)*COUNTIFS($Q$3:$Q$10,D$17) + COUNTIFS($R$3:$R$10,$A32)*COUNTIFS($R$3:$R$10,D$17) + COUNTIFS($S$3:$S$10,$A32)*COUNTIFS($S$3:$S$10,D$17) + COUNTIFS($T$3:$T$10,$A32)*COUNTIFS($T$3:$T$10,D$17) + COUNTIFS($U$3:$U$10,$A32)*COUNTIFS($U$3:$U$10,D$17) + COUNTIFS($V$3:$V$10,$A32)*COUNTIFS($V$3:$V$10,D$17) + COUNTIFS($W$3:$W$10,$A32)*COUNTIFS($W$3:$W$10,D$17) + COUNTIFS($X$3:$X$10,$A32)*COUNTIFS($X$3:$X$10,D$17) + COUNTIFS($Y$3:$Y$10,$A32)*COUNTIFS($Y$3:$Y$10,D$17) -> 0 | E32: =COUNTIFS($B$3:$B$10,$A32)*COUNTIFS($B$3:$B$10,E$17) + COUNTIFS($C$3:$C$10,$A32)*COUNTIFS($C$3:$C$10,E$17) + COUNTIFS($D$3:$D$10,$A32)*COUNTIFS($D$3:$D$10,E$17) + COUNTIFS($E$3:$E$10,$A32)*COUNTIFS($E$3:$E$10,E$17) + COUNTIFS($F$3:$F$10,$A32)*COUNTIFS($F$3:$F$10,E$17) + COUNTIFS($G$3:$G$10,$A32)*COUNTIFS($G$3:$G$10,E$17) + COUNTIFS($H$3:$H$10,$A32)*COUNTIFS($H$3:$H$10,E$17) + COUNTIFS($I$3:$I$10,$A32)*COUNTIFS($I$3:$I$10,E$17) + COUNTIFS($J$3:$J$10,$A32)*COUNTIFS($J$3:$J$10,E$17) + COUNTIFS($K$3:$K$10,$A32)*COUNTIFS($K$3:$K$10,E$17) + COUNTIFS($L$3:$L$10,$A32)*COUNTIFS($L$3:$L$10,E$17) + COUNTIFS($M$3:$M$10,$A32)*COUNTIFS($M$3:$M$10,E$17) + COUNTIFS($N$3:$N$10,$A32)*COUNTIFS($N$3:$N$10,E$17) + COUNTIFS($O$3:$O$10,$A32)*COUNTIFS($O$3:$O$10,E$17) + COUNTIFS($P$3:$P$10,$A32)*COUNTIFS($P$3:$P$10,E$17) + COUNTIFS($Q$3:$Q$10,$A32)*COUNTIFS($Q$3:$Q$10,E$17) + COUNTIFS($R$3:$R$10,$A32)*COUNTIFS($R$3:$R$10,E$17) + COUNTIFS($S$3:$S$10,$A32)*COUNTIFS($S$3:$S$10,E$17) + COUNTIFS($T$3:$T$10,$A32)*COUNTIFS($T$3:$T$10,E$17) + COUNTIFS($U$3:$U$10,$A32)*COUNTIFS($U$3:$U$10,E$17) + COUNTIFS($V$3:$V$10,$A32)*COUNTIFS($V$3:$V$10,E$17) + COUNTIFS($W$3:$W$10,$A32)*COUNTIFS($W$3:$W$10,E$17) + COUNTIFS($X$3:$X$10,$A32)*COUNTIFS($X$3:$X$10,E$17) + COUNTIFS($Y$3:$Y$10,$A32)*COUNTIFS($Y$3:$Y$10,E$17) -> 0 | F32: =COUNTIFS($B$3:$B$10,$A32)*COUNTIFS($B$3:$B$10,F$17) + COUNTIFS($C$3:$C$10,$A32)*COUNTIFS($C$3:$C$10,F$17) + COUNTIFS($D$3:$D$10,$A32)*COUNTIFS($D$3:$D$10,F$17) + COUNTIFS($E$3:$E$10,$A32)*COUNTIFS($E$3:$E$10,F$17) + COUNTIFS($F$3:$F$10,$A32)*COUNTIFS($F$3:$F$10,F$17) + COUNTIFS($G$3:$G$10,$A32)*COUNTIFS($G$3:$G$10,F$17) + COUNTIFS($H$3:$H$10,$A32)*COUNTIFS($H$3:$H$10,F$17) + COUNTIFS($I$3:$I$10,$A32)*COUNTIFS($I$3:$I$10,F$17) + COUNTIFS($J$3:$J$10,$A32)*COUNTIFS($J$3:$J$10,F$17) + COUNTIFS($K$3:$K$10,$A32)*COUNTIFS($K$3:$K$10,F$17) + COUNTIFS($L$3:$L$10,$A32)*COUNTIFS($L$3:$L$10,F$17) + COUNTIFS($M$3:$M$10,$A32)*COUNTIFS($M$3:$M$10,F$17) + COUNTIFS($N$3:$N$10,$A32)*COUNTIFS($N$3:$N$10,F$17) + COUNTIFS($O$3:$O$10,$A32)*COUNTIFS($O$3:$O$10,F$17) + COUNTIFS($P$3:$P$10,$A32)*COUNTIFS($P$3:$P$10,F$17) + COUNTIFS($Q$3:$Q$10,$A32)*COUNTIFS($Q$3:$Q$10,F$17) + COUNTIFS($R$3:$R$10,$A32)*COUNTIFS($R$3:$R$10,F$17) + COUNTIFS($S$3:$S$10,$A32)*COUNTIFS($S$3:$S$10,F$17) + COUNTIFS($T$3:$T$10,$A32)*COUNTIFS($T$3:$T$10,F$17) + COUNTIFS($U$3:$U$10,$A32)*COUNTIFS($U$3:$U$10,F$17) + COUNTIFS($V$3:$V$10,$A32)*COUNTIFS($V$3:$V$10,F$17) + COUNTIFS($W$3:$W$10,$A32)*COUNTIFS($W$3:$W$10,F$17) + COUNTIFS($X$3:$X$10,$A32)*COUNTIFS($X$3:$X$10,F$17) + COUNTIFS($Y$3:$Y$10,$A32)*COUNTIFS($Y$3:$Y$10,F$17) -> 0 | G32: =COUNTIFS($B$3:$B$10,$A32)*COUNTIFS($B$3:$B$10,G$17) + COUNTIFS($C$3:$C$10,$A32)*COUNTIFS($C$3:$C$10,G$17) + COUNTIFS($D$3:$D$10,$A32)*COUNTIFS($D$3:$D$10,G$17) + COUNTIFS($E$3:$E$10,$A32)*COUNTIFS($E$3:$E$10,G$17) + COUNTIFS($F$3:$F$10,$A32)*COUNTIFS($F$3:$F$10,G$17) + COUNTIFS($G$3:$G$10,$A32)*COUNTIFS($G$3:$G$10,G$17) + COUNTIFS($H$3:$H$10,$A32)*COUNTIFS($H$3:$H$10,G$17) + COUNTIFS($I$3:$I$10,$A32)*COUNTIFS($I$3:$I$10,G$17) + COUNTIFS($J$3:$J$10,$A32)*COUNTIFS($J$3:$J$10,G$17) + COUNTIFS($K$3:$K$10,$A32)*COUNTIFS($K$3:$K$10,G$17) + COUNTIFS($L$3:$L$10,$A32)*COUNTIFS($L$3:$L$10,G$17) + COUNTIFS($M$3:$M$10,$A32)*COUNTIFS($M$3:$M$10,G$17) + COUNTIFS($N$3:$N$10,$A32)*COUNTIFS($N$3:$N$10,G$17) + COUNTIFS($O$3:$O$10,$A32)*COUNTIFS($O$3:$O$10,G$17) + COUNTIFS($P$3:$P$10,$A32)*COUNTIFS($P$3:$P$10,G$17) + COUNTIFS($Q$3:$Q$10,$A32)*COUNTIFS($Q$3:$Q$10,G$17) + COUNTIFS($R$3:$R$10,$A32)*COUNTIFS($R$3:$R$10,G$17) + COUNTIFS($S$3:$S$10,$A32)*COUNTIFS($S$3:$S$10,G$17) + COUNTIFS($T$3:$T$10,$A32)*COUNTIFS($T$3:$T$10,G$17) + COUNTIFS($U$3:$U$10,$A32)*COUNTIFS($U$3:$U$10,G$17) + COUNTIFS($V$3:$V$10,$A32)*COUNTIFS($V$3:$V$10,G$17) + COUNTIFS($W$3:$W$10,$A32)*COUNTIFS($W$3:$W$10,G$17) + COUNTIFS($X$3:$X$10,$A32)*COUNTIFS($X$3:$X$10,G$17) + COUNTIFS($Y$3:$Y$10,$A32)*COUNTIFS($Y$3:$Y$10,G$17) -> 0 | H32: =COUNTIFS($B$3:$B$10,$A32)*COUNTIFS($B$3:$B$10,H$17) + COUNTIFS($C$3:$C$10,$A32)*COUNTIFS($C$3:$C$10,H$17) + COUNTIFS($D$3:$D$10,$A32)*COUNTIFS($D$3:$D$10,H$17) + COUNTIFS($E$3:$E$10,$A32)*COUNTIFS($E$3:$E$10,H$17) + COUNTIFS($F$3:$F$10,$A32)*COUNTIFS($F$3:$F$10,H$17) + COUNTIFS($G$3:$G$10,$A32)*COUNTIFS($G$3:$G$10,H$17) + COUNTIFS($H$3:$H$10,$A32)*COUNTIFS($H$3:$H$10,H$17) + COUNTIFS($I$3:$I$10,$A32)*COUNTIFS($I$3:$I$10,H$17) + COUNTIFS($J$3:$J$10,$A32)*COUNTIFS($J$3:$J$10,H$17) + COUNTIFS($K$3:$K$10,$A32)*COUNTIFS($K$3:$K$10,H$17) + COUNTIFS($L$3:$L$10,$A32)*COUNTIFS($L$3:$L$10,H$17) + COUNTIFS($M$3:$M$10,$A32)*COUNTIFS($M$3:$M$10,H$17) + COUNTIFS($N$3:$N$10,$A32)*COUNTIFS($N$3:$N$10,H$17) + COUNTIFS($O$3:$O$10,$A32)*COUNTIFS($O$3:$O$10,H$17) + COUNTIFS($P$3:$P$10,$A32)*COUNTIFS($P$3:$P$10,H$17) + COUNTIFS($Q$3:$Q$10,$A32)*COUNTIFS($Q$3:$Q$10,H$17) + COUNTIFS($R$3:$R$10,$A32)*COUNTIFS($R$3:$R$10,H$17) + COUNTIFS($S$3:$S$10,$A32)*COUNTIFS($S$3:$S$10,H$17) + COUNTIFS($T$3:$T$10,$A32)*COUNTIFS($T$3:$T$10,H$17) + COUNTIFS($U$3:$U$10,$A32)*COUNTIFS($U$3:$U$10,H$17) + COUNTIFS($V$3:$V$10,$A32)*COUNTIFS($V$3:$V$10,H$17) + COUNTIFS($W$3:$W$10,$A32)*COUNTIFS($W$3:$W$10,H$17) + COUNTIFS($X$3:$X$10,$A32)*COUNTIFS($X$3:$X$10,H$17) + COUNTIFS($Y$3:$Y$10,$A32)*COUNTIFS($Y$3:$Y$10,H$17) -> 0 | I32: =COUNTIFS($B$3:$B$10,$A32)*COUNTIFS($B$3:$B$10,I$17) + COUNTIFS($C$3:$C$10,$A32)*COUNTIFS($C$3:$C$10,I$17) + COUNTIFS($D$3:$D$10,$A32)*COUNTIFS($D$3:$D$10,I$17) + COUNTIFS($E$3:$E$10,$A32)*COUNTIFS($E$3:$E$10,I$17) + COUNTIFS($F$3:$F$10,$A32)*COUNTIFS($F$3:$F$10,I$17) + COUNTIFS($G$3:$G$10,$A32)*COUNTIFS($G$3:$G$10,I$17) + COUNTIFS($H$3:$H$10,$A32)*COUNTIFS($H$3:$H$10,I$17) + COUNTIFS($I$3:$I$10,$A32)*COUNTIFS($I$3:$I$10,I$17) + COUNTIFS($J$3:$J$10,$A32)*COUNTIFS($J$3:$J$10,I$17) + COUNTIFS($K$3:$K$10,$A32)*COUNTIFS($K$3:$K$10,I$17) + COUNTIFS($L$3:$L$10,$A32)*COUNTIFS($L$3:$L$10,I$17) + COUNTIFS($M$3:$M$10,$A32)*COUNTIFS($M$3:$M$10,I$17) + COUNTIFS($N$3:$N$10,$A32)*COUNTIFS($N$3:$N$10,I$17) + COUNTIFS($O$3:$O$10,$A32)*COUNTIFS($O$3:$O$10,I$17) + COUNTIFS($P$3:$P$10,$A32)*COUNTIFS($P$3:$P$10,I$17) + COUNTIFS($Q$3:$Q$10,$A32)*COUNTIFS($Q$3:$Q$10,I$17) + COUNTIFS($R$3:$R$10,$A32)*COUNTIFS($R$3:$R$10,I$17) + COUNTIFS($S$3:$S$10,$A32)*COUNTIFS($S$3:$S$10,I$17) + COUNTIFS($T$3:$T$10,$A32)*COUNTIFS($T$3:$T$10,I$17) + COUNTIFS($U$3:$U$10,$A32)*COUNTIFS($U$3:$U$10,I$17) + COUNTIFS($V$3:$V$10,$A32)*COUNTIFS($V$3:$V$10,I$17) + COUNTIFS($W$3:$W$10,$A32)*COUNTIFS($W$3:$W$10,I$17) + COUNTIFS($X$3:$X$10,$A32)*COUNTIFS($X$3:$X$10,I$17) + COUNTIFS($Y$3:$Y$10,$A32)*COUNTIFS($Y$3:$Y$10,I$17) -> 0 | ... T32: =COUNTIFS($B$3:$B$10,$A32)*COUNTIFS($B$3:$B$10,T$17) + COUNTIFS($C$3:$C$10,$A32)*COUNTIFS($C$3:$C$10,T$17) + COUNTIFS($D$3:$D$10,$A32)*COUNTIFS($D$3:$D$10,T$17) + COUNTIFS($E$3:$E$10,$A32)*COUNTIFS($E$3:$E$10,T$17) + COUNTIFS($F$3:$F$10,$A32)*COUNTIFS($F$3:$F$10,T$17) + COUNTIFS($G$3:$G$10,$A32)*COUNTIFS($G$3:$G$10,T$17) + COUNTIFS($H$3:$H$10,$A32)*COUNTIFS($H$3:$H$10,T$17) + COUNTIFS($I$3:$I$10,$A32)*COUNTIFS($I$3:$I$10,T$17) + COUNTIFS($J$3:$J$10,$A32)*COUNTIFS($J$3:$J$10,T$17) + COUNTIFS($K$3:$K$10,$A32)*COUNTIFS($K$3:$K$10,T$17) + COUNTIFS($L$3:$L$10,$A32)*COUNTIFS($L$3:$L$10,T$17) + COUNTIFS($M$3:$M$10,$A32)*COUNTIFS($M$3:$M$10,T$17) + COUNTIFS($N$3:$N$10,$A32)*COUNTIFS($N$3:$N$10,T$17) + COUNTIFS($O$3:$O$10,$A32)*COUNTIFS($O$3:$O$10,T$17) + COUNTIFS($P$3:$P$10,$A32)*COUNTIFS($P$3:$P$10,T$17) + COUNTIFS($Q$3:$Q$10,$A32)*COUNTIFS($Q$3:$Q$10,T$17) + COUNTIFS($R$3:$R$10,$A32)*COUNTIFS($R$3:$R$10,T$17) + COUNTIFS($S$3:$S$10,$A32)*COUNTIFS($S$3:$S$10,T$17) + COUNTIFS($T$3:$T$10,$A32)*COUNTIFS($T$3:$T$10,T$17) + COUNTIFS($U$3:$U$10,$A32)*COUNTIFS($U$3:$U$10,T$17) + COUNTIFS($V$3:$V$10,$A32)*COUNTIFS($V$3:$V$10,T$17) + COUNTIFS($W$3:$W$10,$A32)*COUNTIFS($W$3:$W$10,T$17) + COUNTIFS($X$3:$X$10,$A32)*COUNTIFS($X$3:$X$10,T$17) + COUNTIFS($Y$3:$Y$10,$A32)*COUNTIFS($Y$3:$Y$10,T$17) -> 0
